BEGIN:VCALENDAR
VERSION:2.0
PRODID:-//Royal Canadian Legion Branch 499 (Angus) - ECPv6.15.17//NONSGML v1.0//EN
CALSCALE:GREGORIAN
METHOD:PUBLISH
X-ORIGINAL-URL:https://www.anguslegion499.ca
X-WR-CALDESC:Events for Royal Canadian Legion Branch 499 (Angus)
REFRESH-INTERVAL;VALUE=DURATION:PT1H
X-Robots-Tag:noindex
X-PUBLISHED-TTL:PT1H
BEGIN:VTIMEZONE
TZID:America/Toronto
BEGIN:DAYLIGHT
TZOFFSETFROM:-0500
TZOFFSETTO:-0400
TZNAME:EDT
DTSTART:20260308T070000
END:DAYLIGHT
BEGIN:STANDARD
TZOFFSETFROM:-0400
TZOFFSETTO:-0500
TZNAME:EST
DTSTART:20261101T060000
END:STANDARD
BEGIN:DAYLIGHT
TZOFFSETFROM:-0500
TZOFFSETTO:-0400
TZNAME:EDT
DTSTART:20270314T070000
END:DAYLIGHT
BEGIN:STANDARD
TZOFFSETFROM:-0400
TZOFFSETTO:-0500
TZNAME:EST
DTSTART:20271107T060000
END:STANDARD
BEGIN:DAYLIGHT
TZOFFSETFROM:-0500
TZOFFSETTO:-0400
TZNAME:EDT
DTSTART:20280312T070000
END:DAYLIGHT
BEGIN:STANDARD
TZOFFSETFROM:-0400
TZOFFSETTO:-0500
TZNAME:EST
DTSTART:20281105T060000
END:STANDARD
END:VTIMEZONE
BEGIN:VEVENT
DTSTART;TZID=America/Toronto:20270202T080000
DTEND;TZID=America/Toronto:20270202T170000
DTSTAMP:20260420T173110
CREATED:20260409T185637Z
LAST-MODIFIED:20260409T185637Z
UID:10001927-1801555200-1801587600@www.anguslegion499.ca
SUMMARY:Summer Fun Darts
DESCRIPTION:$5.00 \nBlind Draw \n 
URL:https://www.anguslegion499.ca/event/summer-fun-darts/2027-02-02
CATEGORIES:Sports
END:VEVENT
BEGIN:VEVENT
DTSTART;TZID=America/Toronto:20270203T140000
DTEND;TZID=America/Toronto:20270203T170000
DTSTAMP:20260420T173110
CREATED:20260305T220132Z
LAST-MODIFIED:20260305T220132Z
UID:10000349-1801663200-1801674000@www.anguslegion499.ca
SUMMARY:Bid Euchre-Upper Hall
DESCRIPTION:New Members Welcome
URL:https://www.anguslegion499.ca/event/bid-euchre-upper-hall/2027-02-03
CATEGORIES:Sports
END:VEVENT
BEGIN:VEVENT
DTSTART;TZID=America/Toronto:20270203T193000
DTEND;TZID=America/Toronto:20270203T220000
DTSTAMP:20260420T173110
CREATED:20260305T220650Z
LAST-MODIFIED:20260305T220650Z
UID:10000610-1801683000-1801692000@www.anguslegion499.ca
SUMMARY:Wednesday Dart League-Upper Hall
DESCRIPTION:Open \nBanquet at end of Season
URL:https://www.anguslegion499.ca/event/wednesday-dart-league-upper-hall/2027-02-03
CATEGORIES:Sports
END:VEVENT
BEGIN:VEVENT
DTSTART;TZID=America/Toronto:20270204T190000
DTEND;TZID=America/Toronto:20270204T220000
DTSTAMP:20260420T173110
CREATED:20260305T221008Z
LAST-MODIFIED:20260305T221008Z
UID:10000872-1801767600-1801778400@www.anguslegion499.ca
SUMMARY:Thursday Euchre-Upper Hall
DESCRIPTION:$5 \nBanquet
URL:https://www.anguslegion499.ca/event/thursday-euchre-upper-hall/2027-02-04
CATEGORIES:Sports
END:VEVENT
BEGIN:VEVENT
DTSTART;TZID=America/Toronto:20270209T080000
DTEND;TZID=America/Toronto:20270209T170000
DTSTAMP:20260420T173110
CREATED:20260409T185637Z
LAST-MODIFIED:20260409T185637Z
UID:10001928-1802160000-1802192400@www.anguslegion499.ca
SUMMARY:Summer Fun Darts
DESCRIPTION:$5.00 \nBlind Draw \n 
URL:https://www.anguslegion499.ca/event/summer-fun-darts/2027-02-09
CATEGORIES:Sports
END:VEVENT
BEGIN:VEVENT
DTSTART;TZID=America/Toronto:20270210T140000
DTEND;TZID=America/Toronto:20270210T170000
DTSTAMP:20260420T173110
CREATED:20260305T220132Z
LAST-MODIFIED:20260305T220132Z
UID:10000350-1802268000-1802278800@www.anguslegion499.ca
SUMMARY:Bid Euchre-Upper Hall
DESCRIPTION:New Members Welcome
URL:https://www.anguslegion499.ca/event/bid-euchre-upper-hall/2027-02-10
CATEGORIES:Sports
END:VEVENT
BEGIN:VEVENT
DTSTART;TZID=America/Toronto:20270210T193000
DTEND;TZID=America/Toronto:20270210T220000
DTSTAMP:20260420T173110
CREATED:20260305T220650Z
LAST-MODIFIED:20260305T220650Z
UID:10000611-1802287800-1802296800@www.anguslegion499.ca
SUMMARY:Wednesday Dart League-Upper Hall
DESCRIPTION:Open \nBanquet at end of Season
URL:https://www.anguslegion499.ca/event/wednesday-dart-league-upper-hall/2027-02-10
CATEGORIES:Sports
END:VEVENT
BEGIN:VEVENT
DTSTART;TZID=America/Toronto:20270211T190000
DTEND;TZID=America/Toronto:20270211T220000
DTSTAMP:20260420T173110
CREATED:20260305T221008Z
LAST-MODIFIED:20260305T221008Z
UID:10000873-1802372400-1802383200@www.anguslegion499.ca
SUMMARY:Thursday Euchre-Upper Hall
DESCRIPTION:$5 \nBanquet
URL:https://www.anguslegion499.ca/event/thursday-euchre-upper-hall/2027-02-11
CATEGORIES:Sports
END:VEVENT
BEGIN:VEVENT
DTSTART;TZID=America/Toronto:20270216T080000
DTEND;TZID=America/Toronto:20270216T170000
DTSTAMP:20260420T173110
CREATED:20260409T185637Z
LAST-MODIFIED:20260409T185637Z
UID:10001929-1802764800-1802797200@www.anguslegion499.ca
SUMMARY:Summer Fun Darts
DESCRIPTION:$5.00 \nBlind Draw \n 
URL:https://www.anguslegion499.ca/event/summer-fun-darts/2027-02-16
CATEGORIES:Sports
END:VEVENT
BEGIN:VEVENT
DTSTART;TZID=America/Toronto:20270217T140000
DTEND;TZID=America/Toronto:20270217T170000
DTSTAMP:20260420T173110
CREATED:20260305T220132Z
LAST-MODIFIED:20260305T220132Z
UID:10000351-1802872800-1802883600@www.anguslegion499.ca
SUMMARY:Bid Euchre-Upper Hall
DESCRIPTION:New Members Welcome
URL:https://www.anguslegion499.ca/event/bid-euchre-upper-hall/2027-02-17
CATEGORIES:Sports
END:VEVENT
BEGIN:VEVENT
DTSTART;TZID=America/Toronto:20270217T193000
DTEND;TZID=America/Toronto:20270217T220000
DTSTAMP:20260420T173110
CREATED:20260305T220650Z
LAST-MODIFIED:20260305T220650Z
UID:10000612-1802892600-1802901600@www.anguslegion499.ca
SUMMARY:Wednesday Dart League-Upper Hall
DESCRIPTION:Open \nBanquet at end of Season
URL:https://www.anguslegion499.ca/event/wednesday-dart-league-upper-hall/2027-02-17
CATEGORIES:Sports
END:VEVENT
BEGIN:VEVENT
DTSTART;TZID=America/Toronto:20270218T190000
DTEND;TZID=America/Toronto:20270218T220000
DTSTAMP:20260420T173110
CREATED:20260305T221008Z
LAST-MODIFIED:20260305T221008Z
UID:10000874-1802977200-1802988000@www.anguslegion499.ca
SUMMARY:Thursday Euchre-Upper Hall
DESCRIPTION:$5 \nBanquet
URL:https://www.anguslegion499.ca/event/thursday-euchre-upper-hall/2027-02-18
CATEGORIES:Sports
END:VEVENT
BEGIN:VEVENT
DTSTART;TZID=America/Toronto:20270219T183000
DTEND;TZID=America/Toronto:20270219T220000
DTSTAMP:20260420T173110
CREATED:20260305T210655Z
LAST-MODIFIED:20260329T202711Z
UID:10000293-1803061800-1803074400@www.anguslegion499.ca
SUMMARY:Fun Darts
DESCRIPTION:$5 Upstairs Hall \nRegistration 6:00 Play starts at 7:00pm \nBlind Draw Doubles Round Robin Play \nWING NIGHT AS WELL
URL:https://www.anguslegion499.ca/event/fun-darts/2027-02-19
CATEGORIES:Sports
END:VEVENT
BEGIN:VEVENT
DTSTART;TZID=America/Toronto:20270223T080000
DTEND;TZID=America/Toronto:20270223T170000
DTSTAMP:20260420T173110
CREATED:20260409T185637Z
LAST-MODIFIED:20260409T185637Z
UID:10001930-1803369600-1803402000@www.anguslegion499.ca
SUMMARY:Summer Fun Darts
DESCRIPTION:$5.00 \nBlind Draw \n 
URL:https://www.anguslegion499.ca/event/summer-fun-darts/2027-02-23
CATEGORIES:Sports
END:VEVENT
BEGIN:VEVENT
DTSTART;TZID=America/Toronto:20270224T140000
DTEND;TZID=America/Toronto:20270224T170000
DTSTAMP:20260420T173110
CREATED:20260305T220132Z
LAST-MODIFIED:20260305T220132Z
UID:10000352-1803477600-1803488400@www.anguslegion499.ca
SUMMARY:Bid Euchre-Upper Hall
DESCRIPTION:New Members Welcome
URL:https://www.anguslegion499.ca/event/bid-euchre-upper-hall/2027-02-24
CATEGORIES:Sports
END:VEVENT
BEGIN:VEVENT
DTSTART;TZID=America/Toronto:20270224T193000
DTEND;TZID=America/Toronto:20270224T220000
DTSTAMP:20260420T173110
CREATED:20260305T220650Z
LAST-MODIFIED:20260305T220650Z
UID:10000613-1803497400-1803506400@www.anguslegion499.ca
SUMMARY:Wednesday Dart League-Upper Hall
DESCRIPTION:Open \nBanquet at end of Season
URL:https://www.anguslegion499.ca/event/wednesday-dart-league-upper-hall/2027-02-24
CATEGORIES:Sports
END:VEVENT
BEGIN:VEVENT
DTSTART;TZID=America/Toronto:20270225T190000
DTEND;TZID=America/Toronto:20270225T220000
DTSTAMP:20260420T173110
CREATED:20260305T221008Z
LAST-MODIFIED:20260305T221008Z
UID:10000875-1803582000-1803592800@www.anguslegion499.ca
SUMMARY:Thursday Euchre-Upper Hall
DESCRIPTION:$5 \nBanquet
URL:https://www.anguslegion499.ca/event/thursday-euchre-upper-hall/2027-02-25
CATEGORIES:Sports
END:VEVENT
END:VCALENDAR