BEGIN:VCALENDAR
VERSION:2.0
PRODID:-//Royal Canadian Legion Branch 499 (Angus) - ECPv6.15.17//NONSGML v1.0//EN
CALSCALE:GREGORIAN
METHOD:PUBLISH
X-ORIGINAL-URL:https://www.anguslegion499.ca
X-WR-CALDESC:Events for Royal Canadian Legion Branch 499 (Angus)
REFRESH-INTERVAL;VALUE=DURATION:PT1H
X-Robots-Tag:noindex
X-PUBLISHED-TTL:PT1H
BEGIN:VTIMEZONE
TZID:America/Toronto
BEGIN:DAYLIGHT
TZOFFSETFROM:-0500
TZOFFSETTO:-0400
TZNAME:EDT
DTSTART:20270314T070000
END:DAYLIGHT
BEGIN:STANDARD
TZOFFSETFROM:-0400
TZOFFSETTO:-0500
TZNAME:EST
DTSTART:20271107T060000
END:STANDARD
BEGIN:DAYLIGHT
TZOFFSETFROM:-0500
TZOFFSETTO:-0400
TZNAME:EDT
DTSTART:20280312T070000
END:DAYLIGHT
BEGIN:STANDARD
TZOFFSETFROM:-0400
TZOFFSETTO:-0500
TZNAME:EST
DTSTART:20281105T060000
END:STANDARD
BEGIN:DAYLIGHT
TZOFFSETFROM:-0500
TZOFFSETTO:-0400
TZNAME:EDT
DTSTART:20290311T070000
END:DAYLIGHT
BEGIN:STANDARD
TZOFFSETFROM:-0400
TZOFFSETTO:-0500
TZNAME:EST
DTSTART:20291104T060000
END:STANDARD
END:VTIMEZONE
BEGIN:VEVENT
DTSTART;TZID=America/Toronto:20280202T140000
DTEND;TZID=America/Toronto:20280202T170000
DTSTAMP:20260421T092811
CREATED:20260305T220132Z
LAST-MODIFIED:20260305T220132Z
UID:10000401-1833112800-1833123600@www.anguslegion499.ca
SUMMARY:Bid Euchre-Upper Hall
DESCRIPTION:New Members Welcome
URL:https://www.anguslegion499.ca/event/bid-euchre-upper-hall/2028-02-02
CATEGORIES:Sports
END:VEVENT
BEGIN:VEVENT
DTSTART;TZID=America/Toronto:20280202T193000
DTEND;TZID=America/Toronto:20280202T220000
DTSTAMP:20260421T092811
CREATED:20260305T220650Z
LAST-MODIFIED:20260305T220650Z
UID:10000662-1833132600-1833141600@www.anguslegion499.ca
SUMMARY:Wednesday Dart League-Upper Hall
DESCRIPTION:Open \nBanquet at end of Season
URL:https://www.anguslegion499.ca/event/wednesday-dart-league-upper-hall/2028-02-02
CATEGORIES:Sports
END:VEVENT
BEGIN:VEVENT
DTSTART;TZID=America/Toronto:20280203T190000
DTEND;TZID=America/Toronto:20280203T220000
DTSTAMP:20260421T092811
CREATED:20260305T221008Z
LAST-MODIFIED:20260305T221008Z
UID:10000924-1833217200-1833228000@www.anguslegion499.ca
SUMMARY:Thursday Euchre-Upper Hall
DESCRIPTION:$5 \nBanquet
URL:https://www.anguslegion499.ca/event/thursday-euchre-upper-hall/2028-02-03
CATEGORIES:Sports
END:VEVENT
BEGIN:VEVENT
DTSTART;TZID=America/Toronto:20280209T140000
DTEND;TZID=America/Toronto:20280209T170000
DTSTAMP:20260421T092811
CREATED:20260305T220132Z
LAST-MODIFIED:20260305T220132Z
UID:10000402-1833717600-1833728400@www.anguslegion499.ca
SUMMARY:Bid Euchre-Upper Hall
DESCRIPTION:New Members Welcome
URL:https://www.anguslegion499.ca/event/bid-euchre-upper-hall/2028-02-09
CATEGORIES:Sports
END:VEVENT
BEGIN:VEVENT
DTSTART;TZID=America/Toronto:20280209T193000
DTEND;TZID=America/Toronto:20280209T220000
DTSTAMP:20260421T092811
CREATED:20260305T220650Z
LAST-MODIFIED:20260305T220650Z
UID:10000663-1833737400-1833746400@www.anguslegion499.ca
SUMMARY:Wednesday Dart League-Upper Hall
DESCRIPTION:Open \nBanquet at end of Season
URL:https://www.anguslegion499.ca/event/wednesday-dart-league-upper-hall/2028-02-09
CATEGORIES:Sports
END:VEVENT
BEGIN:VEVENT
DTSTART;TZID=America/Toronto:20280210T190000
DTEND;TZID=America/Toronto:20280210T220000
DTSTAMP:20260421T092811
CREATED:20260305T221008Z
LAST-MODIFIED:20260305T221008Z
UID:10000925-1833822000-1833832800@www.anguslegion499.ca
SUMMARY:Thursday Euchre-Upper Hall
DESCRIPTION:$5 \nBanquet
URL:https://www.anguslegion499.ca/event/thursday-euchre-upper-hall/2028-02-10
CATEGORIES:Sports
END:VEVENT
BEGIN:VEVENT
DTSTART;TZID=America/Toronto:20280216T140000
DTEND;TZID=America/Toronto:20280216T170000
DTSTAMP:20260421T092811
CREATED:20260305T220132Z
LAST-MODIFIED:20260305T220132Z
UID:10000403-1834322400-1834333200@www.anguslegion499.ca
SUMMARY:Bid Euchre-Upper Hall
DESCRIPTION:New Members Welcome
URL:https://www.anguslegion499.ca/event/bid-euchre-upper-hall/2028-02-16
CATEGORIES:Sports
END:VEVENT
BEGIN:VEVENT
DTSTART;TZID=America/Toronto:20280216T193000
DTEND;TZID=America/Toronto:20280216T220000
DTSTAMP:20260421T092811
CREATED:20260305T220650Z
LAST-MODIFIED:20260305T220650Z
UID:10000664-1834342200-1834351200@www.anguslegion499.ca
SUMMARY:Wednesday Dart League-Upper Hall
DESCRIPTION:Open \nBanquet at end of Season
URL:https://www.anguslegion499.ca/event/wednesday-dart-league-upper-hall/2028-02-16
CATEGORIES:Sports
END:VEVENT
BEGIN:VEVENT
DTSTART;TZID=America/Toronto:20280217T190000
DTEND;TZID=America/Toronto:20280217T220000
DTSTAMP:20260421T092811
CREATED:20260305T221008Z
LAST-MODIFIED:20260305T221008Z
UID:10000926-1834426800-1834437600@www.anguslegion499.ca
SUMMARY:Thursday Euchre-Upper Hall
DESCRIPTION:$5 \nBanquet
URL:https://www.anguslegion499.ca/event/thursday-euchre-upper-hall/2028-02-17
CATEGORIES:Sports
END:VEVENT
BEGIN:VEVENT
DTSTART;TZID=America/Toronto:20280223T140000
DTEND;TZID=America/Toronto:20280223T170000
DTSTAMP:20260421T092811
CREATED:20260305T220132Z
LAST-MODIFIED:20260305T220132Z
UID:10000404-1834927200-1834938000@www.anguslegion499.ca
SUMMARY:Bid Euchre-Upper Hall
DESCRIPTION:New Members Welcome
URL:https://www.anguslegion499.ca/event/bid-euchre-upper-hall/2028-02-23
CATEGORIES:Sports
END:VEVENT
BEGIN:VEVENT
DTSTART;TZID=America/Toronto:20280223T193000
DTEND;TZID=America/Toronto:20280223T220000
DTSTAMP:20260421T092811
CREATED:20260305T220650Z
LAST-MODIFIED:20260305T220650Z
UID:10000665-1834947000-1834956000@www.anguslegion499.ca
SUMMARY:Wednesday Dart League-Upper Hall
DESCRIPTION:Open \nBanquet at end of Season
URL:https://www.anguslegion499.ca/event/wednesday-dart-league-upper-hall/2028-02-23
CATEGORIES:Sports
END:VEVENT
BEGIN:VEVENT
DTSTART;TZID=America/Toronto:20280224T190000
DTEND;TZID=America/Toronto:20280224T220000
DTSTAMP:20260421T092811
CREATED:20260305T221008Z
LAST-MODIFIED:20260305T221008Z
UID:10000927-1835031600-1835042400@www.anguslegion499.ca
SUMMARY:Thursday Euchre-Upper Hall
DESCRIPTION:$5 \nBanquet
URL:https://www.anguslegion499.ca/event/thursday-euchre-upper-hall/2028-02-24
CATEGORIES:Sports
END:VEVENT
END:VCALENDAR