BEGIN:VCALENDAR
VERSION:2.0
PRODID:-//Royal Canadian Legion Branch 499 (Angus) - ECPv6.15.17//NONSGML v1.0//EN
CALSCALE:GREGORIAN
METHOD:PUBLISH
X-ORIGINAL-URL:https://www.anguslegion499.ca
X-WR-CALDESC:Events for Royal Canadian Legion Branch 499 (Angus)
REFRESH-INTERVAL;VALUE=DURATION:PT1H
X-Robots-Tag:noindex
X-PUBLISHED-TTL:PT1H
BEGIN:VTIMEZONE
TZID:America/Toronto
BEGIN:DAYLIGHT
TZOFFSETFROM:-0500
TZOFFSETTO:-0400
TZNAME:EDT
DTSTART:20270314T070000
END:DAYLIGHT
BEGIN:STANDARD
TZOFFSETFROM:-0400
TZOFFSETTO:-0500
TZNAME:EST
DTSTART:20271107T060000
END:STANDARD
BEGIN:DAYLIGHT
TZOFFSETFROM:-0500
TZOFFSETTO:-0400
TZNAME:EDT
DTSTART:20280312T070000
END:DAYLIGHT
BEGIN:STANDARD
TZOFFSETFROM:-0400
TZOFFSETTO:-0500
TZNAME:EST
DTSTART:20281105T060000
END:STANDARD
BEGIN:DAYLIGHT
TZOFFSETFROM:-0500
TZOFFSETTO:-0400
TZNAME:EDT
DTSTART:20290311T070000
END:DAYLIGHT
BEGIN:STANDARD
TZOFFSETFROM:-0400
TZOFFSETTO:-0500
TZNAME:EST
DTSTART:20291104T060000
END:STANDARD
END:VTIMEZONE
BEGIN:VEVENT
DTSTART;TZID=America/Toronto:20280405T140000
DTEND;TZID=America/Toronto:20280405T170000
DTSTAMP:20260421T125927
CREATED:20260305T220132Z
LAST-MODIFIED:20260305T220132Z
UID:10000410-1838556000-1838566800@www.anguslegion499.ca
SUMMARY:Bid Euchre-Upper Hall
DESCRIPTION:New Members Welcome
URL:https://www.anguslegion499.ca/event/bid-euchre-upper-hall/2028-04-05
CATEGORIES:Sports
END:VEVENT
BEGIN:VEVENT
DTSTART;TZID=America/Toronto:20280405T193000
DTEND;TZID=America/Toronto:20280405T220000
DTSTAMP:20260421T125927
CREATED:20260305T220650Z
LAST-MODIFIED:20260305T220650Z
UID:10000671-1838575800-1838584800@www.anguslegion499.ca
SUMMARY:Wednesday Dart League-Upper Hall
DESCRIPTION:Open \nBanquet at end of Season
URL:https://www.anguslegion499.ca/event/wednesday-dart-league-upper-hall/2028-04-05
CATEGORIES:Sports
END:VEVENT
BEGIN:VEVENT
DTSTART;TZID=America/Toronto:20280406T190000
DTEND;TZID=America/Toronto:20280406T220000
DTSTAMP:20260421T125927
CREATED:20260305T221008Z
LAST-MODIFIED:20260305T221008Z
UID:10000933-1838660400-1838671200@www.anguslegion499.ca
SUMMARY:Thursday Euchre-Upper Hall
DESCRIPTION:$5 \nBanquet
URL:https://www.anguslegion499.ca/event/thursday-euchre-upper-hall/2028-04-06
CATEGORIES:Sports
END:VEVENT
BEGIN:VEVENT
DTSTART;TZID=America/Toronto:20280412T140000
DTEND;TZID=America/Toronto:20280412T170000
DTSTAMP:20260421T125927
CREATED:20260305T220132Z
LAST-MODIFIED:20260305T220132Z
UID:10000411-1839160800-1839171600@www.anguslegion499.ca
SUMMARY:Bid Euchre-Upper Hall
DESCRIPTION:New Members Welcome
URL:https://www.anguslegion499.ca/event/bid-euchre-upper-hall/2028-04-12
CATEGORIES:Sports
END:VEVENT
BEGIN:VEVENT
DTSTART;TZID=America/Toronto:20280412T193000
DTEND;TZID=America/Toronto:20280412T220000
DTSTAMP:20260421T125927
CREATED:20260305T220650Z
LAST-MODIFIED:20260305T220650Z
UID:10000672-1839180600-1839189600@www.anguslegion499.ca
SUMMARY:Wednesday Dart League-Upper Hall
DESCRIPTION:Open \nBanquet at end of Season
URL:https://www.anguslegion499.ca/event/wednesday-dart-league-upper-hall/2028-04-12
CATEGORIES:Sports
END:VEVENT
BEGIN:VEVENT
DTSTART;TZID=America/Toronto:20280413T190000
DTEND;TZID=America/Toronto:20280413T220000
DTSTAMP:20260421T125927
CREATED:20260305T221008Z
LAST-MODIFIED:20260305T221008Z
UID:10000934-1839265200-1839276000@www.anguslegion499.ca
SUMMARY:Thursday Euchre-Upper Hall
DESCRIPTION:$5 \nBanquet
URL:https://www.anguslegion499.ca/event/thursday-euchre-upper-hall/2028-04-13
CATEGORIES:Sports
END:VEVENT
BEGIN:VEVENT
DTSTART;TZID=America/Toronto:20280419T140000
DTEND;TZID=America/Toronto:20280419T170000
DTSTAMP:20260421T125927
CREATED:20260305T220132Z
LAST-MODIFIED:20260305T220132Z
UID:10000412-1839765600-1839776400@www.anguslegion499.ca
SUMMARY:Bid Euchre-Upper Hall
DESCRIPTION:New Members Welcome
URL:https://www.anguslegion499.ca/event/bid-euchre-upper-hall/2028-04-19
CATEGORIES:Sports
END:VEVENT
BEGIN:VEVENT
DTSTART;TZID=America/Toronto:20280419T193000
DTEND;TZID=America/Toronto:20280419T220000
DTSTAMP:20260421T125927
CREATED:20260305T220650Z
LAST-MODIFIED:20260305T220650Z
UID:10000673-1839785400-1839794400@www.anguslegion499.ca
SUMMARY:Wednesday Dart League-Upper Hall
DESCRIPTION:Open \nBanquet at end of Season
URL:https://www.anguslegion499.ca/event/wednesday-dart-league-upper-hall/2028-04-19
CATEGORIES:Sports
END:VEVENT
BEGIN:VEVENT
DTSTART;TZID=America/Toronto:20280420T190000
DTEND;TZID=America/Toronto:20280420T220000
DTSTAMP:20260421T125927
CREATED:20260305T221008Z
LAST-MODIFIED:20260305T221008Z
UID:10000935-1839870000-1839880800@www.anguslegion499.ca
SUMMARY:Thursday Euchre-Upper Hall
DESCRIPTION:$5 \nBanquet
URL:https://www.anguslegion499.ca/event/thursday-euchre-upper-hall/2028-04-20
CATEGORIES:Sports
END:VEVENT
BEGIN:VEVENT
DTSTART;TZID=America/Toronto:20280426T140000
DTEND;TZID=America/Toronto:20280426T170000
DTSTAMP:20260421T125927
CREATED:20260305T220132Z
LAST-MODIFIED:20260305T220132Z
UID:10000413-1840370400-1840381200@www.anguslegion499.ca
SUMMARY:Bid Euchre-Upper Hall
DESCRIPTION:New Members Welcome
URL:https://www.anguslegion499.ca/event/bid-euchre-upper-hall/2028-04-26
CATEGORIES:Sports
END:VEVENT
BEGIN:VEVENT
DTSTART;TZID=America/Toronto:20280426T193000
DTEND;TZID=America/Toronto:20280426T220000
DTSTAMP:20260421T125927
CREATED:20260305T220650Z
LAST-MODIFIED:20260305T220650Z
UID:10000674-1840390200-1840399200@www.anguslegion499.ca
SUMMARY:Wednesday Dart League-Upper Hall
DESCRIPTION:Open \nBanquet at end of Season
URL:https://www.anguslegion499.ca/event/wednesday-dart-league-upper-hall/2028-04-26
CATEGORIES:Sports
END:VEVENT
BEGIN:VEVENT
DTSTART;TZID=America/Toronto:20280427T190000
DTEND;TZID=America/Toronto:20280427T220000
DTSTAMP:20260421T125927
CREATED:20260305T221008Z
LAST-MODIFIED:20260305T221008Z
UID:10000936-1840474800-1840485600@www.anguslegion499.ca
SUMMARY:Thursday Euchre-Upper Hall
DESCRIPTION:$5 \nBanquet
URL:https://www.anguslegion499.ca/event/thursday-euchre-upper-hall/2028-04-27
CATEGORIES:Sports
END:VEVENT
END:VCALENDAR