BEGIN:VCALENDAR
VERSION:2.0
PRODID:-//Royal Canadian Legion Branch 499 (Angus) - ECPv6.15.17//NONSGML v1.0//EN
CALSCALE:GREGORIAN
METHOD:PUBLISH
X-WR-CALNAME:Royal Canadian Legion Branch 499 (Angus)
X-ORIGINAL-URL:https://www.anguslegion499.ca
X-WR-CALDESC:Events for Royal Canadian Legion Branch 499 (Angus)
REFRESH-INTERVAL;VALUE=DURATION:PT1H
X-Robots-Tag:noindex
X-PUBLISHED-TTL:PT1H
BEGIN:VTIMEZONE
TZID:America/Toronto
BEGIN:DAYLIGHT
TZOFFSETFROM:-0500
TZOFFSETTO:-0400
TZNAME:EDT
DTSTART:20270314T070000
END:DAYLIGHT
BEGIN:STANDARD
TZOFFSETFROM:-0400
TZOFFSETTO:-0500
TZNAME:EST
DTSTART:20271107T060000
END:STANDARD
BEGIN:DAYLIGHT
TZOFFSETFROM:-0500
TZOFFSETTO:-0400
TZNAME:EDT
DTSTART:20280312T070000
END:DAYLIGHT
BEGIN:STANDARD
TZOFFSETFROM:-0400
TZOFFSETTO:-0500
TZNAME:EST
DTSTART:20281105T060000
END:STANDARD
BEGIN:DAYLIGHT
TZOFFSETFROM:-0500
TZOFFSETTO:-0400
TZNAME:EDT
DTSTART:20290311T070000
END:DAYLIGHT
BEGIN:STANDARD
TZOFFSETFROM:-0400
TZOFFSETTO:-0500
TZNAME:EST
DTSTART:20291104T060000
END:STANDARD
END:VTIMEZONE
BEGIN:VEVENT
DTSTART;TZID=America/Toronto:20280503T140000
DTEND;TZID=America/Toronto:20280503T170000
DTSTAMP:20260421T143238
CREATED:20260305T220132Z
LAST-MODIFIED:20260305T220132Z
UID:10000414-1840975200-1840986000@www.anguslegion499.ca
SUMMARY:Bid Euchre-Upper Hall
DESCRIPTION:New Members Welcome
URL:https://www.anguslegion499.ca/event/bid-euchre-upper-hall/2028-05-03
CATEGORIES:Sports
END:VEVENT
BEGIN:VEVENT
DTSTART;TZID=America/Toronto:20280503T193000
DTEND;TZID=America/Toronto:20280503T220000
DTSTAMP:20260421T143238
CREATED:20260305T220650Z
LAST-MODIFIED:20260305T220650Z
UID:10000675-1840995000-1841004000@www.anguslegion499.ca
SUMMARY:Wednesday Dart League-Upper Hall
DESCRIPTION:Open \nBanquet at end of Season
URL:https://www.anguslegion499.ca/event/wednesday-dart-league-upper-hall/2028-05-03
CATEGORIES:Sports
END:VEVENT
BEGIN:VEVENT
DTSTART;TZID=America/Toronto:20280504T190000
DTEND;TZID=America/Toronto:20280504T220000
DTSTAMP:20260421T143238
CREATED:20260305T221008Z
LAST-MODIFIED:20260305T221008Z
UID:10000937-1841079600-1841090400@www.anguslegion499.ca
SUMMARY:Thursday Euchre-Upper Hall
DESCRIPTION:$5 \nBanquet
URL:https://www.anguslegion499.ca/event/thursday-euchre-upper-hall/2028-05-04
CATEGORIES:Sports
END:VEVENT
BEGIN:VEVENT
DTSTART;TZID=America/Toronto:20280510T140000
DTEND;TZID=America/Toronto:20280510T170000
DTSTAMP:20260421T143238
CREATED:20260305T220132Z
LAST-MODIFIED:20260305T220132Z
UID:10000415-1841580000-1841590800@www.anguslegion499.ca
SUMMARY:Bid Euchre-Upper Hall
DESCRIPTION:New Members Welcome
URL:https://www.anguslegion499.ca/event/bid-euchre-upper-hall/2028-05-10
CATEGORIES:Sports
END:VEVENT
BEGIN:VEVENT
DTSTART;TZID=America/Toronto:20280510T193000
DTEND;TZID=America/Toronto:20280510T220000
DTSTAMP:20260421T143238
CREATED:20260305T220650Z
LAST-MODIFIED:20260305T220650Z
UID:10000676-1841599800-1841608800@www.anguslegion499.ca
SUMMARY:Wednesday Dart League-Upper Hall
DESCRIPTION:Open \nBanquet at end of Season
URL:https://www.anguslegion499.ca/event/wednesday-dart-league-upper-hall/2028-05-10
CATEGORIES:Sports
END:VEVENT
BEGIN:VEVENT
DTSTART;TZID=America/Toronto:20280511T190000
DTEND;TZID=America/Toronto:20280511T220000
DTSTAMP:20260421T143238
CREATED:20260305T221008Z
LAST-MODIFIED:20260305T221008Z
UID:10000938-1841684400-1841695200@www.anguslegion499.ca
SUMMARY:Thursday Euchre-Upper Hall
DESCRIPTION:$5 \nBanquet
URL:https://www.anguslegion499.ca/event/thursday-euchre-upper-hall/2028-05-11
CATEGORIES:Sports
END:VEVENT
BEGIN:VEVENT
DTSTART;TZID=America/Toronto:20280517T140000
DTEND;TZID=America/Toronto:20280517T170000
DTSTAMP:20260421T143238
CREATED:20260305T220132Z
LAST-MODIFIED:20260305T220132Z
UID:10000416-1842184800-1842195600@www.anguslegion499.ca
SUMMARY:Bid Euchre-Upper Hall
DESCRIPTION:New Members Welcome
URL:https://www.anguslegion499.ca/event/bid-euchre-upper-hall/2028-05-17
CATEGORIES:Sports
END:VEVENT
BEGIN:VEVENT
DTSTART;TZID=America/Toronto:20280517T193000
DTEND;TZID=America/Toronto:20280517T220000
DTSTAMP:20260421T143238
CREATED:20260305T220650Z
LAST-MODIFIED:20260305T220650Z
UID:10000677-1842204600-1842213600@www.anguslegion499.ca
SUMMARY:Wednesday Dart League-Upper Hall
DESCRIPTION:Open \nBanquet at end of Season
URL:https://www.anguslegion499.ca/event/wednesday-dart-league-upper-hall/2028-05-17
CATEGORIES:Sports
END:VEVENT
BEGIN:VEVENT
DTSTART;TZID=America/Toronto:20280518T190000
DTEND;TZID=America/Toronto:20280518T220000
DTSTAMP:20260421T143238
CREATED:20260305T221008Z
LAST-MODIFIED:20260305T221008Z
UID:10000939-1842289200-1842300000@www.anguslegion499.ca
SUMMARY:Thursday Euchre-Upper Hall
DESCRIPTION:$5 \nBanquet
URL:https://www.anguslegion499.ca/event/thursday-euchre-upper-hall/2028-05-18
CATEGORIES:Sports
END:VEVENT
BEGIN:VEVENT
DTSTART;TZID=America/Toronto:20280524T140000
DTEND;TZID=America/Toronto:20280524T170000
DTSTAMP:20260421T143238
CREATED:20260305T220132Z
LAST-MODIFIED:20260305T220132Z
UID:10000417-1842789600-1842800400@www.anguslegion499.ca
SUMMARY:Bid Euchre-Upper Hall
DESCRIPTION:New Members Welcome
URL:https://www.anguslegion499.ca/event/bid-euchre-upper-hall/2028-05-24
CATEGORIES:Sports
END:VEVENT
BEGIN:VEVENT
DTSTART;TZID=America/Toronto:20280524T193000
DTEND;TZID=America/Toronto:20280524T220000
DTSTAMP:20260421T143238
CREATED:20260305T220650Z
LAST-MODIFIED:20260305T220650Z
UID:10000678-1842809400-1842818400@www.anguslegion499.ca
SUMMARY:Wednesday Dart League-Upper Hall
DESCRIPTION:Open \nBanquet at end of Season
URL:https://www.anguslegion499.ca/event/wednesday-dart-league-upper-hall/2028-05-24
CATEGORIES:Sports
END:VEVENT
BEGIN:VEVENT
DTSTART;TZID=America/Toronto:20280525T190000
DTEND;TZID=America/Toronto:20280525T220000
DTSTAMP:20260421T143238
CREATED:20260305T221008Z
LAST-MODIFIED:20260305T221008Z
UID:10000940-1842894000-1842904800@www.anguslegion499.ca
SUMMARY:Thursday Euchre-Upper Hall
DESCRIPTION:$5 \nBanquet
URL:https://www.anguslegion499.ca/event/thursday-euchre-upper-hall/2028-05-25
CATEGORIES:Sports
END:VEVENT
BEGIN:VEVENT
DTSTART;TZID=America/Toronto:20280531T140000
DTEND;TZID=America/Toronto:20280531T170000
DTSTAMP:20260421T143238
CREATED:20260305T220132Z
LAST-MODIFIED:20260305T220132Z
UID:10000418-1843394400-1843405200@www.anguslegion499.ca
SUMMARY:Bid Euchre-Upper Hall
DESCRIPTION:New Members Welcome
URL:https://www.anguslegion499.ca/event/bid-euchre-upper-hall/2028-05-31
CATEGORIES:Sports
END:VEVENT
BEGIN:VEVENT
DTSTART;TZID=America/Toronto:20280531T193000
DTEND;TZID=America/Toronto:20280531T220000
DTSTAMP:20260421T143238
CREATED:20260305T220650Z
LAST-MODIFIED:20260305T220650Z
UID:10000679-1843414200-1843423200@www.anguslegion499.ca
SUMMARY:Wednesday Dart League-Upper Hall
DESCRIPTION:Open \nBanquet at end of Season
URL:https://www.anguslegion499.ca/event/wednesday-dart-league-upper-hall/2028-05-31
CATEGORIES:Sports
END:VEVENT
END:VCALENDAR