BEGIN:VCALENDAR
VERSION:2.0
PRODID:-//Royal Canadian Legion Branch 499 (Angus) - ECPv6.15.17//NONSGML v1.0//EN
CALSCALE:GREGORIAN
METHOD:PUBLISH
X-ORIGINAL-URL:https://www.anguslegion499.ca
X-WR-CALDESC:Events for Royal Canadian Legion Branch 499 (Angus)
REFRESH-INTERVAL;VALUE=DURATION:PT1H
X-Robots-Tag:noindex
X-PUBLISHED-TTL:PT1H
BEGIN:VTIMEZONE
TZID:America/Toronto
BEGIN:DAYLIGHT
TZOFFSETFROM:-0500
TZOFFSETTO:-0400
TZNAME:EDT
DTSTART:20270314T070000
END:DAYLIGHT
BEGIN:STANDARD
TZOFFSETFROM:-0400
TZOFFSETTO:-0500
TZNAME:EST
DTSTART:20271107T060000
END:STANDARD
BEGIN:DAYLIGHT
TZOFFSETFROM:-0500
TZOFFSETTO:-0400
TZNAME:EDT
DTSTART:20280312T070000
END:DAYLIGHT
BEGIN:STANDARD
TZOFFSETFROM:-0400
TZOFFSETTO:-0500
TZNAME:EST
DTSTART:20281105T060000
END:STANDARD
BEGIN:DAYLIGHT
TZOFFSETFROM:-0500
TZOFFSETTO:-0400
TZNAME:EDT
DTSTART:20290311T070000
END:DAYLIGHT
BEGIN:STANDARD
TZOFFSETFROM:-0400
TZOFFSETTO:-0500
TZNAME:EST
DTSTART:20291104T060000
END:STANDARD
END:VTIMEZONE
BEGIN:VEVENT
DTSTART;TZID=America/Toronto:20280705T140000
DTEND;TZID=America/Toronto:20280705T170000
DTSTAMP:20260421T174612
CREATED:20260305T220132Z
LAST-MODIFIED:20260305T220132Z
UID:10000423-1846418400-1846429200@www.anguslegion499.ca
SUMMARY:Bid Euchre-Upper Hall
DESCRIPTION:New Members Welcome
URL:https://www.anguslegion499.ca/event/bid-euchre-upper-hall/2028-07-05
CATEGORIES:Sports
END:VEVENT
BEGIN:VEVENT
DTSTART;TZID=America/Toronto:20280705T193000
DTEND;TZID=America/Toronto:20280705T220000
DTSTAMP:20260421T174612
CREATED:20260305T220650Z
LAST-MODIFIED:20260305T220650Z
UID:10000684-1846438200-1846447200@www.anguslegion499.ca
SUMMARY:Wednesday Dart League-Upper Hall
DESCRIPTION:Open \nBanquet at end of Season
URL:https://www.anguslegion499.ca/event/wednesday-dart-league-upper-hall/2028-07-05
CATEGORIES:Sports
END:VEVENT
BEGIN:VEVENT
DTSTART;TZID=America/Toronto:20280706T190000
DTEND;TZID=America/Toronto:20280706T220000
DTSTAMP:20260421T174612
CREATED:20260305T221008Z
LAST-MODIFIED:20260305T221008Z
UID:10000946-1846522800-1846533600@www.anguslegion499.ca
SUMMARY:Thursday Euchre-Upper Hall
DESCRIPTION:$5 \nBanquet
URL:https://www.anguslegion499.ca/event/thursday-euchre-upper-hall/2028-07-06
CATEGORIES:Sports
END:VEVENT
BEGIN:VEVENT
DTSTART;TZID=America/Toronto:20280712T140000
DTEND;TZID=America/Toronto:20280712T170000
DTSTAMP:20260421T174612
CREATED:20260305T220132Z
LAST-MODIFIED:20260305T220132Z
UID:10000424-1847023200-1847034000@www.anguslegion499.ca
SUMMARY:Bid Euchre-Upper Hall
DESCRIPTION:New Members Welcome
URL:https://www.anguslegion499.ca/event/bid-euchre-upper-hall/2028-07-12
CATEGORIES:Sports
END:VEVENT
BEGIN:VEVENT
DTSTART;TZID=America/Toronto:20280712T193000
DTEND;TZID=America/Toronto:20280712T220000
DTSTAMP:20260421T174612
CREATED:20260305T220650Z
LAST-MODIFIED:20260305T220650Z
UID:10000685-1847043000-1847052000@www.anguslegion499.ca
SUMMARY:Wednesday Dart League-Upper Hall
DESCRIPTION:Open \nBanquet at end of Season
URL:https://www.anguslegion499.ca/event/wednesday-dart-league-upper-hall/2028-07-12
CATEGORIES:Sports
END:VEVENT
BEGIN:VEVENT
DTSTART;TZID=America/Toronto:20280713T190000
DTEND;TZID=America/Toronto:20280713T220000
DTSTAMP:20260421T174612
CREATED:20260305T221008Z
LAST-MODIFIED:20260305T221008Z
UID:10000947-1847127600-1847138400@www.anguslegion499.ca
SUMMARY:Thursday Euchre-Upper Hall
DESCRIPTION:$5 \nBanquet
URL:https://www.anguslegion499.ca/event/thursday-euchre-upper-hall/2028-07-13
CATEGORIES:Sports
END:VEVENT
BEGIN:VEVENT
DTSTART;TZID=America/Toronto:20280719T140000
DTEND;TZID=America/Toronto:20280719T170000
DTSTAMP:20260421T174612
CREATED:20260305T220132Z
LAST-MODIFIED:20260305T220132Z
UID:10000425-1847628000-1847638800@www.anguslegion499.ca
SUMMARY:Bid Euchre-Upper Hall
DESCRIPTION:New Members Welcome
URL:https://www.anguslegion499.ca/event/bid-euchre-upper-hall/2028-07-19
CATEGORIES:Sports
END:VEVENT
BEGIN:VEVENT
DTSTART;TZID=America/Toronto:20280719T193000
DTEND;TZID=America/Toronto:20280719T220000
DTSTAMP:20260421T174612
CREATED:20260305T220650Z
LAST-MODIFIED:20260305T220650Z
UID:10000686-1847647800-1847656800@www.anguslegion499.ca
SUMMARY:Wednesday Dart League-Upper Hall
DESCRIPTION:Open \nBanquet at end of Season
URL:https://www.anguslegion499.ca/event/wednesday-dart-league-upper-hall/2028-07-19
CATEGORIES:Sports
END:VEVENT
BEGIN:VEVENT
DTSTART;TZID=America/Toronto:20280720T190000
DTEND;TZID=America/Toronto:20280720T220000
DTSTAMP:20260421T174612
CREATED:20260305T221008Z
LAST-MODIFIED:20260305T221008Z
UID:10000948-1847732400-1847743200@www.anguslegion499.ca
SUMMARY:Thursday Euchre-Upper Hall
DESCRIPTION:$5 \nBanquet
URL:https://www.anguslegion499.ca/event/thursday-euchre-upper-hall/2028-07-20
CATEGORIES:Sports
END:VEVENT
BEGIN:VEVENT
DTSTART;TZID=America/Toronto:20280726T140000
DTEND;TZID=America/Toronto:20280726T170000
DTSTAMP:20260421T174612
CREATED:20260305T220132Z
LAST-MODIFIED:20260305T220132Z
UID:10000426-1848232800-1848243600@www.anguslegion499.ca
SUMMARY:Bid Euchre-Upper Hall
DESCRIPTION:New Members Welcome
URL:https://www.anguslegion499.ca/event/bid-euchre-upper-hall/2028-07-26
CATEGORIES:Sports
END:VEVENT
BEGIN:VEVENT
DTSTART;TZID=America/Toronto:20280726T193000
DTEND;TZID=America/Toronto:20280726T220000
DTSTAMP:20260421T174612
CREATED:20260305T220650Z
LAST-MODIFIED:20260305T220650Z
UID:10000687-1848252600-1848261600@www.anguslegion499.ca
SUMMARY:Wednesday Dart League-Upper Hall
DESCRIPTION:Open \nBanquet at end of Season
URL:https://www.anguslegion499.ca/event/wednesday-dart-league-upper-hall/2028-07-26
CATEGORIES:Sports
END:VEVENT
BEGIN:VEVENT
DTSTART;TZID=America/Toronto:20280727T190000
DTEND;TZID=America/Toronto:20280727T220000
DTSTAMP:20260421T174612
CREATED:20260305T221008Z
LAST-MODIFIED:20260305T221008Z
UID:10000949-1848337200-1848348000@www.anguslegion499.ca
SUMMARY:Thursday Euchre-Upper Hall
DESCRIPTION:$5 \nBanquet
URL:https://www.anguslegion499.ca/event/thursday-euchre-upper-hall/2028-07-27
CATEGORIES:Sports
END:VEVENT
END:VCALENDAR