BEGIN:VCALENDAR
VERSION:2.0
PRODID:-//Royal Canadian Legion Branch 499 (Angus) - ECPv6.15.17//NONSGML v1.0//EN
CALSCALE:GREGORIAN
METHOD:PUBLISH
X-WR-CALNAME:Royal Canadian Legion Branch 499 (Angus)
X-ORIGINAL-URL:https://www.anguslegion499.ca
X-WR-CALDESC:Events for Royal Canadian Legion Branch 499 (Angus)
REFRESH-INTERVAL;VALUE=DURATION:PT1H
X-Robots-Tag:noindex
X-PUBLISHED-TTL:PT1H
BEGIN:VTIMEZONE
TZID:America/Toronto
BEGIN:DAYLIGHT
TZOFFSETFROM:-0500
TZOFFSETTO:-0400
TZNAME:EDT
DTSTART:20240310T070000
END:DAYLIGHT
BEGIN:STANDARD
TZOFFSETFROM:-0400
TZOFFSETTO:-0500
TZNAME:EST
DTSTART:20241103T060000
END:STANDARD
BEGIN:DAYLIGHT
TZOFFSETFROM:-0500
TZOFFSETTO:-0400
TZNAME:EDT
DTSTART:20250309T070000
END:DAYLIGHT
BEGIN:STANDARD
TZOFFSETFROM:-0400
TZOFFSETTO:-0500
TZNAME:EST
DTSTART:20251102T060000
END:STANDARD
BEGIN:DAYLIGHT
TZOFFSETFROM:-0500
TZOFFSETTO:-0400
TZNAME:EDT
DTSTART:20260308T070000
END:DAYLIGHT
BEGIN:STANDARD
TZOFFSETFROM:-0400
TZOFFSETTO:-0500
TZNAME:EST
DTSTART:20261101T060000
END:STANDARD
END:VTIMEZONE
BEGIN:VEVENT
DTSTART;TZID=America/Toronto:20251105T133000
DTEND;TZID=America/Toronto:20251105T133000
DTSTAMP:20260420T044404
CREATED:20251020T174719Z
LAST-MODIFIED:20251020T175331Z
UID:10000086-1762349400-1762349400@www.anguslegion499.ca
SUMMARY:Bid Euchre
DESCRIPTION:
URL:https://www.anguslegion499.ca/event/bid-euchre/2025-11-05
CATEGORIES:Sports
END:VEVENT
BEGIN:VEVENT
DTSTART;TZID=America/Toronto:20251105T190000
DTEND;TZID=America/Toronto:20251105T190000
DTSTAMP:20260420T044404
CREATED:20251020T143311Z
LAST-MODIFIED:20251020T155138Z
UID:10000062-1762369200-1762369200@www.anguslegion499.ca
SUMMARY:Dart League
DESCRIPTION:
URL:https://www.anguslegion499.ca/event/dart-league/2025-11-05
CATEGORIES:Sports
END:VEVENT
BEGIN:VEVENT
DTSTART;TZID=America/Toronto:20251105T190000
DTEND;TZID=America/Toronto:20251105T190000
DTSTAMP:20260420T044404
CREATED:20251020T143447Z
LAST-MODIFIED:20251020T173634Z
UID:10000078-1762369200-1762369200@www.anguslegion499.ca
SUMMARY:Pool League
DESCRIPTION:
URL:https://www.anguslegion499.ca/event/pool-league/2025-11-05
CATEGORIES:Sports
END:VEVENT
BEGIN:VEVENT
DTSTART;TZID=America/Toronto:20251112T133000
DTEND;TZID=America/Toronto:20251112T133000
DTSTAMP:20260420T044404
CREATED:20251020T174719Z
LAST-MODIFIED:20251020T175331Z
UID:10000087-1762954200-1762954200@www.anguslegion499.ca
SUMMARY:Bid Euchre
DESCRIPTION:
URL:https://www.anguslegion499.ca/event/bid-euchre/2025-11-12
CATEGORIES:Sports
END:VEVENT
BEGIN:VEVENT
DTSTART;TZID=America/Toronto:20251112T190000
DTEND;TZID=America/Toronto:20251112T190000
DTSTAMP:20260420T044404
CREATED:20251020T143311Z
LAST-MODIFIED:20251020T155138Z
UID:10000063-1762974000-1762974000@www.anguslegion499.ca
SUMMARY:Dart League
DESCRIPTION:
URL:https://www.anguslegion499.ca/event/dart-league/2025-11-12
CATEGORIES:Sports
END:VEVENT
BEGIN:VEVENT
DTSTART;TZID=America/Toronto:20251112T190000
DTEND;TZID=America/Toronto:20251112T190000
DTSTAMP:20260420T044404
CREATED:20251020T143447Z
LAST-MODIFIED:20251020T173634Z
UID:10000079-1762974000-1762974000@www.anguslegion499.ca
SUMMARY:Pool League
DESCRIPTION:
URL:https://www.anguslegion499.ca/event/pool-league/2025-11-12
CATEGORIES:Sports
END:VEVENT
BEGIN:VEVENT
DTSTART;TZID=America/Toronto:20251115T090000
DTEND;TZID=America/Toronto:20251115T170000
DTSTAMP:20260420T044404
CREATED:20251020T175536Z
LAST-MODIFIED:20251020T193650Z
UID:10000095-1763197200-1763226000@www.anguslegion499.ca
SUMMARY:9 Ball Tournament
DESCRIPTION:
URL:https://www.anguslegion499.ca/event/9-ball-tournament/2025-11-15
CATEGORIES:Sports
END:VEVENT
BEGIN:VEVENT
DTSTART;TZID=America/Toronto:20251119T133000
DTEND;TZID=America/Toronto:20251119T133000
DTSTAMP:20260420T044404
CREATED:20251020T174719Z
LAST-MODIFIED:20251020T175331Z
UID:10000088-1763559000-1763559000@www.anguslegion499.ca
SUMMARY:Bid Euchre
DESCRIPTION:
URL:https://www.anguslegion499.ca/event/bid-euchre/2025-11-19
CATEGORIES:Sports
END:VEVENT
BEGIN:VEVENT
DTSTART;TZID=America/Toronto:20251119T190000
DTEND;TZID=America/Toronto:20251119T190000
DTSTAMP:20260420T044404
CREATED:20251020T143311Z
LAST-MODIFIED:20251020T155138Z
UID:10000064-1763578800-1763578800@www.anguslegion499.ca
SUMMARY:Dart League
DESCRIPTION:
URL:https://www.anguslegion499.ca/event/dart-league/2025-11-19
CATEGORIES:Sports
END:VEVENT
BEGIN:VEVENT
DTSTART;TZID=America/Toronto:20251119T190000
DTEND;TZID=America/Toronto:20251119T190000
DTSTAMP:20260420T044404
CREATED:20251020T143447Z
LAST-MODIFIED:20251020T173634Z
UID:10000080-1763578800-1763578800@www.anguslegion499.ca
SUMMARY:Pool League
DESCRIPTION:
URL:https://www.anguslegion499.ca/event/pool-league/2025-11-19
CATEGORIES:Sports
END:VEVENT
BEGIN:VEVENT
DTSTART;TZID=America/Toronto:20251126T133000
DTEND;TZID=America/Toronto:20251126T133000
DTSTAMP:20260420T044404
CREATED:20251020T174719Z
LAST-MODIFIED:20251020T175331Z
UID:10000089-1764163800-1764163800@www.anguslegion499.ca
SUMMARY:Bid Euchre
DESCRIPTION:
URL:https://www.anguslegion499.ca/event/bid-euchre/2025-11-26
CATEGORIES:Sports
END:VEVENT
BEGIN:VEVENT
DTSTART;TZID=America/Toronto:20251126T190000
DTEND;TZID=America/Toronto:20251126T190000
DTSTAMP:20260420T044404
CREATED:20251020T143311Z
LAST-MODIFIED:20251020T155138Z
UID:10000065-1764183600-1764183600@www.anguslegion499.ca
SUMMARY:Dart League
DESCRIPTION:
URL:https://www.anguslegion499.ca/event/dart-league/2025-11-26
CATEGORIES:Sports
END:VEVENT
BEGIN:VEVENT
DTSTART;TZID=America/Toronto:20251126T190000
DTEND;TZID=America/Toronto:20251126T190000
DTSTAMP:20260420T044404
CREATED:20251020T143447Z
LAST-MODIFIED:20251020T173634Z
UID:10000081-1764183600-1764183600@www.anguslegion499.ca
SUMMARY:Pool League
DESCRIPTION:
URL:https://www.anguslegion499.ca/event/pool-league/2025-11-26
CATEGORIES:Sports
END:VEVENT
END:VCALENDAR