BEGIN:VCALENDAR
VERSION:2.0
PRODID:-//Royal Canadian Legion Branch 499 (Angus) - ECPv6.15.17//NONSGML v1.0//EN
CALSCALE:GREGORIAN
METHOD:PUBLISH
X-ORIGINAL-URL:https://www.anguslegion499.ca
X-WR-CALDESC:Events for Royal Canadian Legion Branch 499 (Angus)
REFRESH-INTERVAL;VALUE=DURATION:PT1H
X-Robots-Tag:noindex
X-PUBLISHED-TTL:PT1H
BEGIN:VTIMEZONE
TZID:America/Toronto
BEGIN:DAYLIGHT
TZOFFSETFROM:-0500
TZOFFSETTO:-0400
TZNAME:EDT
DTSTART:20250309T070000
END:DAYLIGHT
BEGIN:STANDARD
TZOFFSETFROM:-0400
TZOFFSETTO:-0500
TZNAME:EST
DTSTART:20251102T060000
END:STANDARD
BEGIN:DAYLIGHT
TZOFFSETFROM:-0500
TZOFFSETTO:-0400
TZNAME:EDT
DTSTART:20260308T070000
END:DAYLIGHT
BEGIN:STANDARD
TZOFFSETFROM:-0400
TZOFFSETTO:-0500
TZNAME:EST
DTSTART:20261101T060000
END:STANDARD
BEGIN:DAYLIGHT
TZOFFSETFROM:-0500
TZOFFSETTO:-0400
TZNAME:EDT
DTSTART:20270314T070000
END:DAYLIGHT
BEGIN:STANDARD
TZOFFSETFROM:-0400
TZOFFSETTO:-0500
TZNAME:EST
DTSTART:20271107T060000
END:STANDARD
END:VTIMEZONE
BEGIN:VEVENT
DTSTART;TZID=America/Toronto:20261103T080000
DTEND;TZID=America/Toronto:20261103T170000
DTSTAMP:20260420T084552
CREATED:20260409T185637Z
LAST-MODIFIED:20260409T185637Z
UID:10001914-1793692800-1793725200@www.anguslegion499.ca
SUMMARY:Summer Fun Darts
DESCRIPTION:$5.00 \nBlind Draw \n 
URL:https://www.anguslegion499.ca/event/summer-fun-darts/2026-11-03
CATEGORIES:Sports
END:VEVENT
BEGIN:VEVENT
DTSTART;TZID=America/Toronto:20261104T140000
DTEND;TZID=America/Toronto:20261104T170000
DTSTAMP:20260420T084552
CREATED:20260305T220132Z
LAST-MODIFIED:20260305T220132Z
UID:10000336-1793800800-1793811600@www.anguslegion499.ca
SUMMARY:Bid Euchre-Upper Hall
DESCRIPTION:New Members Welcome
URL:https://www.anguslegion499.ca/event/bid-euchre-upper-hall/2026-11-04
CATEGORIES:Sports
END:VEVENT
BEGIN:VEVENT
DTSTART;TZID=America/Toronto:20261104T193000
DTEND;TZID=America/Toronto:20261104T220000
DTSTAMP:20260420T084552
CREATED:20260305T220650Z
LAST-MODIFIED:20260305T220650Z
UID:10000597-1793820600-1793829600@www.anguslegion499.ca
SUMMARY:Wednesday Dart League-Upper Hall
DESCRIPTION:Open \nBanquet at end of Season
URL:https://www.anguslegion499.ca/event/wednesday-dart-league-upper-hall/2026-11-04
CATEGORIES:Sports
END:VEVENT
BEGIN:VEVENT
DTSTART;TZID=America/Toronto:20261105T190000
DTEND;TZID=America/Toronto:20261105T220000
DTSTAMP:20260420T084552
CREATED:20260305T221008Z
LAST-MODIFIED:20260305T221008Z
UID:10000859-1793905200-1793916000@www.anguslegion499.ca
SUMMARY:Thursday Euchre-Upper Hall
DESCRIPTION:$5 \nBanquet
URL:https://www.anguslegion499.ca/event/thursday-euchre-upper-hall/2026-11-05
CATEGORIES:Sports
END:VEVENT
BEGIN:VEVENT
DTSTART;TZID=America/Toronto:20261108T130000
DTEND;TZID=America/Toronto:20261108T160000
DTSTAMP:20260420T084552
CREATED:20260305T131539Z
LAST-MODIFIED:20260324T180559Z
UID:10001224-1794142800-1794153600@www.anguslegion499.ca
SUMMARY:Recurring Rental-Lower Hall
DESCRIPTION:Private Meeting
URL:https://www.anguslegion499.ca/event/recurring-rental/2026-11-08
CATEGORIES:Booked Rooms
END:VEVENT
BEGIN:VEVENT
DTSTART;TZID=America/Toronto:20261110T080000
DTEND;TZID=America/Toronto:20261110T170000
DTSTAMP:20260420T084552
CREATED:20260409T185637Z
LAST-MODIFIED:20260409T185637Z
UID:10001915-1794297600-1794330000@www.anguslegion499.ca
SUMMARY:Summer Fun Darts
DESCRIPTION:$5.00 \nBlind Draw \n 
URL:https://www.anguslegion499.ca/event/summer-fun-darts/2026-11-10
CATEGORIES:Sports
END:VEVENT
BEGIN:VEVENT
DTSTART;TZID=America/Toronto:20261111T140000
DTEND;TZID=America/Toronto:20261111T170000
DTSTAMP:20260420T084552
CREATED:20260305T220132Z
LAST-MODIFIED:20260305T220132Z
UID:10000337-1794405600-1794416400@www.anguslegion499.ca
SUMMARY:Bid Euchre-Upper Hall
DESCRIPTION:New Members Welcome
URL:https://www.anguslegion499.ca/event/bid-euchre-upper-hall/2026-11-11
CATEGORIES:Sports
END:VEVENT
BEGIN:VEVENT
DTSTART;TZID=America/Toronto:20261111T193000
DTEND;TZID=America/Toronto:20261111T220000
DTSTAMP:20260420T084552
CREATED:20260305T220650Z
LAST-MODIFIED:20260305T220650Z
UID:10000598-1794425400-1794434400@www.anguslegion499.ca
SUMMARY:Wednesday Dart League-Upper Hall
DESCRIPTION:Open \nBanquet at end of Season
URL:https://www.anguslegion499.ca/event/wednesday-dart-league-upper-hall/2026-11-11
CATEGORIES:Sports
END:VEVENT
BEGIN:VEVENT
DTSTART;TZID=America/Toronto:20261112T190000
DTEND;TZID=America/Toronto:20261112T220000
DTSTAMP:20260420T084552
CREATED:20260305T221008Z
LAST-MODIFIED:20260305T221008Z
UID:10000860-1794510000-1794520800@www.anguslegion499.ca
SUMMARY:Thursday Euchre-Upper Hall
DESCRIPTION:$5 \nBanquet
URL:https://www.anguslegion499.ca/event/thursday-euchre-upper-hall/2026-11-12
CATEGORIES:Sports
END:VEVENT
BEGIN:VEVENT
DTSTART;TZID=America/Toronto:20261117T080000
DTEND;TZID=America/Toronto:20261117T170000
DTSTAMP:20260420T084553
CREATED:20260409T185637Z
LAST-MODIFIED:20260409T185637Z
UID:10001916-1794902400-1794934800@www.anguslegion499.ca
SUMMARY:Summer Fun Darts
DESCRIPTION:$5.00 \nBlind Draw \n 
URL:https://www.anguslegion499.ca/event/summer-fun-darts/2026-11-17
CATEGORIES:Sports
END:VEVENT
BEGIN:VEVENT
DTSTART;TZID=America/Toronto:20261118T140000
DTEND;TZID=America/Toronto:20261118T170000
DTSTAMP:20260420T084553
CREATED:20260305T220132Z
LAST-MODIFIED:20260305T220132Z
UID:10000338-1795010400-1795021200@www.anguslegion499.ca
SUMMARY:Bid Euchre-Upper Hall
DESCRIPTION:New Members Welcome
URL:https://www.anguslegion499.ca/event/bid-euchre-upper-hall/2026-11-18
CATEGORIES:Sports
END:VEVENT
BEGIN:VEVENT
DTSTART;TZID=America/Toronto:20261118T193000
DTEND;TZID=America/Toronto:20261118T220000
DTSTAMP:20260420T084553
CREATED:20260305T220650Z
LAST-MODIFIED:20260305T220650Z
UID:10000599-1795030200-1795039200@www.anguslegion499.ca
SUMMARY:Wednesday Dart League-Upper Hall
DESCRIPTION:Open \nBanquet at end of Season
URL:https://www.anguslegion499.ca/event/wednesday-dart-league-upper-hall/2026-11-18
CATEGORIES:Sports
END:VEVENT
BEGIN:VEVENT
DTSTART;TZID=America/Toronto:20261119T190000
DTEND;TZID=America/Toronto:20261119T220000
DTSTAMP:20260420T084553
CREATED:20260305T221008Z
LAST-MODIFIED:20260305T221008Z
UID:10000861-1795114800-1795125600@www.anguslegion499.ca
SUMMARY:Thursday Euchre-Upper Hall
DESCRIPTION:$5 \nBanquet
URL:https://www.anguslegion499.ca/event/thursday-euchre-upper-hall/2026-11-19
CATEGORIES:Sports
END:VEVENT
BEGIN:VEVENT
DTSTART;TZID=America/Toronto:20261120T183000
DTEND;TZID=America/Toronto:20261120T220000
DTSTAMP:20260420T084553
CREATED:20260305T210655Z
LAST-MODIFIED:20260329T202711Z
UID:10000290-1795199400-1795212000@www.anguslegion499.ca
SUMMARY:Fun Darts
DESCRIPTION:$5 Upstairs Hall \nRegistration 6:00 Play starts at 7:00pm \nBlind Draw Doubles Round Robin Play \nWING NIGHT AS WELL
URL:https://www.anguslegion499.ca/event/fun-darts/2026-11-20
CATEGORIES:Sports
END:VEVENT
BEGIN:VEVENT
DTSTART;TZID=America/Toronto:20261124T080000
DTEND;TZID=America/Toronto:20261124T170000
DTSTAMP:20260420T084553
CREATED:20260409T185637Z
LAST-MODIFIED:20260409T185637Z
UID:10001917-1795507200-1795539600@www.anguslegion499.ca
SUMMARY:Summer Fun Darts
DESCRIPTION:$5.00 \nBlind Draw \n 
URL:https://www.anguslegion499.ca/event/summer-fun-darts/2026-11-24
CATEGORIES:Sports
END:VEVENT
BEGIN:VEVENT
DTSTART;TZID=America/Toronto:20261125T140000
DTEND;TZID=America/Toronto:20261125T170000
DTSTAMP:20260420T084553
CREATED:20260305T220132Z
LAST-MODIFIED:20260305T220132Z
UID:10000339-1795615200-1795626000@www.anguslegion499.ca
SUMMARY:Bid Euchre-Upper Hall
DESCRIPTION:New Members Welcome
URL:https://www.anguslegion499.ca/event/bid-euchre-upper-hall/2026-11-25
CATEGORIES:Sports
END:VEVENT
BEGIN:VEVENT
DTSTART;TZID=America/Toronto:20261125T193000
DTEND;TZID=America/Toronto:20261125T220000
DTSTAMP:20260420T084553
CREATED:20260305T220650Z
LAST-MODIFIED:20260305T220650Z
UID:10000600-1795635000-1795644000@www.anguslegion499.ca
SUMMARY:Wednesday Dart League-Upper Hall
DESCRIPTION:Open \nBanquet at end of Season
URL:https://www.anguslegion499.ca/event/wednesday-dart-league-upper-hall/2026-11-25
CATEGORIES:Sports
END:VEVENT
BEGIN:VEVENT
DTSTART;TZID=America/Toronto:20261126T190000
DTEND;TZID=America/Toronto:20261126T220000
DTSTAMP:20260420T084553
CREATED:20260305T221008Z
LAST-MODIFIED:20260305T221008Z
UID:10000862-1795719600-1795730400@www.anguslegion499.ca
SUMMARY:Thursday Euchre-Upper Hall
DESCRIPTION:$5 \nBanquet
URL:https://www.anguslegion499.ca/event/thursday-euchre-upper-hall/2026-11-26
CATEGORIES:Sports
END:VEVENT
END:VCALENDAR