BEGIN:VCALENDAR
VERSION:2.0
PRODID:-//Royal Canadian Legion Branch 499 (Angus) - ECPv6.15.17//NONSGML v1.0//EN
CALSCALE:GREGORIAN
METHOD:PUBLISH
X-ORIGINAL-URL:https://www.anguslegion499.ca
X-WR-CALDESC:Events for Royal Canadian Legion Branch 499 (Angus)
REFRESH-INTERVAL;VALUE=DURATION:PT1H
X-Robots-Tag:noindex
X-PUBLISHED-TTL:PT1H
BEGIN:VTIMEZONE
TZID:America/Toronto
BEGIN:DAYLIGHT
TZOFFSETFROM:-0500
TZOFFSETTO:-0400
TZNAME:EDT
DTSTART:20250309T070000
END:DAYLIGHT
BEGIN:STANDARD
TZOFFSETFROM:-0400
TZOFFSETTO:-0500
TZNAME:EST
DTSTART:20251102T060000
END:STANDARD
BEGIN:DAYLIGHT
TZOFFSETFROM:-0500
TZOFFSETTO:-0400
TZNAME:EDT
DTSTART:20260308T070000
END:DAYLIGHT
BEGIN:STANDARD
TZOFFSETFROM:-0400
TZOFFSETTO:-0500
TZNAME:EST
DTSTART:20261101T060000
END:STANDARD
BEGIN:DAYLIGHT
TZOFFSETFROM:-0500
TZOFFSETTO:-0400
TZNAME:EDT
DTSTART:20270314T070000
END:DAYLIGHT
BEGIN:STANDARD
TZOFFSETFROM:-0400
TZOFFSETTO:-0500
TZNAME:EST
DTSTART:20271107T060000
END:STANDARD
END:VTIMEZONE
BEGIN:VEVENT
DTSTART;TZID=America/Toronto:20261201T080000
DTEND;TZID=America/Toronto:20261201T170000
DTSTAMP:20260420T100424
CREATED:20260409T185637Z
LAST-MODIFIED:20260409T185637Z
UID:10001918-1796112000-1796144400@www.anguslegion499.ca
SUMMARY:Summer Fun Darts
DESCRIPTION:$5.00 \nBlind Draw \n 
URL:https://www.anguslegion499.ca/event/summer-fun-darts/2026-12-01
CATEGORIES:Sports
END:VEVENT
BEGIN:VEVENT
DTSTART;TZID=America/Toronto:20261202T140000
DTEND;TZID=America/Toronto:20261202T170000
DTSTAMP:20260420T100424
CREATED:20260305T220132Z
LAST-MODIFIED:20260305T220132Z
UID:10000340-1796220000-1796230800@www.anguslegion499.ca
SUMMARY:Bid Euchre-Upper Hall
DESCRIPTION:New Members Welcome
URL:https://www.anguslegion499.ca/event/bid-euchre-upper-hall/2026-12-02
CATEGORIES:Sports
END:VEVENT
BEGIN:VEVENT
DTSTART;TZID=America/Toronto:20261202T193000
DTEND;TZID=America/Toronto:20261202T220000
DTSTAMP:20260420T100424
CREATED:20260305T220650Z
LAST-MODIFIED:20260305T220650Z
UID:10000601-1796239800-1796248800@www.anguslegion499.ca
SUMMARY:Wednesday Dart League-Upper Hall
DESCRIPTION:Open \nBanquet at end of Season
URL:https://www.anguslegion499.ca/event/wednesday-dart-league-upper-hall/2026-12-02
CATEGORIES:Sports
END:VEVENT
BEGIN:VEVENT
DTSTART;TZID=America/Toronto:20261203T190000
DTEND;TZID=America/Toronto:20261203T220000
DTSTAMP:20260420T100424
CREATED:20260305T221008Z
LAST-MODIFIED:20260305T221008Z
UID:10000863-1796324400-1796335200@www.anguslegion499.ca
SUMMARY:Thursday Euchre-Upper Hall
DESCRIPTION:$5 \nBanquet
URL:https://www.anguslegion499.ca/event/thursday-euchre-upper-hall/2026-12-03
CATEGORIES:Sports
END:VEVENT
BEGIN:VEVENT
DTSTART;TZID=America/Toronto:20261208T080000
DTEND;TZID=America/Toronto:20261208T170000
DTSTAMP:20260420T100424
CREATED:20260409T185637Z
LAST-MODIFIED:20260409T185637Z
UID:10001919-1796716800-1796749200@www.anguslegion499.ca
SUMMARY:Summer Fun Darts
DESCRIPTION:$5.00 \nBlind Draw \n 
URL:https://www.anguslegion499.ca/event/summer-fun-darts/2026-12-08
CATEGORIES:Sports
END:VEVENT
BEGIN:VEVENT
DTSTART;TZID=America/Toronto:20261209T140000
DTEND;TZID=America/Toronto:20261209T170000
DTSTAMP:20260420T100424
CREATED:20260305T220132Z
LAST-MODIFIED:20260305T220132Z
UID:10000341-1796824800-1796835600@www.anguslegion499.ca
SUMMARY:Bid Euchre-Upper Hall
DESCRIPTION:New Members Welcome
URL:https://www.anguslegion499.ca/event/bid-euchre-upper-hall/2026-12-09
CATEGORIES:Sports
END:VEVENT
BEGIN:VEVENT
DTSTART;TZID=America/Toronto:20261209T193000
DTEND;TZID=America/Toronto:20261209T220000
DTSTAMP:20260420T100424
CREATED:20260305T220650Z
LAST-MODIFIED:20260305T220650Z
UID:10000602-1796844600-1796853600@www.anguslegion499.ca
SUMMARY:Wednesday Dart League-Upper Hall
DESCRIPTION:Open \nBanquet at end of Season
URL:https://www.anguslegion499.ca/event/wednesday-dart-league-upper-hall/2026-12-09
CATEGORIES:Sports
END:VEVENT
BEGIN:VEVENT
DTSTART;TZID=America/Toronto:20261210T190000
DTEND;TZID=America/Toronto:20261210T220000
DTSTAMP:20260420T100424
CREATED:20260305T221008Z
LAST-MODIFIED:20260305T221008Z
UID:10000864-1796929200-1796940000@www.anguslegion499.ca
SUMMARY:Thursday Euchre-Upper Hall
DESCRIPTION:$5 \nBanquet
URL:https://www.anguslegion499.ca/event/thursday-euchre-upper-hall/2026-12-10
CATEGORIES:Sports
END:VEVENT
BEGIN:VEVENT
DTSTART;TZID=America/Toronto:20261213T130000
DTEND;TZID=America/Toronto:20261213T160000
DTSTAMP:20260420T100424
CREATED:20260305T131539Z
LAST-MODIFIED:20260324T180559Z
UID:10001225-1797166800-1797177600@www.anguslegion499.ca
SUMMARY:Recurring Rental-Lower Hall
DESCRIPTION:Private Meeting
URL:https://www.anguslegion499.ca/event/recurring-rental/2026-12-13
CATEGORIES:Booked Rooms
END:VEVENT
BEGIN:VEVENT
DTSTART;TZID=America/Toronto:20261215T080000
DTEND;TZID=America/Toronto:20261215T170000
DTSTAMP:20260420T100424
CREATED:20260409T185637Z
LAST-MODIFIED:20260409T185637Z
UID:10001920-1797321600-1797354000@www.anguslegion499.ca
SUMMARY:Summer Fun Darts
DESCRIPTION:$5.00 \nBlind Draw \n 
URL:https://www.anguslegion499.ca/event/summer-fun-darts/2026-12-15
CATEGORIES:Sports
END:VEVENT
BEGIN:VEVENT
DTSTART;TZID=America/Toronto:20261216T140000
DTEND;TZID=America/Toronto:20261216T170000
DTSTAMP:20260420T100424
CREATED:20260305T220132Z
LAST-MODIFIED:20260305T220132Z
UID:10000342-1797429600-1797440400@www.anguslegion499.ca
SUMMARY:Bid Euchre-Upper Hall
DESCRIPTION:New Members Welcome
URL:https://www.anguslegion499.ca/event/bid-euchre-upper-hall/2026-12-16
CATEGORIES:Sports
END:VEVENT
BEGIN:VEVENT
DTSTART;TZID=America/Toronto:20261216T193000
DTEND;TZID=America/Toronto:20261216T220000
DTSTAMP:20260420T100424
CREATED:20260305T220650Z
LAST-MODIFIED:20260305T220650Z
UID:10000603-1797449400-1797458400@www.anguslegion499.ca
SUMMARY:Wednesday Dart League-Upper Hall
DESCRIPTION:Open \nBanquet at end of Season
URL:https://www.anguslegion499.ca/event/wednesday-dart-league-upper-hall/2026-12-16
CATEGORIES:Sports
END:VEVENT
BEGIN:VEVENT
DTSTART;TZID=America/Toronto:20261217T190000
DTEND;TZID=America/Toronto:20261217T220000
DTSTAMP:20260420T100424
CREATED:20260305T221008Z
LAST-MODIFIED:20260305T221008Z
UID:10000865-1797534000-1797544800@www.anguslegion499.ca
SUMMARY:Thursday Euchre-Upper Hall
DESCRIPTION:$5 \nBanquet
URL:https://www.anguslegion499.ca/event/thursday-euchre-upper-hall/2026-12-17
CATEGORIES:Sports
END:VEVENT
BEGIN:VEVENT
DTSTART;TZID=America/Toronto:20261218T183000
DTEND;TZID=America/Toronto:20261218T220000
DTSTAMP:20260420T100424
CREATED:20260305T210655Z
LAST-MODIFIED:20260329T202711Z
UID:10000291-1797618600-1797631200@www.anguslegion499.ca
SUMMARY:Fun Darts
DESCRIPTION:$5 Upstairs Hall \nRegistration 6:00 Play starts at 7:00pm \nBlind Draw Doubles Round Robin Play \nWING NIGHT AS WELL
URL:https://www.anguslegion499.ca/event/fun-darts/2026-12-18
CATEGORIES:Sports
END:VEVENT
BEGIN:VEVENT
DTSTART;TZID=America/Toronto:20261222T080000
DTEND;TZID=America/Toronto:20261222T170000
DTSTAMP:20260420T100424
CREATED:20260409T185637Z
LAST-MODIFIED:20260409T185637Z
UID:10001921-1797926400-1797958800@www.anguslegion499.ca
SUMMARY:Summer Fun Darts
DESCRIPTION:$5.00 \nBlind Draw \n 
URL:https://www.anguslegion499.ca/event/summer-fun-darts/2026-12-22
CATEGORIES:Sports
END:VEVENT
BEGIN:VEVENT
DTSTART;TZID=America/Toronto:20261223T140000
DTEND;TZID=America/Toronto:20261223T170000
DTSTAMP:20260420T100424
CREATED:20260305T220132Z
LAST-MODIFIED:20260305T220132Z
UID:10000343-1798034400-1798045200@www.anguslegion499.ca
SUMMARY:Bid Euchre-Upper Hall
DESCRIPTION:New Members Welcome
URL:https://www.anguslegion499.ca/event/bid-euchre-upper-hall/2026-12-23
CATEGORIES:Sports
END:VEVENT
BEGIN:VEVENT
DTSTART;TZID=America/Toronto:20261223T193000
DTEND;TZID=America/Toronto:20261223T220000
DTSTAMP:20260420T100424
CREATED:20260305T220650Z
LAST-MODIFIED:20260305T220650Z
UID:10000604-1798054200-1798063200@www.anguslegion499.ca
SUMMARY:Wednesday Dart League-Upper Hall
DESCRIPTION:Open \nBanquet at end of Season
URL:https://www.anguslegion499.ca/event/wednesday-dart-league-upper-hall/2026-12-23
CATEGORIES:Sports
END:VEVENT
BEGIN:VEVENT
DTSTART;TZID=America/Toronto:20261224T190000
DTEND;TZID=America/Toronto:20261224T220000
DTSTAMP:20260420T100424
CREATED:20260305T221008Z
LAST-MODIFIED:20260305T221008Z
UID:10000866-1798138800-1798149600@www.anguslegion499.ca
SUMMARY:Thursday Euchre-Upper Hall
DESCRIPTION:$5 \nBanquet
URL:https://www.anguslegion499.ca/event/thursday-euchre-upper-hall/2026-12-24
CATEGORIES:Sports
END:VEVENT
BEGIN:VEVENT
DTSTART;TZID=America/Toronto:20261229T080000
DTEND;TZID=America/Toronto:20261229T170000
DTSTAMP:20260420T100424
CREATED:20260409T185637Z
LAST-MODIFIED:20260409T185637Z
UID:10001922-1798531200-1798563600@www.anguslegion499.ca
SUMMARY:Summer Fun Darts
DESCRIPTION:$5.00 \nBlind Draw \n 
URL:https://www.anguslegion499.ca/event/summer-fun-darts/2026-12-29
CATEGORIES:Sports
END:VEVENT
BEGIN:VEVENT
DTSTART;TZID=America/Toronto:20261230T140000
DTEND;TZID=America/Toronto:20261230T170000
DTSTAMP:20260420T100424
CREATED:20260305T220132Z
LAST-MODIFIED:20260305T220132Z
UID:10000344-1798639200-1798650000@www.anguslegion499.ca
SUMMARY:Bid Euchre-Upper Hall
DESCRIPTION:New Members Welcome
URL:https://www.anguslegion499.ca/event/bid-euchre-upper-hall/2026-12-30
CATEGORIES:Sports
END:VEVENT
BEGIN:VEVENT
DTSTART;TZID=America/Toronto:20261230T193000
DTEND;TZID=America/Toronto:20261230T220000
DTSTAMP:20260420T100424
CREATED:20260305T220650Z
LAST-MODIFIED:20260305T220650Z
UID:10000605-1798659000-1798668000@www.anguslegion499.ca
SUMMARY:Wednesday Dart League-Upper Hall
DESCRIPTION:Open \nBanquet at end of Season
URL:https://www.anguslegion499.ca/event/wednesday-dart-league-upper-hall/2026-12-30
CATEGORIES:Sports
END:VEVENT
BEGIN:VEVENT
DTSTART;TZID=America/Toronto:20261231T190000
DTEND;TZID=America/Toronto:20261231T220000
DTSTAMP:20260420T100424
CREATED:20260305T221008Z
LAST-MODIFIED:20260305T221008Z
UID:10000867-1798743600-1798754400@www.anguslegion499.ca
SUMMARY:Thursday Euchre-Upper Hall
DESCRIPTION:$5 \nBanquet
URL:https://www.anguslegion499.ca/event/thursday-euchre-upper-hall/2026-12-31
CATEGORIES:Sports
END:VEVENT
END:VCALENDAR