BEGIN:VCALENDAR
VERSION:2.0
PRODID:-//Royal Canadian Legion Branch 499 (Angus) - ECPv6.15.17//NONSGML v1.0//EN
CALSCALE:GREGORIAN
METHOD:PUBLISH
X-WR-CALNAME:Royal Canadian Legion Branch 499 (Angus)
X-ORIGINAL-URL:https://www.anguslegion499.ca
X-WR-CALDESC:Events for Royal Canadian Legion Branch 499 (Angus)
REFRESH-INTERVAL;VALUE=DURATION:PT1H
X-Robots-Tag:noindex
X-PUBLISHED-TTL:PT1H
BEGIN:VTIMEZONE
TZID:America/Toronto
BEGIN:DAYLIGHT
TZOFFSETFROM:-0500
TZOFFSETTO:-0400
TZNAME:EDT
DTSTART:20260308T070000
END:DAYLIGHT
BEGIN:STANDARD
TZOFFSETFROM:-0400
TZOFFSETTO:-0500
TZNAME:EST
DTSTART:20261101T060000
END:STANDARD
BEGIN:DAYLIGHT
TZOFFSETFROM:-0500
TZOFFSETTO:-0400
TZNAME:EDT
DTSTART:20270314T070000
END:DAYLIGHT
BEGIN:STANDARD
TZOFFSETFROM:-0400
TZOFFSETTO:-0500
TZNAME:EST
DTSTART:20271107T060000
END:STANDARD
BEGIN:DAYLIGHT
TZOFFSETFROM:-0500
TZOFFSETTO:-0400
TZNAME:EDT
DTSTART:20280312T070000
END:DAYLIGHT
BEGIN:STANDARD
TZOFFSETFROM:-0400
TZOFFSETTO:-0500
TZNAME:EST
DTSTART:20281105T060000
END:STANDARD
END:VTIMEZONE
BEGIN:VEVENT
DTSTART;TZID=America/Toronto:20270302T080000
DTEND;TZID=America/Toronto:20270302T170000
DTSTAMP:20260420T134446
CREATED:20260409T185637Z
LAST-MODIFIED:20260409T185637Z
UID:10001931-1803974400-1804006800@www.anguslegion499.ca
SUMMARY:Summer Fun Darts
DESCRIPTION:$5.00 \nBlind Draw \n 
URL:https://www.anguslegion499.ca/event/summer-fun-darts/2027-03-02
CATEGORIES:Sports
END:VEVENT
BEGIN:VEVENT
DTSTART;TZID=America/Toronto:20270303T140000
DTEND;TZID=America/Toronto:20270303T170000
DTSTAMP:20260420T134446
CREATED:20260305T220132Z
LAST-MODIFIED:20260305T220132Z
UID:10000353-1804082400-1804093200@www.anguslegion499.ca
SUMMARY:Bid Euchre-Upper Hall
DESCRIPTION:New Members Welcome
URL:https://www.anguslegion499.ca/event/bid-euchre-upper-hall/2027-03-03
CATEGORIES:Sports
END:VEVENT
BEGIN:VEVENT
DTSTART;TZID=America/Toronto:20270303T193000
DTEND;TZID=America/Toronto:20270303T220000
DTSTAMP:20260420T134446
CREATED:20260305T220650Z
LAST-MODIFIED:20260305T220650Z
UID:10000614-1804102200-1804111200@www.anguslegion499.ca
SUMMARY:Wednesday Dart League-Upper Hall
DESCRIPTION:Open \nBanquet at end of Season
URL:https://www.anguslegion499.ca/event/wednesday-dart-league-upper-hall/2027-03-03
CATEGORIES:Sports
END:VEVENT
BEGIN:VEVENT
DTSTART;TZID=America/Toronto:20270304T190000
DTEND;TZID=America/Toronto:20270304T220000
DTSTAMP:20260420T134446
CREATED:20260305T221008Z
LAST-MODIFIED:20260305T221008Z
UID:10000876-1804186800-1804197600@www.anguslegion499.ca
SUMMARY:Thursday Euchre-Upper Hall
DESCRIPTION:$5 \nBanquet
URL:https://www.anguslegion499.ca/event/thursday-euchre-upper-hall/2027-03-04
CATEGORIES:Sports
END:VEVENT
BEGIN:VEVENT
DTSTART;TZID=America/Toronto:20270309T080000
DTEND;TZID=America/Toronto:20270309T170000
DTSTAMP:20260420T134446
CREATED:20260409T185637Z
LAST-MODIFIED:20260409T185637Z
UID:10001932-1804579200-1804611600@www.anguslegion499.ca
SUMMARY:Summer Fun Darts
DESCRIPTION:$5.00 \nBlind Draw \n 
URL:https://www.anguslegion499.ca/event/summer-fun-darts/2027-03-09
CATEGORIES:Sports
END:VEVENT
BEGIN:VEVENT
DTSTART;TZID=America/Toronto:20270310T140000
DTEND;TZID=America/Toronto:20270310T170000
DTSTAMP:20260420T134446
CREATED:20260305T220132Z
LAST-MODIFIED:20260305T220132Z
UID:10000354-1804687200-1804698000@www.anguslegion499.ca
SUMMARY:Bid Euchre-Upper Hall
DESCRIPTION:New Members Welcome
URL:https://www.anguslegion499.ca/event/bid-euchre-upper-hall/2027-03-10
CATEGORIES:Sports
END:VEVENT
BEGIN:VEVENT
DTSTART;TZID=America/Toronto:20270310T193000
DTEND;TZID=America/Toronto:20270310T220000
DTSTAMP:20260420T134446
CREATED:20260305T220650Z
LAST-MODIFIED:20260305T220650Z
UID:10000615-1804707000-1804716000@www.anguslegion499.ca
SUMMARY:Wednesday Dart League-Upper Hall
DESCRIPTION:Open \nBanquet at end of Season
URL:https://www.anguslegion499.ca/event/wednesday-dart-league-upper-hall/2027-03-10
CATEGORIES:Sports
END:VEVENT
BEGIN:VEVENT
DTSTART;TZID=America/Toronto:20270311T190000
DTEND;TZID=America/Toronto:20270311T220000
DTSTAMP:20260420T134446
CREATED:20260305T221008Z
LAST-MODIFIED:20260305T221008Z
UID:10000877-1804791600-1804802400@www.anguslegion499.ca
SUMMARY:Thursday Euchre-Upper Hall
DESCRIPTION:$5 \nBanquet
URL:https://www.anguslegion499.ca/event/thursday-euchre-upper-hall/2027-03-11
CATEGORIES:Sports
END:VEVENT
BEGIN:VEVENT
DTSTART;TZID=America/Toronto:20270314T130000
DTEND;TZID=America/Toronto:20270314T160000
DTSTAMP:20260420T134446
CREATED:20260305T131539Z
LAST-MODIFIED:20260324T180559Z
UID:10001228-1805029200-1805040000@www.anguslegion499.ca
SUMMARY:Recurring Rental-Lower Hall
DESCRIPTION:Private Meeting
URL:https://www.anguslegion499.ca/event/recurring-rental/2027-03-14
CATEGORIES:Booked Rooms
END:VEVENT
BEGIN:VEVENT
DTSTART;TZID=America/Toronto:20270316T080000
DTEND;TZID=America/Toronto:20270316T170000
DTSTAMP:20260420T134446
CREATED:20260409T185637Z
LAST-MODIFIED:20260409T185637Z
UID:10001933-1805184000-1805216400@www.anguslegion499.ca
SUMMARY:Summer Fun Darts
DESCRIPTION:$5.00 \nBlind Draw \n 
URL:https://www.anguslegion499.ca/event/summer-fun-darts/2027-03-16
CATEGORIES:Sports
END:VEVENT
BEGIN:VEVENT
DTSTART;TZID=America/Toronto:20270317T140000
DTEND;TZID=America/Toronto:20270317T170000
DTSTAMP:20260420T134446
CREATED:20260305T220132Z
LAST-MODIFIED:20260305T220132Z
UID:10000355-1805292000-1805302800@www.anguslegion499.ca
SUMMARY:Bid Euchre-Upper Hall
DESCRIPTION:New Members Welcome
URL:https://www.anguslegion499.ca/event/bid-euchre-upper-hall/2027-03-17
CATEGORIES:Sports
END:VEVENT
BEGIN:VEVENT
DTSTART;TZID=America/Toronto:20270317T193000
DTEND;TZID=America/Toronto:20270317T220000
DTSTAMP:20260420T134446
CREATED:20260305T220650Z
LAST-MODIFIED:20260305T220650Z
UID:10000616-1805311800-1805320800@www.anguslegion499.ca
SUMMARY:Wednesday Dart League-Upper Hall
DESCRIPTION:Open \nBanquet at end of Season
URL:https://www.anguslegion499.ca/event/wednesday-dart-league-upper-hall/2027-03-17
CATEGORIES:Sports
END:VEVENT
BEGIN:VEVENT
DTSTART;TZID=America/Toronto:20270318T190000
DTEND;TZID=America/Toronto:20270318T220000
DTSTAMP:20260420T134446
CREATED:20260305T221008Z
LAST-MODIFIED:20260305T221008Z
UID:10000878-1805396400-1805407200@www.anguslegion499.ca
SUMMARY:Thursday Euchre-Upper Hall
DESCRIPTION:$5 \nBanquet
URL:https://www.anguslegion499.ca/event/thursday-euchre-upper-hall/2027-03-18
CATEGORIES:Sports
END:VEVENT
BEGIN:VEVENT
DTSTART;TZID=America/Toronto:20270319T183000
DTEND;TZID=America/Toronto:20270319T220000
DTSTAMP:20260420T134446
CREATED:20260305T210655Z
LAST-MODIFIED:20260329T202711Z
UID:10000294-1805481000-1805493600@www.anguslegion499.ca
SUMMARY:Fun Darts
DESCRIPTION:$5 Upstairs Hall \nRegistration 6:00 Play starts at 7:00pm \nBlind Draw Doubles Round Robin Play \nWING NIGHT AS WELL
URL:https://www.anguslegion499.ca/event/fun-darts/2027-03-19
CATEGORIES:Sports
END:VEVENT
BEGIN:VEVENT
DTSTART;TZID=America/Toronto:20270323T080000
DTEND;TZID=America/Toronto:20270323T170000
DTSTAMP:20260420T134446
CREATED:20260409T185637Z
LAST-MODIFIED:20260409T185637Z
UID:10001934-1805788800-1805821200@www.anguslegion499.ca
SUMMARY:Summer Fun Darts
DESCRIPTION:$5.00 \nBlind Draw \n 
URL:https://www.anguslegion499.ca/event/summer-fun-darts/2027-03-23
CATEGORIES:Sports
END:VEVENT
BEGIN:VEVENT
DTSTART;TZID=America/Toronto:20270324T140000
DTEND;TZID=America/Toronto:20270324T170000
DTSTAMP:20260420T134446
CREATED:20260305T220132Z
LAST-MODIFIED:20260305T220132Z
UID:10000356-1805896800-1805907600@www.anguslegion499.ca
SUMMARY:Bid Euchre-Upper Hall
DESCRIPTION:New Members Welcome
URL:https://www.anguslegion499.ca/event/bid-euchre-upper-hall/2027-03-24
CATEGORIES:Sports
END:VEVENT
BEGIN:VEVENT
DTSTART;TZID=America/Toronto:20270324T193000
DTEND;TZID=America/Toronto:20270324T220000
DTSTAMP:20260420T134446
CREATED:20260305T220650Z
LAST-MODIFIED:20260305T220650Z
UID:10000617-1805916600-1805925600@www.anguslegion499.ca
SUMMARY:Wednesday Dart League-Upper Hall
DESCRIPTION:Open \nBanquet at end of Season
URL:https://www.anguslegion499.ca/event/wednesday-dart-league-upper-hall/2027-03-24
CATEGORIES:Sports
END:VEVENT
BEGIN:VEVENT
DTSTART;TZID=America/Toronto:20270325T190000
DTEND;TZID=America/Toronto:20270325T220000
DTSTAMP:20260420T134446
CREATED:20260305T221008Z
LAST-MODIFIED:20260305T221008Z
UID:10000879-1806001200-1806012000@www.anguslegion499.ca
SUMMARY:Thursday Euchre-Upper Hall
DESCRIPTION:$5 \nBanquet
URL:https://www.anguslegion499.ca/event/thursday-euchre-upper-hall/2027-03-25
CATEGORIES:Sports
END:VEVENT
BEGIN:VEVENT
DTSTART;TZID=America/Toronto:20270330T080000
DTEND;TZID=America/Toronto:20270330T170000
DTSTAMP:20260420T134446
CREATED:20260409T185637Z
LAST-MODIFIED:20260409T185637Z
UID:10001935-1806393600-1806426000@www.anguslegion499.ca
SUMMARY:Summer Fun Darts
DESCRIPTION:$5.00 \nBlind Draw \n 
URL:https://www.anguslegion499.ca/event/summer-fun-darts/2027-03-30
CATEGORIES:Sports
END:VEVENT
BEGIN:VEVENT
DTSTART;TZID=America/Toronto:20270331T140000
DTEND;TZID=America/Toronto:20270331T170000
DTSTAMP:20260420T134446
CREATED:20260305T220132Z
LAST-MODIFIED:20260305T220132Z
UID:10000357-1806501600-1806512400@www.anguslegion499.ca
SUMMARY:Bid Euchre-Upper Hall
DESCRIPTION:New Members Welcome
URL:https://www.anguslegion499.ca/event/bid-euchre-upper-hall/2027-03-31
CATEGORIES:Sports
END:VEVENT
BEGIN:VEVENT
DTSTART;TZID=America/Toronto:20270331T193000
DTEND;TZID=America/Toronto:20270331T220000
DTSTAMP:20260420T134446
CREATED:20260305T220650Z
LAST-MODIFIED:20260305T220650Z
UID:10000618-1806521400-1806530400@www.anguslegion499.ca
SUMMARY:Wednesday Dart League-Upper Hall
DESCRIPTION:Open \nBanquet at end of Season
URL:https://www.anguslegion499.ca/event/wednesday-dart-league-upper-hall/2027-03-31
CATEGORIES:Sports
END:VEVENT
END:VCALENDAR