BEGIN:VCALENDAR
VERSION:2.0
PRODID:-//Royal Canadian Legion Branch 499 (Angus) - ECPv6.15.17//NONSGML v1.0//EN
CALSCALE:GREGORIAN
METHOD:PUBLISH
X-ORIGINAL-URL:https://www.anguslegion499.ca
X-WR-CALDESC:Events for Royal Canadian Legion Branch 499 (Angus)
REFRESH-INTERVAL;VALUE=DURATION:PT1H
X-Robots-Tag:noindex
X-PUBLISHED-TTL:PT1H
BEGIN:VTIMEZONE
TZID:America/Toronto
BEGIN:DAYLIGHT
TZOFFSETFROM:-0500
TZOFFSETTO:-0400
TZNAME:EDT
DTSTART:20260308T070000
END:DAYLIGHT
BEGIN:STANDARD
TZOFFSETFROM:-0400
TZOFFSETTO:-0500
TZNAME:EST
DTSTART:20261101T060000
END:STANDARD
BEGIN:DAYLIGHT
TZOFFSETFROM:-0500
TZOFFSETTO:-0400
TZNAME:EDT
DTSTART:20270314T070000
END:DAYLIGHT
BEGIN:STANDARD
TZOFFSETFROM:-0400
TZOFFSETTO:-0500
TZNAME:EST
DTSTART:20271107T060000
END:STANDARD
BEGIN:DAYLIGHT
TZOFFSETFROM:-0500
TZOFFSETTO:-0400
TZNAME:EDT
DTSTART:20280312T070000
END:DAYLIGHT
BEGIN:STANDARD
TZOFFSETFROM:-0400
TZOFFSETTO:-0500
TZNAME:EST
DTSTART:20281105T060000
END:STANDARD
END:VTIMEZONE
BEGIN:VEVENT
DTSTART;TZID=America/Toronto:20270401T190000
DTEND;TZID=America/Toronto:20270401T220000
DTSTAMP:20260420T145531
CREATED:20260305T221008Z
LAST-MODIFIED:20260305T221008Z
UID:10000880-1806606000-1806616800@www.anguslegion499.ca
SUMMARY:Thursday Euchre-Upper Hall
DESCRIPTION:$5 \nBanquet
URL:https://www.anguslegion499.ca/event/thursday-euchre-upper-hall/2027-04-01
CATEGORIES:Sports
END:VEVENT
BEGIN:VEVENT
DTSTART;TZID=America/Toronto:20270406T080000
DTEND;TZID=America/Toronto:20270406T170000
DTSTAMP:20260420T145531
CREATED:20260409T185637Z
LAST-MODIFIED:20260409T185637Z
UID:10001936-1806998400-1807030800@www.anguslegion499.ca
SUMMARY:Summer Fun Darts
DESCRIPTION:$5.00 \nBlind Draw \n 
URL:https://www.anguslegion499.ca/event/summer-fun-darts/2027-04-06
CATEGORIES:Sports
END:VEVENT
BEGIN:VEVENT
DTSTART;TZID=America/Toronto:20270407T140000
DTEND;TZID=America/Toronto:20270407T170000
DTSTAMP:20260420T145531
CREATED:20260305T220132Z
LAST-MODIFIED:20260305T220132Z
UID:10000358-1807106400-1807117200@www.anguslegion499.ca
SUMMARY:Bid Euchre-Upper Hall
DESCRIPTION:New Members Welcome
URL:https://www.anguslegion499.ca/event/bid-euchre-upper-hall/2027-04-07
CATEGORIES:Sports
END:VEVENT
BEGIN:VEVENT
DTSTART;TZID=America/Toronto:20270407T193000
DTEND;TZID=America/Toronto:20270407T220000
DTSTAMP:20260420T145531
CREATED:20260305T220650Z
LAST-MODIFIED:20260305T220650Z
UID:10000619-1807126200-1807135200@www.anguslegion499.ca
SUMMARY:Wednesday Dart League-Upper Hall
DESCRIPTION:Open \nBanquet at end of Season
URL:https://www.anguslegion499.ca/event/wednesday-dart-league-upper-hall/2027-04-07
CATEGORIES:Sports
END:VEVENT
BEGIN:VEVENT
DTSTART;TZID=America/Toronto:20270408T190000
DTEND;TZID=America/Toronto:20270408T220000
DTSTAMP:20260420T145531
CREATED:20260305T221008Z
LAST-MODIFIED:20260305T221008Z
UID:10000881-1807210800-1807221600@www.anguslegion499.ca
SUMMARY:Thursday Euchre-Upper Hall
DESCRIPTION:$5 \nBanquet
URL:https://www.anguslegion499.ca/event/thursday-euchre-upper-hall/2027-04-08
CATEGORIES:Sports
END:VEVENT
BEGIN:VEVENT
DTSTART;TZID=America/Toronto:20270411T130000
DTEND;TZID=America/Toronto:20270411T160000
DTSTAMP:20260420T145531
CREATED:20260305T131539Z
LAST-MODIFIED:20260324T180559Z
UID:10001229-1807448400-1807459200@www.anguslegion499.ca
SUMMARY:Recurring Rental-Lower Hall
DESCRIPTION:Private Meeting
URL:https://www.anguslegion499.ca/event/recurring-rental/2027-04-11
CATEGORIES:Booked Rooms
END:VEVENT
BEGIN:VEVENT
DTSTART;TZID=America/Toronto:20270413T080000
DTEND;TZID=America/Toronto:20270413T170000
DTSTAMP:20260420T145531
CREATED:20260409T185637Z
LAST-MODIFIED:20260409T185637Z
UID:10001937-1807603200-1807635600@www.anguslegion499.ca
SUMMARY:Summer Fun Darts
DESCRIPTION:$5.00 \nBlind Draw \n 
URL:https://www.anguslegion499.ca/event/summer-fun-darts/2027-04-13
CATEGORIES:Sports
END:VEVENT
BEGIN:VEVENT
DTSTART;TZID=America/Toronto:20270414T140000
DTEND;TZID=America/Toronto:20270414T170000
DTSTAMP:20260420T145531
CREATED:20260305T220132Z
LAST-MODIFIED:20260305T220132Z
UID:10000359-1807711200-1807722000@www.anguslegion499.ca
SUMMARY:Bid Euchre-Upper Hall
DESCRIPTION:New Members Welcome
URL:https://www.anguslegion499.ca/event/bid-euchre-upper-hall/2027-04-14
CATEGORIES:Sports
END:VEVENT
BEGIN:VEVENT
DTSTART;TZID=America/Toronto:20270414T193000
DTEND;TZID=America/Toronto:20270414T220000
DTSTAMP:20260420T145531
CREATED:20260305T220650Z
LAST-MODIFIED:20260305T220650Z
UID:10000620-1807731000-1807740000@www.anguslegion499.ca
SUMMARY:Wednesday Dart League-Upper Hall
DESCRIPTION:Open \nBanquet at end of Season
URL:https://www.anguslegion499.ca/event/wednesday-dart-league-upper-hall/2027-04-14
CATEGORIES:Sports
END:VEVENT
BEGIN:VEVENT
DTSTART;TZID=America/Toronto:20270415T190000
DTEND;TZID=America/Toronto:20270415T220000
DTSTAMP:20260420T145531
CREATED:20260305T221008Z
LAST-MODIFIED:20260305T221008Z
UID:10000882-1807815600-1807826400@www.anguslegion499.ca
SUMMARY:Thursday Euchre-Upper Hall
DESCRIPTION:$5 \nBanquet
URL:https://www.anguslegion499.ca/event/thursday-euchre-upper-hall/2027-04-15
CATEGORIES:Sports
END:VEVENT
BEGIN:VEVENT
DTSTART;TZID=America/Toronto:20270416T183000
DTEND;TZID=America/Toronto:20270416T220000
DTSTAMP:20260420T145531
CREATED:20260305T210655Z
LAST-MODIFIED:20260329T202711Z
UID:10000295-1807900200-1807912800@www.anguslegion499.ca
SUMMARY:Fun Darts
DESCRIPTION:$5 Upstairs Hall \nRegistration 6:00 Play starts at 7:00pm \nBlind Draw Doubles Round Robin Play \nWING NIGHT AS WELL
URL:https://www.anguslegion499.ca/event/fun-darts/2027-04-16
CATEGORIES:Sports
END:VEVENT
BEGIN:VEVENT
DTSTART;TZID=America/Toronto:20270418T120000
DTEND;TZID=America/Toronto:20270418T140000
DTSTAMP:20260420T145531
CREATED:20260324T182009Z
LAST-MODIFIED:20260324T182724Z
UID:10001281-1808049600-1808056800@www.anguslegion499.ca
SUMMARY:LEGION GENERAL MEETING
DESCRIPTION:Bring up to date Legion card \nSign in Required \nBar will be closed
URL:https://www.anguslegion499.ca/event/legion-general-meeting/2027-04-18
CATEGORIES:General Meeting
END:VEVENT
BEGIN:VEVENT
DTSTART;TZID=America/Toronto:20270420T080000
DTEND;TZID=America/Toronto:20270420T170000
DTSTAMP:20260420T145531
CREATED:20260409T185637Z
LAST-MODIFIED:20260409T185637Z
UID:10001938-1808208000-1808240400@www.anguslegion499.ca
SUMMARY:Summer Fun Darts
DESCRIPTION:$5.00 \nBlind Draw \n 
URL:https://www.anguslegion499.ca/event/summer-fun-darts/2027-04-20
CATEGORIES:Sports
END:VEVENT
BEGIN:VEVENT
DTSTART;TZID=America/Toronto:20270421T140000
DTEND;TZID=America/Toronto:20270421T170000
DTSTAMP:20260420T145531
CREATED:20260305T220132Z
LAST-MODIFIED:20260305T220132Z
UID:10000360-1808316000-1808326800@www.anguslegion499.ca
SUMMARY:Bid Euchre-Upper Hall
DESCRIPTION:New Members Welcome
URL:https://www.anguslegion499.ca/event/bid-euchre-upper-hall/2027-04-21
CATEGORIES:Sports
END:VEVENT
BEGIN:VEVENT
DTSTART;TZID=America/Toronto:20270421T193000
DTEND;TZID=America/Toronto:20270421T220000
DTSTAMP:20260420T145531
CREATED:20260305T220650Z
LAST-MODIFIED:20260305T220650Z
UID:10000621-1808335800-1808344800@www.anguslegion499.ca
SUMMARY:Wednesday Dart League-Upper Hall
DESCRIPTION:Open \nBanquet at end of Season
URL:https://www.anguslegion499.ca/event/wednesday-dart-league-upper-hall/2027-04-21
CATEGORIES:Sports
END:VEVENT
BEGIN:VEVENT
DTSTART;TZID=America/Toronto:20270422T190000
DTEND;TZID=America/Toronto:20270422T220000
DTSTAMP:20260420T145531
CREATED:20260305T221008Z
LAST-MODIFIED:20260305T221008Z
UID:10000883-1808420400-1808431200@www.anguslegion499.ca
SUMMARY:Thursday Euchre-Upper Hall
DESCRIPTION:$5 \nBanquet
URL:https://www.anguslegion499.ca/event/thursday-euchre-upper-hall/2027-04-22
CATEGORIES:Sports
END:VEVENT
BEGIN:VEVENT
DTSTART;TZID=America/Toronto:20270427T080000
DTEND;TZID=America/Toronto:20270427T170000
DTSTAMP:20260420T145531
CREATED:20260409T185637Z
LAST-MODIFIED:20260409T185637Z
UID:10001939-1808812800-1808845200@www.anguslegion499.ca
SUMMARY:Summer Fun Darts
DESCRIPTION:$5.00 \nBlind Draw \n 
URL:https://www.anguslegion499.ca/event/summer-fun-darts/2027-04-27
CATEGORIES:Sports
END:VEVENT
BEGIN:VEVENT
DTSTART;TZID=America/Toronto:20270428T140000
DTEND;TZID=America/Toronto:20270428T170000
DTSTAMP:20260420T145531
CREATED:20260305T220132Z
LAST-MODIFIED:20260305T220132Z
UID:10000361-1808920800-1808931600@www.anguslegion499.ca
SUMMARY:Bid Euchre-Upper Hall
DESCRIPTION:New Members Welcome
URL:https://www.anguslegion499.ca/event/bid-euchre-upper-hall/2027-04-28
CATEGORIES:Sports
END:VEVENT
BEGIN:VEVENT
DTSTART;TZID=America/Toronto:20270428T193000
DTEND;TZID=America/Toronto:20270428T220000
DTSTAMP:20260420T145531
CREATED:20260305T220650Z
LAST-MODIFIED:20260305T220650Z
UID:10000622-1808940600-1808949600@www.anguslegion499.ca
SUMMARY:Wednesday Dart League-Upper Hall
DESCRIPTION:Open \nBanquet at end of Season
URL:https://www.anguslegion499.ca/event/wednesday-dart-league-upper-hall/2027-04-28
CATEGORIES:Sports
END:VEVENT
BEGIN:VEVENT
DTSTART;TZID=America/Toronto:20270429T190000
DTEND;TZID=America/Toronto:20270429T220000
DTSTAMP:20260420T145531
CREATED:20260305T221008Z
LAST-MODIFIED:20260305T221008Z
UID:10000884-1809025200-1809036000@www.anguslegion499.ca
SUMMARY:Thursday Euchre-Upper Hall
DESCRIPTION:$5 \nBanquet
URL:https://www.anguslegion499.ca/event/thursday-euchre-upper-hall/2027-04-29
CATEGORIES:Sports
END:VEVENT
END:VCALENDAR