BEGIN:VCALENDAR
VERSION:2.0
PRODID:-//Royal Canadian Legion Branch 499 (Angus) - ECPv6.15.17//NONSGML v1.0//EN
CALSCALE:GREGORIAN
METHOD:PUBLISH
X-WR-CALNAME:Royal Canadian Legion Branch 499 (Angus)
X-ORIGINAL-URL:https://www.anguslegion499.ca
X-WR-CALDESC:Events for Royal Canadian Legion Branch 499 (Angus)
REFRESH-INTERVAL;VALUE=DURATION:PT1H
X-Robots-Tag:noindex
X-PUBLISHED-TTL:PT1H
BEGIN:VTIMEZONE
TZID:America/Toronto
BEGIN:DAYLIGHT
TZOFFSETFROM:-0500
TZOFFSETTO:-0400
TZNAME:EDT
DTSTART:20260308T070000
END:DAYLIGHT
BEGIN:STANDARD
TZOFFSETFROM:-0400
TZOFFSETTO:-0500
TZNAME:EST
DTSTART:20261101T060000
END:STANDARD
BEGIN:DAYLIGHT
TZOFFSETFROM:-0500
TZOFFSETTO:-0400
TZNAME:EDT
DTSTART:20270314T070000
END:DAYLIGHT
BEGIN:STANDARD
TZOFFSETFROM:-0400
TZOFFSETTO:-0500
TZNAME:EST
DTSTART:20271107T060000
END:STANDARD
BEGIN:DAYLIGHT
TZOFFSETFROM:-0500
TZOFFSETTO:-0400
TZNAME:EDT
DTSTART:20280312T070000
END:DAYLIGHT
BEGIN:STANDARD
TZOFFSETFROM:-0400
TZOFFSETTO:-0500
TZNAME:EST
DTSTART:20281105T060000
END:STANDARD
END:VTIMEZONE
BEGIN:VEVENT
DTSTART;TZID=America/Toronto:20270901T140000
DTEND;TZID=America/Toronto:20270901T170000
DTSTAMP:20260420T205245
CREATED:20260305T220132Z
LAST-MODIFIED:20260305T220132Z
UID:10000379-1819807200-1819818000@www.anguslegion499.ca
SUMMARY:Bid Euchre-Upper Hall
DESCRIPTION:New Members Welcome
URL:https://www.anguslegion499.ca/event/bid-euchre-upper-hall/2027-09-01
CATEGORIES:Sports
END:VEVENT
BEGIN:VEVENT
DTSTART;TZID=America/Toronto:20270901T193000
DTEND;TZID=America/Toronto:20270901T220000
DTSTAMP:20260420T205245
CREATED:20260305T220650Z
LAST-MODIFIED:20260305T220650Z
UID:10000640-1819827000-1819836000@www.anguslegion499.ca
SUMMARY:Wednesday Dart League-Upper Hall
DESCRIPTION:Open \nBanquet at end of Season
URL:https://www.anguslegion499.ca/event/wednesday-dart-league-upper-hall/2027-09-01
CATEGORIES:Sports
END:VEVENT
BEGIN:VEVENT
DTSTART;TZID=America/Toronto:20270902T190000
DTEND;TZID=America/Toronto:20270902T220000
DTSTAMP:20260420T205245
CREATED:20260305T221008Z
LAST-MODIFIED:20260305T221008Z
UID:10000902-1819911600-1819922400@www.anguslegion499.ca
SUMMARY:Thursday Euchre-Upper Hall
DESCRIPTION:$5 \nBanquet
URL:https://www.anguslegion499.ca/event/thursday-euchre-upper-hall/2027-09-02
CATEGORIES:Sports
END:VEVENT
BEGIN:VEVENT
DTSTART;TZID=America/Toronto:20270908T140000
DTEND;TZID=America/Toronto:20270908T170000
DTSTAMP:20260420T205245
CREATED:20260305T220132Z
LAST-MODIFIED:20260305T220132Z
UID:10000380-1820412000-1820422800@www.anguslegion499.ca
SUMMARY:Bid Euchre-Upper Hall
DESCRIPTION:New Members Welcome
URL:https://www.anguslegion499.ca/event/bid-euchre-upper-hall/2027-09-08
CATEGORIES:Sports
END:VEVENT
BEGIN:VEVENT
DTSTART;TZID=America/Toronto:20270908T193000
DTEND;TZID=America/Toronto:20270908T220000
DTSTAMP:20260420T205245
CREATED:20260305T220650Z
LAST-MODIFIED:20260305T220650Z
UID:10000641-1820431800-1820440800@www.anguslegion499.ca
SUMMARY:Wednesday Dart League-Upper Hall
DESCRIPTION:Open \nBanquet at end of Season
URL:https://www.anguslegion499.ca/event/wednesday-dart-league-upper-hall/2027-09-08
CATEGORIES:Sports
END:VEVENT
BEGIN:VEVENT
DTSTART;TZID=America/Toronto:20270909T190000
DTEND;TZID=America/Toronto:20270909T220000
DTSTAMP:20260420T205245
CREATED:20260305T221008Z
LAST-MODIFIED:20260305T221008Z
UID:10000903-1820516400-1820527200@www.anguslegion499.ca
SUMMARY:Thursday Euchre-Upper Hall
DESCRIPTION:$5 \nBanquet
URL:https://www.anguslegion499.ca/event/thursday-euchre-upper-hall/2027-09-09
CATEGORIES:Sports
END:VEVENT
BEGIN:VEVENT
DTSTART;TZID=America/Toronto:20270912T130000
DTEND;TZID=America/Toronto:20270912T160000
DTSTAMP:20260420T205245
CREATED:20260305T131539Z
LAST-MODIFIED:20260324T180559Z
UID:10001234-1820754000-1820764800@www.anguslegion499.ca
SUMMARY:Recurring Rental-Lower Hall
DESCRIPTION:Private Meeting
URL:https://www.anguslegion499.ca/event/recurring-rental/2027-09-12
CATEGORIES:Booked Rooms
END:VEVENT
BEGIN:VEVENT
DTSTART;TZID=America/Toronto:20270915T140000
DTEND;TZID=America/Toronto:20270915T170000
DTSTAMP:20260420T205245
CREATED:20260305T220132Z
LAST-MODIFIED:20260305T220132Z
UID:10000381-1821016800-1821027600@www.anguslegion499.ca
SUMMARY:Bid Euchre-Upper Hall
DESCRIPTION:New Members Welcome
URL:https://www.anguslegion499.ca/event/bid-euchre-upper-hall/2027-09-15
CATEGORIES:Sports
END:VEVENT
BEGIN:VEVENT
DTSTART;TZID=America/Toronto:20270915T193000
DTEND;TZID=America/Toronto:20270915T220000
DTSTAMP:20260420T205245
CREATED:20260305T220650Z
LAST-MODIFIED:20260305T220650Z
UID:10000642-1821036600-1821045600@www.anguslegion499.ca
SUMMARY:Wednesday Dart League-Upper Hall
DESCRIPTION:Open \nBanquet at end of Season
URL:https://www.anguslegion499.ca/event/wednesday-dart-league-upper-hall/2027-09-15
CATEGORIES:Sports
END:VEVENT
BEGIN:VEVENT
DTSTART;TZID=America/Toronto:20270916T190000
DTEND;TZID=America/Toronto:20270916T220000
DTSTAMP:20260420T205245
CREATED:20260305T221008Z
LAST-MODIFIED:20260305T221008Z
UID:10000904-1821121200-1821132000@www.anguslegion499.ca
SUMMARY:Thursday Euchre-Upper Hall
DESCRIPTION:$5 \nBanquet
URL:https://www.anguslegion499.ca/event/thursday-euchre-upper-hall/2027-09-16
CATEGORIES:Sports
END:VEVENT
BEGIN:VEVENT
DTSTART;TZID=America/Toronto:20270922T140000
DTEND;TZID=America/Toronto:20270922T170000
DTSTAMP:20260420T205245
CREATED:20260305T220132Z
LAST-MODIFIED:20260305T220132Z
UID:10000382-1821621600-1821632400@www.anguslegion499.ca
SUMMARY:Bid Euchre-Upper Hall
DESCRIPTION:New Members Welcome
URL:https://www.anguslegion499.ca/event/bid-euchre-upper-hall/2027-09-22
CATEGORIES:Sports
END:VEVENT
BEGIN:VEVENT
DTSTART;TZID=America/Toronto:20270922T193000
DTEND;TZID=America/Toronto:20270922T220000
DTSTAMP:20260420T205245
CREATED:20260305T220650Z
LAST-MODIFIED:20260305T220650Z
UID:10000643-1821641400-1821650400@www.anguslegion499.ca
SUMMARY:Wednesday Dart League-Upper Hall
DESCRIPTION:Open \nBanquet at end of Season
URL:https://www.anguslegion499.ca/event/wednesday-dart-league-upper-hall/2027-09-22
CATEGORIES:Sports
END:VEVENT
BEGIN:VEVENT
DTSTART;TZID=America/Toronto:20270923T190000
DTEND;TZID=America/Toronto:20270923T220000
DTSTAMP:20260420T205245
CREATED:20260305T221008Z
LAST-MODIFIED:20260305T221008Z
UID:10000905-1821726000-1821736800@www.anguslegion499.ca
SUMMARY:Thursday Euchre-Upper Hall
DESCRIPTION:$5 \nBanquet
URL:https://www.anguslegion499.ca/event/thursday-euchre-upper-hall/2027-09-23
CATEGORIES:Sports
END:VEVENT
BEGIN:VEVENT
DTSTART;TZID=America/Toronto:20270929T140000
DTEND;TZID=America/Toronto:20270929T170000
DTSTAMP:20260420T205245
CREATED:20260305T220132Z
LAST-MODIFIED:20260305T220132Z
UID:10000383-1822226400-1822237200@www.anguslegion499.ca
SUMMARY:Bid Euchre-Upper Hall
DESCRIPTION:New Members Welcome
URL:https://www.anguslegion499.ca/event/bid-euchre-upper-hall/2027-09-29
CATEGORIES:Sports
END:VEVENT
BEGIN:VEVENT
DTSTART;TZID=America/Toronto:20270929T193000
DTEND;TZID=America/Toronto:20270929T220000
DTSTAMP:20260420T205245
CREATED:20260305T220650Z
LAST-MODIFIED:20260305T220650Z
UID:10000644-1822246200-1822255200@www.anguslegion499.ca
SUMMARY:Wednesday Dart League-Upper Hall
DESCRIPTION:Open \nBanquet at end of Season
URL:https://www.anguslegion499.ca/event/wednesday-dart-league-upper-hall/2027-09-29
CATEGORIES:Sports
END:VEVENT
BEGIN:VEVENT
DTSTART;TZID=America/Toronto:20270930T190000
DTEND;TZID=America/Toronto:20270930T220000
DTSTAMP:20260420T205245
CREATED:20260305T221008Z
LAST-MODIFIED:20260305T221008Z
UID:10000906-1822330800-1822341600@www.anguslegion499.ca
SUMMARY:Thursday Euchre-Upper Hall
DESCRIPTION:$5 \nBanquet
URL:https://www.anguslegion499.ca/event/thursday-euchre-upper-hall/2027-09-30
CATEGORIES:Sports
END:VEVENT
END:VCALENDAR