BEGIN:VCALENDAR
VERSION:2.0
PRODID:-//Royal Canadian Legion Branch 499 (Angus) - ECPv6.15.17//NONSGML v1.0//EN
CALSCALE:GREGORIAN
METHOD:PUBLISH
X-ORIGINAL-URL:https://www.anguslegion499.ca
X-WR-CALDESC:Events for Royal Canadian Legion Branch 499 (Angus)
REFRESH-INTERVAL;VALUE=DURATION:PT1H
X-Robots-Tag:noindex
X-PUBLISHED-TTL:PT1H
BEGIN:VTIMEZONE
TZID:America/Toronto
BEGIN:DAYLIGHT
TZOFFSETFROM:-0500
TZOFFSETTO:-0400
TZNAME:EDT
DTSTART:20270314T070000
END:DAYLIGHT
BEGIN:STANDARD
TZOFFSETFROM:-0400
TZOFFSETTO:-0500
TZNAME:EST
DTSTART:20271107T060000
END:STANDARD
BEGIN:DAYLIGHT
TZOFFSETFROM:-0500
TZOFFSETTO:-0400
TZNAME:EDT
DTSTART:20280312T070000
END:DAYLIGHT
BEGIN:STANDARD
TZOFFSETFROM:-0400
TZOFFSETTO:-0500
TZNAME:EST
DTSTART:20281105T060000
END:STANDARD
BEGIN:DAYLIGHT
TZOFFSETFROM:-0500
TZOFFSETTO:-0400
TZNAME:EDT
DTSTART:20290311T070000
END:DAYLIGHT
BEGIN:STANDARD
TZOFFSETFROM:-0400
TZOFFSETTO:-0500
TZNAME:EST
DTSTART:20291104T060000
END:STANDARD
END:VTIMEZONE
BEGIN:VEVENT
DTSTART;TZID=America/Toronto:20281206T140000
DTEND;TZID=America/Toronto:20281206T170000
DTSTAMP:20260421T174029
CREATED:20260305T220132Z
LAST-MODIFIED:20260305T220132Z
UID:10000445-1859724000-1859734800@www.anguslegion499.ca
SUMMARY:Bid Euchre-Upper Hall
DESCRIPTION:New Members Welcome
URL:https://www.anguslegion499.ca/event/bid-euchre-upper-hall/2028-12-06
CATEGORIES:Sports
END:VEVENT
BEGIN:VEVENT
DTSTART;TZID=America/Toronto:20281206T193000
DTEND;TZID=America/Toronto:20281206T220000
DTSTAMP:20260421T174029
CREATED:20260305T220650Z
LAST-MODIFIED:20260305T220650Z
UID:10000706-1859743800-1859752800@www.anguslegion499.ca
SUMMARY:Wednesday Dart League-Upper Hall
DESCRIPTION:Open \nBanquet at end of Season
URL:https://www.anguslegion499.ca/event/wednesday-dart-league-upper-hall/2028-12-06
CATEGORIES:Sports
END:VEVENT
BEGIN:VEVENT
DTSTART;TZID=America/Toronto:20281207T190000
DTEND;TZID=America/Toronto:20281207T220000
DTSTAMP:20260421T174029
CREATED:20260305T221008Z
LAST-MODIFIED:20260305T221008Z
UID:10000968-1859828400-1859839200@www.anguslegion499.ca
SUMMARY:Thursday Euchre-Upper Hall
DESCRIPTION:$5 \nBanquet
URL:https://www.anguslegion499.ca/event/thursday-euchre-upper-hall/2028-12-07
CATEGORIES:Sports
END:VEVENT
BEGIN:VEVENT
DTSTART;TZID=America/Toronto:20281210T130000
DTEND;TZID=America/Toronto:20281210T160000
DTSTAMP:20260421T174029
CREATED:20260305T131539Z
LAST-MODIFIED:20260324T180559Z
UID:10001249-1860066000-1860076800@www.anguslegion499.ca
SUMMARY:Recurring Rental-Lower Hall
DESCRIPTION:Private Meeting
URL:https://www.anguslegion499.ca/event/recurring-rental/2028-12-10
CATEGORIES:Booked Rooms
END:VEVENT
BEGIN:VEVENT
DTSTART;TZID=America/Toronto:20281213T140000
DTEND;TZID=America/Toronto:20281213T170000
DTSTAMP:20260421T174029
CREATED:20260305T220132Z
LAST-MODIFIED:20260305T220132Z
UID:10000446-1860328800-1860339600@www.anguslegion499.ca
SUMMARY:Bid Euchre-Upper Hall
DESCRIPTION:New Members Welcome
URL:https://www.anguslegion499.ca/event/bid-euchre-upper-hall/2028-12-13
CATEGORIES:Sports
END:VEVENT
BEGIN:VEVENT
DTSTART;TZID=America/Toronto:20281213T193000
DTEND;TZID=America/Toronto:20281213T220000
DTSTAMP:20260421T174029
CREATED:20260305T220650Z
LAST-MODIFIED:20260305T220650Z
UID:10000707-1860348600-1860357600@www.anguslegion499.ca
SUMMARY:Wednesday Dart League-Upper Hall
DESCRIPTION:Open \nBanquet at end of Season
URL:https://www.anguslegion499.ca/event/wednesday-dart-league-upper-hall/2028-12-13
CATEGORIES:Sports
END:VEVENT
BEGIN:VEVENT
DTSTART;TZID=America/Toronto:20281214T190000
DTEND;TZID=America/Toronto:20281214T220000
DTSTAMP:20260421T174029
CREATED:20260305T221008Z
LAST-MODIFIED:20260305T221008Z
UID:10000969-1860433200-1860444000@www.anguslegion499.ca
SUMMARY:Thursday Euchre-Upper Hall
DESCRIPTION:$5 \nBanquet
URL:https://www.anguslegion499.ca/event/thursday-euchre-upper-hall/2028-12-14
CATEGORIES:Sports
END:VEVENT
BEGIN:VEVENT
DTSTART;TZID=America/Toronto:20281220T140000
DTEND;TZID=America/Toronto:20281220T170000
DTSTAMP:20260421T174029
CREATED:20260305T220132Z
LAST-MODIFIED:20260305T220132Z
UID:10000447-1860933600-1860944400@www.anguslegion499.ca
SUMMARY:Bid Euchre-Upper Hall
DESCRIPTION:New Members Welcome
URL:https://www.anguslegion499.ca/event/bid-euchre-upper-hall/2028-12-20
CATEGORIES:Sports
END:VEVENT
BEGIN:VEVENT
DTSTART;TZID=America/Toronto:20281220T193000
DTEND;TZID=America/Toronto:20281220T220000
DTSTAMP:20260421T174029
CREATED:20260305T220650Z
LAST-MODIFIED:20260305T220650Z
UID:10000708-1860953400-1860962400@www.anguslegion499.ca
SUMMARY:Wednesday Dart League-Upper Hall
DESCRIPTION:Open \nBanquet at end of Season
URL:https://www.anguslegion499.ca/event/wednesday-dart-league-upper-hall/2028-12-20
CATEGORIES:Sports
END:VEVENT
BEGIN:VEVENT
DTSTART;TZID=America/Toronto:20281221T190000
DTEND;TZID=America/Toronto:20281221T220000
DTSTAMP:20260421T174029
CREATED:20260305T221008Z
LAST-MODIFIED:20260305T221008Z
UID:10000970-1861038000-1861048800@www.anguslegion499.ca
SUMMARY:Thursday Euchre-Upper Hall
DESCRIPTION:$5 \nBanquet
URL:https://www.anguslegion499.ca/event/thursday-euchre-upper-hall/2028-12-21
CATEGORIES:Sports
END:VEVENT
BEGIN:VEVENT
DTSTART;TZID=America/Toronto:20281227T140000
DTEND;TZID=America/Toronto:20281227T170000
DTSTAMP:20260421T174029
CREATED:20260305T220132Z
LAST-MODIFIED:20260305T220132Z
UID:10000448-1861538400-1861549200@www.anguslegion499.ca
SUMMARY:Bid Euchre-Upper Hall
DESCRIPTION:New Members Welcome
URL:https://www.anguslegion499.ca/event/bid-euchre-upper-hall/2028-12-27
CATEGORIES:Sports
END:VEVENT
BEGIN:VEVENT
DTSTART;TZID=America/Toronto:20281227T193000
DTEND;TZID=America/Toronto:20281227T220000
DTSTAMP:20260421T174029
CREATED:20260305T220650Z
LAST-MODIFIED:20260305T220650Z
UID:10000709-1861558200-1861567200@www.anguslegion499.ca
SUMMARY:Wednesday Dart League-Upper Hall
DESCRIPTION:Open \nBanquet at end of Season
URL:https://www.anguslegion499.ca/event/wednesday-dart-league-upper-hall/2028-12-27
CATEGORIES:Sports
END:VEVENT
BEGIN:VEVENT
DTSTART;TZID=America/Toronto:20281228T190000
DTEND;TZID=America/Toronto:20281228T220000
DTSTAMP:20260421T174029
CREATED:20260305T221008Z
LAST-MODIFIED:20260305T221008Z
UID:10000971-1861642800-1861653600@www.anguslegion499.ca
SUMMARY:Thursday Euchre-Upper Hall
DESCRIPTION:$5 \nBanquet
URL:https://www.anguslegion499.ca/event/thursday-euchre-upper-hall/2028-12-28
CATEGORIES:Sports
END:VEVENT
END:VCALENDAR