BEGIN:VCALENDAR
VERSION:2.0
PRODID:-//Royal Canadian Legion Branch 499 (Angus) - ECPv6.15.17//NONSGML v1.0//EN
CALSCALE:GREGORIAN
METHOD:PUBLISH
X-ORIGINAL-URL:https://www.anguslegion499.ca
X-WR-CALDESC:Events for Royal Canadian Legion Branch 499 (Angus)
REFRESH-INTERVAL;VALUE=DURATION:PT1H
X-Robots-Tag:noindex
X-PUBLISHED-TTL:PT1H
BEGIN:VTIMEZONE
TZID:America/Toronto
BEGIN:DAYLIGHT
TZOFFSETFROM:-0500
TZOFFSETTO:-0400
TZNAME:EDT
DTSTART:20280312T070000
END:DAYLIGHT
BEGIN:STANDARD
TZOFFSETFROM:-0400
TZOFFSETTO:-0500
TZNAME:EST
DTSTART:20281105T060000
END:STANDARD
BEGIN:DAYLIGHT
TZOFFSETFROM:-0500
TZOFFSETTO:-0400
TZNAME:EDT
DTSTART:20290311T070000
END:DAYLIGHT
BEGIN:STANDARD
TZOFFSETFROM:-0400
TZOFFSETTO:-0500
TZNAME:EST
DTSTART:20291104T060000
END:STANDARD
BEGIN:DAYLIGHT
TZOFFSETFROM:-0500
TZOFFSETTO:-0400
TZNAME:EDT
DTSTART:20300310T070000
END:DAYLIGHT
BEGIN:STANDARD
TZOFFSETFROM:-0400
TZOFFSETTO:-0500
TZNAME:EST
DTSTART:20301103T060000
END:STANDARD
END:VTIMEZONE
BEGIN:VEVENT
DTSTART;TZID=America/Toronto:20290103T140000
DTEND;TZID=America/Toronto:20290103T170000
DTSTAMP:20260421T191233
CREATED:20260305T220132Z
LAST-MODIFIED:20260305T220132Z
UID:10000449-1862143200-1862154000@www.anguslegion499.ca
SUMMARY:Bid Euchre-Upper Hall
DESCRIPTION:New Members Welcome
URL:https://www.anguslegion499.ca/event/bid-euchre-upper-hall/2029-01-03
CATEGORIES:Sports
END:VEVENT
BEGIN:VEVENT
DTSTART;TZID=America/Toronto:20290103T193000
DTEND;TZID=America/Toronto:20290103T220000
DTSTAMP:20260421T191233
CREATED:20260305T220650Z
LAST-MODIFIED:20260305T220650Z
UID:10000710-1862163000-1862172000@www.anguslegion499.ca
SUMMARY:Wednesday Dart League-Upper Hall
DESCRIPTION:Open \nBanquet at end of Season
URL:https://www.anguslegion499.ca/event/wednesday-dart-league-upper-hall/2029-01-03
CATEGORIES:Sports
END:VEVENT
BEGIN:VEVENT
DTSTART;TZID=America/Toronto:20290104T190000
DTEND;TZID=America/Toronto:20290104T220000
DTSTAMP:20260421T191233
CREATED:20260305T221008Z
LAST-MODIFIED:20260305T221008Z
UID:10000972-1862247600-1862258400@www.anguslegion499.ca
SUMMARY:Thursday Euchre-Upper Hall
DESCRIPTION:$5 \nBanquet
URL:https://www.anguslegion499.ca/event/thursday-euchre-upper-hall/2029-01-04
CATEGORIES:Sports
END:VEVENT
BEGIN:VEVENT
DTSTART;TZID=America/Toronto:20290110T140000
DTEND;TZID=America/Toronto:20290110T170000
DTSTAMP:20260421T191233
CREATED:20260305T220132Z
LAST-MODIFIED:20260305T220132Z
UID:10000450-1862748000-1862758800@www.anguslegion499.ca
SUMMARY:Bid Euchre-Upper Hall
DESCRIPTION:New Members Welcome
URL:https://www.anguslegion499.ca/event/bid-euchre-upper-hall/2029-01-10
CATEGORIES:Sports
END:VEVENT
BEGIN:VEVENT
DTSTART;TZID=America/Toronto:20290110T193000
DTEND;TZID=America/Toronto:20290110T220000
DTSTAMP:20260421T191233
CREATED:20260305T220650Z
LAST-MODIFIED:20260305T220650Z
UID:10000711-1862767800-1862776800@www.anguslegion499.ca
SUMMARY:Wednesday Dart League-Upper Hall
DESCRIPTION:Open \nBanquet at end of Season
URL:https://www.anguslegion499.ca/event/wednesday-dart-league-upper-hall/2029-01-10
CATEGORIES:Sports
END:VEVENT
BEGIN:VEVENT
DTSTART;TZID=America/Toronto:20290111T190000
DTEND;TZID=America/Toronto:20290111T220000
DTSTAMP:20260421T191233
CREATED:20260305T221008Z
LAST-MODIFIED:20260305T221008Z
UID:10000973-1862852400-1862863200@www.anguslegion499.ca
SUMMARY:Thursday Euchre-Upper Hall
DESCRIPTION:$5 \nBanquet
URL:https://www.anguslegion499.ca/event/thursday-euchre-upper-hall/2029-01-11
CATEGORIES:Sports
END:VEVENT
BEGIN:VEVENT
DTSTART;TZID=America/Toronto:20290114T130000
DTEND;TZID=America/Toronto:20290114T160000
DTSTAMP:20260421T191233
CREATED:20260305T131539Z
LAST-MODIFIED:20260324T180559Z
UID:10001250-1863090000-1863100800@www.anguslegion499.ca
SUMMARY:Recurring Rental-Lower Hall
DESCRIPTION:Private Meeting
URL:https://www.anguslegion499.ca/event/recurring-rental/2029-01-14
CATEGORIES:Booked Rooms
END:VEVENT
BEGIN:VEVENT
DTSTART;TZID=America/Toronto:20290117T140000
DTEND;TZID=America/Toronto:20290117T170000
DTSTAMP:20260421T191233
CREATED:20260305T220132Z
LAST-MODIFIED:20260305T220132Z
UID:10000451-1863352800-1863363600@www.anguslegion499.ca
SUMMARY:Bid Euchre-Upper Hall
DESCRIPTION:New Members Welcome
URL:https://www.anguslegion499.ca/event/bid-euchre-upper-hall/2029-01-17
CATEGORIES:Sports
END:VEVENT
BEGIN:VEVENT
DTSTART;TZID=America/Toronto:20290117T193000
DTEND;TZID=America/Toronto:20290117T220000
DTSTAMP:20260421T191233
CREATED:20260305T220650Z
LAST-MODIFIED:20260305T220650Z
UID:10000712-1863372600-1863381600@www.anguslegion499.ca
SUMMARY:Wednesday Dart League-Upper Hall
DESCRIPTION:Open \nBanquet at end of Season
URL:https://www.anguslegion499.ca/event/wednesday-dart-league-upper-hall/2029-01-17
CATEGORIES:Sports
END:VEVENT
BEGIN:VEVENT
DTSTART;TZID=America/Toronto:20290118T190000
DTEND;TZID=America/Toronto:20290118T220000
DTSTAMP:20260421T191233
CREATED:20260305T221008Z
LAST-MODIFIED:20260305T221008Z
UID:10000974-1863457200-1863468000@www.anguslegion499.ca
SUMMARY:Thursday Euchre-Upper Hall
DESCRIPTION:$5 \nBanquet
URL:https://www.anguslegion499.ca/event/thursday-euchre-upper-hall/2029-01-18
CATEGORIES:Sports
END:VEVENT
BEGIN:VEVENT
DTSTART;TZID=America/Toronto:20290121T120000
DTEND;TZID=America/Toronto:20290121T140000
DTSTAMP:20260421T191233
CREATED:20260324T182009Z
LAST-MODIFIED:20260324T182724Z
UID:10001288-1863691200-1863698400@www.anguslegion499.ca
SUMMARY:LEGION GENERAL MEETING
DESCRIPTION:Bring up to date Legion card \nSign in Required \nBar will be closed
URL:https://www.anguslegion499.ca/event/legion-general-meeting/2029-01-21
CATEGORIES:General Meeting
END:VEVENT
BEGIN:VEVENT
DTSTART;TZID=America/Toronto:20290124T140000
DTEND;TZID=America/Toronto:20290124T170000
DTSTAMP:20260421T191233
CREATED:20260305T220132Z
LAST-MODIFIED:20260305T220132Z
UID:10000452-1863957600-1863968400@www.anguslegion499.ca
SUMMARY:Bid Euchre-Upper Hall
DESCRIPTION:New Members Welcome
URL:https://www.anguslegion499.ca/event/bid-euchre-upper-hall/2029-01-24
CATEGORIES:Sports
END:VEVENT
BEGIN:VEVENT
DTSTART;TZID=America/Toronto:20290124T193000
DTEND;TZID=America/Toronto:20290124T220000
DTSTAMP:20260421T191233
CREATED:20260305T220650Z
LAST-MODIFIED:20260305T220650Z
UID:10000713-1863977400-1863986400@www.anguslegion499.ca
SUMMARY:Wednesday Dart League-Upper Hall
DESCRIPTION:Open \nBanquet at end of Season
URL:https://www.anguslegion499.ca/event/wednesday-dart-league-upper-hall/2029-01-24
CATEGORIES:Sports
END:VEVENT
BEGIN:VEVENT
DTSTART;TZID=America/Toronto:20290125T190000
DTEND;TZID=America/Toronto:20290125T220000
DTSTAMP:20260421T191233
CREATED:20260305T221008Z
LAST-MODIFIED:20260305T221008Z
UID:10000975-1864062000-1864072800@www.anguslegion499.ca
SUMMARY:Thursday Euchre-Upper Hall
DESCRIPTION:$5 \nBanquet
URL:https://www.anguslegion499.ca/event/thursday-euchre-upper-hall/2029-01-25
CATEGORIES:Sports
END:VEVENT
BEGIN:VEVENT
DTSTART;TZID=America/Toronto:20290131T140000
DTEND;TZID=America/Toronto:20290131T170000
DTSTAMP:20260421T191233
CREATED:20260305T220132Z
LAST-MODIFIED:20260305T220132Z
UID:10000453-1864562400-1864573200@www.anguslegion499.ca
SUMMARY:Bid Euchre-Upper Hall
DESCRIPTION:New Members Welcome
URL:https://www.anguslegion499.ca/event/bid-euchre-upper-hall/2029-01-31
CATEGORIES:Sports
END:VEVENT
BEGIN:VEVENT
DTSTART;TZID=America/Toronto:20290131T193000
DTEND;TZID=America/Toronto:20290131T220000
DTSTAMP:20260421T191233
CREATED:20260305T220650Z
LAST-MODIFIED:20260305T220650Z
UID:10000714-1864582200-1864591200@www.anguslegion499.ca
SUMMARY:Wednesday Dart League-Upper Hall
DESCRIPTION:Open \nBanquet at end of Season
URL:https://www.anguslegion499.ca/event/wednesday-dart-league-upper-hall/2029-01-31
CATEGORIES:Sports
END:VEVENT
END:VCALENDAR