BEGIN:VCALENDAR
VERSION:2.0
PRODID:-//Royal Canadian Legion Branch 499 (Angus) - ECPv6.15.17//NONSGML v1.0//EN
CALSCALE:GREGORIAN
METHOD:PUBLISH
X-ORIGINAL-URL:https://www.anguslegion499.ca
X-WR-CALDESC:Events for Royal Canadian Legion Branch 499 (Angus)
REFRESH-INTERVAL;VALUE=DURATION:PT1H
X-Robots-Tag:noindex
X-PUBLISHED-TTL:PT1H
BEGIN:VTIMEZONE
TZID:America/Toronto
BEGIN:DAYLIGHT
TZOFFSETFROM:-0500
TZOFFSETTO:-0400
TZNAME:EDT
DTSTART:20280312T070000
END:DAYLIGHT
BEGIN:STANDARD
TZOFFSETFROM:-0400
TZOFFSETTO:-0500
TZNAME:EST
DTSTART:20281105T060000
END:STANDARD
BEGIN:DAYLIGHT
TZOFFSETFROM:-0500
TZOFFSETTO:-0400
TZNAME:EDT
DTSTART:20290311T070000
END:DAYLIGHT
BEGIN:STANDARD
TZOFFSETFROM:-0400
TZOFFSETTO:-0500
TZNAME:EST
DTSTART:20291104T060000
END:STANDARD
BEGIN:DAYLIGHT
TZOFFSETFROM:-0500
TZOFFSETTO:-0400
TZNAME:EDT
DTSTART:20300310T070000
END:DAYLIGHT
BEGIN:STANDARD
TZOFFSETFROM:-0400
TZOFFSETTO:-0500
TZNAME:EST
DTSTART:20301103T060000
END:STANDARD
END:VTIMEZONE
BEGIN:VEVENT
DTSTART;TZID=America/Toronto:20290502T140000
DTEND;TZID=America/Toronto:20290502T170000
DTSTAMP:20260422T010855
CREATED:20260305T220132Z
LAST-MODIFIED:20260305T220132Z
UID:10000466-1872424800-1872435600@www.anguslegion499.ca
SUMMARY:Bid Euchre-Upper Hall
DESCRIPTION:New Members Welcome
URL:https://www.anguslegion499.ca/event/bid-euchre-upper-hall/2029-05-02
CATEGORIES:Sports
END:VEVENT
BEGIN:VEVENT
DTSTART;TZID=America/Toronto:20290502T193000
DTEND;TZID=America/Toronto:20290502T220000
DTSTAMP:20260422T010855
CREATED:20260305T220650Z
LAST-MODIFIED:20260305T220650Z
UID:10000727-1872444600-1872453600@www.anguslegion499.ca
SUMMARY:Wednesday Dart League-Upper Hall
DESCRIPTION:Open \nBanquet at end of Season
URL:https://www.anguslegion499.ca/event/wednesday-dart-league-upper-hall/2029-05-02
CATEGORIES:Sports
END:VEVENT
BEGIN:VEVENT
DTSTART;TZID=America/Toronto:20290503T190000
DTEND;TZID=America/Toronto:20290503T220000
DTSTAMP:20260422T010855
CREATED:20260305T221008Z
LAST-MODIFIED:20260305T221008Z
UID:10000989-1872529200-1872540000@www.anguslegion499.ca
SUMMARY:Thursday Euchre-Upper Hall
DESCRIPTION:$5 \nBanquet
URL:https://www.anguslegion499.ca/event/thursday-euchre-upper-hall/2029-05-03
CATEGORIES:Sports
END:VEVENT
BEGIN:VEVENT
DTSTART;TZID=America/Toronto:20290509T140000
DTEND;TZID=America/Toronto:20290509T170000
DTSTAMP:20260422T010855
CREATED:20260305T220132Z
LAST-MODIFIED:20260305T220132Z
UID:10000467-1873029600-1873040400@www.anguslegion499.ca
SUMMARY:Bid Euchre-Upper Hall
DESCRIPTION:New Members Welcome
URL:https://www.anguslegion499.ca/event/bid-euchre-upper-hall/2029-05-09
CATEGORIES:Sports
END:VEVENT
BEGIN:VEVENT
DTSTART;TZID=America/Toronto:20290509T193000
DTEND;TZID=America/Toronto:20290509T220000
DTSTAMP:20260422T010855
CREATED:20260305T220650Z
LAST-MODIFIED:20260305T220650Z
UID:10000728-1873049400-1873058400@www.anguslegion499.ca
SUMMARY:Wednesday Dart League-Upper Hall
DESCRIPTION:Open \nBanquet at end of Season
URL:https://www.anguslegion499.ca/event/wednesday-dart-league-upper-hall/2029-05-09
CATEGORIES:Sports
END:VEVENT
BEGIN:VEVENT
DTSTART;TZID=America/Toronto:20290510T190000
DTEND;TZID=America/Toronto:20290510T220000
DTSTAMP:20260422T010855
CREATED:20260305T221008Z
LAST-MODIFIED:20260305T221008Z
UID:10000990-1873134000-1873144800@www.anguslegion499.ca
SUMMARY:Thursday Euchre-Upper Hall
DESCRIPTION:$5 \nBanquet
URL:https://www.anguslegion499.ca/event/thursday-euchre-upper-hall/2029-05-10
CATEGORIES:Sports
END:VEVENT
BEGIN:VEVENT
DTSTART;TZID=America/Toronto:20290513T130000
DTEND;TZID=America/Toronto:20290513T160000
DTSTAMP:20260422T010855
CREATED:20260305T131539Z
LAST-MODIFIED:20260324T180559Z
UID:10001254-1873371600-1873382400@www.anguslegion499.ca
SUMMARY:Recurring Rental-Lower Hall
DESCRIPTION:Private Meeting
URL:https://www.anguslegion499.ca/event/recurring-rental/2029-05-13
CATEGORIES:Booked Rooms
END:VEVENT
BEGIN:VEVENT
DTSTART;TZID=America/Toronto:20290516T140000
DTEND;TZID=America/Toronto:20290516T170000
DTSTAMP:20260422T010855
CREATED:20260305T220132Z
LAST-MODIFIED:20260305T220132Z
UID:10000468-1873634400-1873645200@www.anguslegion499.ca
SUMMARY:Bid Euchre-Upper Hall
DESCRIPTION:New Members Welcome
URL:https://www.anguslegion499.ca/event/bid-euchre-upper-hall/2029-05-16
CATEGORIES:Sports
END:VEVENT
BEGIN:VEVENT
DTSTART;TZID=America/Toronto:20290516T193000
DTEND;TZID=America/Toronto:20290516T220000
DTSTAMP:20260422T010855
CREATED:20260305T220650Z
LAST-MODIFIED:20260305T220650Z
UID:10000729-1873654200-1873663200@www.anguslegion499.ca
SUMMARY:Wednesday Dart League-Upper Hall
DESCRIPTION:Open \nBanquet at end of Season
URL:https://www.anguslegion499.ca/event/wednesday-dart-league-upper-hall/2029-05-16
CATEGORIES:Sports
END:VEVENT
BEGIN:VEVENT
DTSTART;TZID=America/Toronto:20290517T190000
DTEND;TZID=America/Toronto:20290517T220000
DTSTAMP:20260422T010855
CREATED:20260305T221008Z
LAST-MODIFIED:20260305T221008Z
UID:10000991-1873738800-1873749600@www.anguslegion499.ca
SUMMARY:Thursday Euchre-Upper Hall
DESCRIPTION:$5 \nBanquet
URL:https://www.anguslegion499.ca/event/thursday-euchre-upper-hall/2029-05-17
CATEGORIES:Sports
END:VEVENT
BEGIN:VEVENT
DTSTART;TZID=America/Toronto:20290523T140000
DTEND;TZID=America/Toronto:20290523T170000
DTSTAMP:20260422T010855
CREATED:20260305T220132Z
LAST-MODIFIED:20260305T220132Z
UID:10000469-1874239200-1874250000@www.anguslegion499.ca
SUMMARY:Bid Euchre-Upper Hall
DESCRIPTION:New Members Welcome
URL:https://www.anguslegion499.ca/event/bid-euchre-upper-hall/2029-05-23
CATEGORIES:Sports
END:VEVENT
BEGIN:VEVENT
DTSTART;TZID=America/Toronto:20290523T193000
DTEND;TZID=America/Toronto:20290523T220000
DTSTAMP:20260422T010855
CREATED:20260305T220650Z
LAST-MODIFIED:20260305T220650Z
UID:10000730-1874259000-1874268000@www.anguslegion499.ca
SUMMARY:Wednesday Dart League-Upper Hall
DESCRIPTION:Open \nBanquet at end of Season
URL:https://www.anguslegion499.ca/event/wednesday-dart-league-upper-hall/2029-05-23
CATEGORIES:Sports
END:VEVENT
BEGIN:VEVENT
DTSTART;TZID=America/Toronto:20290524T190000
DTEND;TZID=America/Toronto:20290524T220000
DTSTAMP:20260422T010855
CREATED:20260305T221008Z
LAST-MODIFIED:20260305T221008Z
UID:10000992-1874343600-1874354400@www.anguslegion499.ca
SUMMARY:Thursday Euchre-Upper Hall
DESCRIPTION:$5 \nBanquet
URL:https://www.anguslegion499.ca/event/thursday-euchre-upper-hall/2029-05-24
CATEGORIES:Sports
END:VEVENT
BEGIN:VEVENT
DTSTART;TZID=America/Toronto:20290530T140000
DTEND;TZID=America/Toronto:20290530T170000
DTSTAMP:20260422T010855
CREATED:20260305T220132Z
LAST-MODIFIED:20260305T220132Z
UID:10000470-1874844000-1874854800@www.anguslegion499.ca
SUMMARY:Bid Euchre-Upper Hall
DESCRIPTION:New Members Welcome
URL:https://www.anguslegion499.ca/event/bid-euchre-upper-hall/2029-05-30
CATEGORIES:Sports
END:VEVENT
BEGIN:VEVENT
DTSTART;TZID=America/Toronto:20290530T193000
DTEND;TZID=America/Toronto:20290530T220000
DTSTAMP:20260422T010855
CREATED:20260305T220650Z
LAST-MODIFIED:20260305T220650Z
UID:10000731-1874863800-1874872800@www.anguslegion499.ca
SUMMARY:Wednesday Dart League-Upper Hall
DESCRIPTION:Open \nBanquet at end of Season
URL:https://www.anguslegion499.ca/event/wednesday-dart-league-upper-hall/2029-05-30
CATEGORIES:Sports
END:VEVENT
BEGIN:VEVENT
DTSTART;TZID=America/Toronto:20290531T190000
DTEND;TZID=America/Toronto:20290531T220000
DTSTAMP:20260422T010855
CREATED:20260305T221008Z
LAST-MODIFIED:20260305T221008Z
UID:10000993-1874948400-1874959200@www.anguslegion499.ca
SUMMARY:Thursday Euchre-Upper Hall
DESCRIPTION:$5 \nBanquet
URL:https://www.anguslegion499.ca/event/thursday-euchre-upper-hall/2029-05-31
CATEGORIES:Sports
END:VEVENT
END:VCALENDAR