BEGIN:VCALENDAR
VERSION:2.0
PRODID:-//Royal Canadian Legion Branch 499 (Angus) - ECPv6.15.17//NONSGML v1.0//EN
CALSCALE:GREGORIAN
METHOD:PUBLISH
X-ORIGINAL-URL:https://www.anguslegion499.ca
X-WR-CALDESC:Events for Royal Canadian Legion Branch 499 (Angus)
REFRESH-INTERVAL;VALUE=DURATION:PT1H
X-Robots-Tag:noindex
X-PUBLISHED-TTL:PT1H
BEGIN:VTIMEZONE
TZID:America/Toronto
BEGIN:DAYLIGHT
TZOFFSETFROM:-0500
TZOFFSETTO:-0400
TZNAME:EDT
DTSTART:20280312T070000
END:DAYLIGHT
BEGIN:STANDARD
TZOFFSETFROM:-0400
TZOFFSETTO:-0500
TZNAME:EST
DTSTART:20281105T060000
END:STANDARD
BEGIN:DAYLIGHT
TZOFFSETFROM:-0500
TZOFFSETTO:-0400
TZNAME:EDT
DTSTART:20290311T070000
END:DAYLIGHT
BEGIN:STANDARD
TZOFFSETFROM:-0400
TZOFFSETTO:-0500
TZNAME:EST
DTSTART:20291104T060000
END:STANDARD
BEGIN:DAYLIGHT
TZOFFSETFROM:-0500
TZOFFSETTO:-0400
TZNAME:EDT
DTSTART:20300310T070000
END:DAYLIGHT
BEGIN:STANDARD
TZOFFSETFROM:-0400
TZOFFSETTO:-0500
TZNAME:EST
DTSTART:20301103T060000
END:STANDARD
END:VTIMEZONE
BEGIN:VEVENT
DTSTART;TZID=America/Toronto:20290704T140000
DTEND;TZID=America/Toronto:20290704T170000
DTSTAMP:20260422T035114
CREATED:20260305T220132Z
LAST-MODIFIED:20260305T220132Z
UID:10000475-1877868000-1877878800@www.anguslegion499.ca
SUMMARY:Bid Euchre-Upper Hall
DESCRIPTION:New Members Welcome
URL:https://www.anguslegion499.ca/event/bid-euchre-upper-hall/2029-07-04
CATEGORIES:Sports
END:VEVENT
BEGIN:VEVENT
DTSTART;TZID=America/Toronto:20290704T193000
DTEND;TZID=America/Toronto:20290704T220000
DTSTAMP:20260422T035114
CREATED:20260305T220650Z
LAST-MODIFIED:20260305T220650Z
UID:10000736-1877887800-1877896800@www.anguslegion499.ca
SUMMARY:Wednesday Dart League-Upper Hall
DESCRIPTION:Open \nBanquet at end of Season
URL:https://www.anguslegion499.ca/event/wednesday-dart-league-upper-hall/2029-07-04
CATEGORIES:Sports
END:VEVENT
BEGIN:VEVENT
DTSTART;TZID=America/Toronto:20290705T190000
DTEND;TZID=America/Toronto:20290705T220000
DTSTAMP:20260422T035114
CREATED:20260305T221008Z
LAST-MODIFIED:20260305T221008Z
UID:10000998-1877972400-1877983200@www.anguslegion499.ca
SUMMARY:Thursday Euchre-Upper Hall
DESCRIPTION:$5 \nBanquet
URL:https://www.anguslegion499.ca/event/thursday-euchre-upper-hall/2029-07-05
CATEGORIES:Sports
END:VEVENT
BEGIN:VEVENT
DTSTART;TZID=America/Toronto:20290708T130000
DTEND;TZID=America/Toronto:20290708T160000
DTSTAMP:20260422T035114
CREATED:20260305T131539Z
LAST-MODIFIED:20260324T180559Z
UID:10001256-1878210000-1878220800@www.anguslegion499.ca
SUMMARY:Recurring Rental-Lower Hall
DESCRIPTION:Private Meeting
URL:https://www.anguslegion499.ca/event/recurring-rental/2029-07-08
CATEGORIES:Booked Rooms
END:VEVENT
BEGIN:VEVENT
DTSTART;TZID=America/Toronto:20290711T140000
DTEND;TZID=America/Toronto:20290711T170000
DTSTAMP:20260422T035114
CREATED:20260305T220132Z
LAST-MODIFIED:20260305T220132Z
UID:10000476-1878472800-1878483600@www.anguslegion499.ca
SUMMARY:Bid Euchre-Upper Hall
DESCRIPTION:New Members Welcome
URL:https://www.anguslegion499.ca/event/bid-euchre-upper-hall/2029-07-11
CATEGORIES:Sports
END:VEVENT
BEGIN:VEVENT
DTSTART;TZID=America/Toronto:20290711T193000
DTEND;TZID=America/Toronto:20290711T220000
DTSTAMP:20260422T035114
CREATED:20260305T220650Z
LAST-MODIFIED:20260305T220650Z
UID:10000737-1878492600-1878501600@www.anguslegion499.ca
SUMMARY:Wednesday Dart League-Upper Hall
DESCRIPTION:Open \nBanquet at end of Season
URL:https://www.anguslegion499.ca/event/wednesday-dart-league-upper-hall/2029-07-11
CATEGORIES:Sports
END:VEVENT
BEGIN:VEVENT
DTSTART;TZID=America/Toronto:20290712T190000
DTEND;TZID=America/Toronto:20290712T220000
DTSTAMP:20260422T035114
CREATED:20260305T221008Z
LAST-MODIFIED:20260305T221008Z
UID:10000999-1878577200-1878588000@www.anguslegion499.ca
SUMMARY:Thursday Euchre-Upper Hall
DESCRIPTION:$5 \nBanquet
URL:https://www.anguslegion499.ca/event/thursday-euchre-upper-hall/2029-07-12
CATEGORIES:Sports
END:VEVENT
BEGIN:VEVENT
DTSTART;TZID=America/Toronto:20290718T140000
DTEND;TZID=America/Toronto:20290718T170000
DTSTAMP:20260422T035114
CREATED:20260305T220132Z
LAST-MODIFIED:20260305T220132Z
UID:10000477-1879077600-1879088400@www.anguslegion499.ca
SUMMARY:Bid Euchre-Upper Hall
DESCRIPTION:New Members Welcome
URL:https://www.anguslegion499.ca/event/bid-euchre-upper-hall/2029-07-18
CATEGORIES:Sports
END:VEVENT
BEGIN:VEVENT
DTSTART;TZID=America/Toronto:20290718T193000
DTEND;TZID=America/Toronto:20290718T220000
DTSTAMP:20260422T035114
CREATED:20260305T220650Z
LAST-MODIFIED:20260305T220650Z
UID:10000738-1879097400-1879106400@www.anguslegion499.ca
SUMMARY:Wednesday Dart League-Upper Hall
DESCRIPTION:Open \nBanquet at end of Season
URL:https://www.anguslegion499.ca/event/wednesday-dart-league-upper-hall/2029-07-18
CATEGORIES:Sports
END:VEVENT
BEGIN:VEVENT
DTSTART;TZID=America/Toronto:20290719T190000
DTEND;TZID=America/Toronto:20290719T220000
DTSTAMP:20260422T035114
CREATED:20260305T221008Z
LAST-MODIFIED:20260305T221008Z
UID:10001000-1879182000-1879192800@www.anguslegion499.ca
SUMMARY:Thursday Euchre-Upper Hall
DESCRIPTION:$5 \nBanquet
URL:https://www.anguslegion499.ca/event/thursday-euchre-upper-hall/2029-07-19
CATEGORIES:Sports
END:VEVENT
BEGIN:VEVENT
DTSTART;TZID=America/Toronto:20290725T140000
DTEND;TZID=America/Toronto:20290725T170000
DTSTAMP:20260422T035114
CREATED:20260305T220132Z
LAST-MODIFIED:20260305T220132Z
UID:10000478-1879682400-1879693200@www.anguslegion499.ca
SUMMARY:Bid Euchre-Upper Hall
DESCRIPTION:New Members Welcome
URL:https://www.anguslegion499.ca/event/bid-euchre-upper-hall/2029-07-25
CATEGORIES:Sports
END:VEVENT
BEGIN:VEVENT
DTSTART;TZID=America/Toronto:20290725T193000
DTEND;TZID=America/Toronto:20290725T220000
DTSTAMP:20260422T035114
CREATED:20260305T220650Z
LAST-MODIFIED:20260305T220650Z
UID:10000739-1879702200-1879711200@www.anguslegion499.ca
SUMMARY:Wednesday Dart League-Upper Hall
DESCRIPTION:Open \nBanquet at end of Season
URL:https://www.anguslegion499.ca/event/wednesday-dart-league-upper-hall/2029-07-25
CATEGORIES:Sports
END:VEVENT
BEGIN:VEVENT
DTSTART;TZID=America/Toronto:20290726T190000
DTEND;TZID=America/Toronto:20290726T220000
DTSTAMP:20260422T035114
CREATED:20260305T221008Z
LAST-MODIFIED:20260305T221008Z
UID:10001001-1879786800-1879797600@www.anguslegion499.ca
SUMMARY:Thursday Euchre-Upper Hall
DESCRIPTION:$5 \nBanquet
URL:https://www.anguslegion499.ca/event/thursday-euchre-upper-hall/2029-07-26
CATEGORIES:Sports
END:VEVENT
END:VCALENDAR