BEGIN:VCALENDAR
VERSION:2.0
PRODID:-//Royal Canadian Legion Branch 499 (Angus) - ECPv6.15.17//NONSGML v1.0//EN
CALSCALE:GREGORIAN
METHOD:PUBLISH
X-ORIGINAL-URL:https://www.anguslegion499.ca
X-WR-CALDESC:Events for Royal Canadian Legion Branch 499 (Angus)
REFRESH-INTERVAL;VALUE=DURATION:PT1H
X-Robots-Tag:noindex
X-PUBLISHED-TTL:PT1H
BEGIN:VTIMEZONE
TZID:America/Toronto
BEGIN:DAYLIGHT
TZOFFSETFROM:-0500
TZOFFSETTO:-0400
TZNAME:EDT
DTSTART:20280312T070000
END:DAYLIGHT
BEGIN:STANDARD
TZOFFSETFROM:-0400
TZOFFSETTO:-0500
TZNAME:EST
DTSTART:20281105T060000
END:STANDARD
BEGIN:DAYLIGHT
TZOFFSETFROM:-0500
TZOFFSETTO:-0400
TZNAME:EDT
DTSTART:20290311T070000
END:DAYLIGHT
BEGIN:STANDARD
TZOFFSETFROM:-0400
TZOFFSETTO:-0500
TZNAME:EST
DTSTART:20291104T060000
END:STANDARD
BEGIN:DAYLIGHT
TZOFFSETFROM:-0500
TZOFFSETTO:-0400
TZNAME:EDT
DTSTART:20300310T070000
END:DAYLIGHT
BEGIN:STANDARD
TZOFFSETFROM:-0400
TZOFFSETTO:-0500
TZNAME:EST
DTSTART:20301103T060000
END:STANDARD
END:VTIMEZONE
BEGIN:VEVENT
DTSTART;TZID=America/Toronto:20290801T140000
DTEND;TZID=America/Toronto:20290801T170000
DTSTAMP:20260422T051933
CREATED:20260305T220132Z
LAST-MODIFIED:20260305T220132Z
UID:10000479-1880287200-1880298000@www.anguslegion499.ca
SUMMARY:Bid Euchre-Upper Hall
DESCRIPTION:New Members Welcome
URL:https://www.anguslegion499.ca/event/bid-euchre-upper-hall/2029-08-01
CATEGORIES:Sports
END:VEVENT
BEGIN:VEVENT
DTSTART;TZID=America/Toronto:20290801T193000
DTEND;TZID=America/Toronto:20290801T220000
DTSTAMP:20260422T051933
CREATED:20260305T220650Z
LAST-MODIFIED:20260305T220650Z
UID:10000740-1880307000-1880316000@www.anguslegion499.ca
SUMMARY:Wednesday Dart League-Upper Hall
DESCRIPTION:Open \nBanquet at end of Season
URL:https://www.anguslegion499.ca/event/wednesday-dart-league-upper-hall/2029-08-01
CATEGORIES:Sports
END:VEVENT
BEGIN:VEVENT
DTSTART;TZID=America/Toronto:20290802T190000
DTEND;TZID=America/Toronto:20290802T220000
DTSTAMP:20260422T051933
CREATED:20260305T221008Z
LAST-MODIFIED:20260305T221008Z
UID:10001002-1880391600-1880402400@www.anguslegion499.ca
SUMMARY:Thursday Euchre-Upper Hall
DESCRIPTION:$5 \nBanquet
URL:https://www.anguslegion499.ca/event/thursday-euchre-upper-hall/2029-08-02
CATEGORIES:Sports
END:VEVENT
BEGIN:VEVENT
DTSTART;TZID=America/Toronto:20290808T140000
DTEND;TZID=America/Toronto:20290808T170000
DTSTAMP:20260422T051933
CREATED:20260305T220132Z
LAST-MODIFIED:20260305T220132Z
UID:10000480-1880892000-1880902800@www.anguslegion499.ca
SUMMARY:Bid Euchre-Upper Hall
DESCRIPTION:New Members Welcome
URL:https://www.anguslegion499.ca/event/bid-euchre-upper-hall/2029-08-08
CATEGORIES:Sports
END:VEVENT
BEGIN:VEVENT
DTSTART;TZID=America/Toronto:20290808T193000
DTEND;TZID=America/Toronto:20290808T220000
DTSTAMP:20260422T051933
CREATED:20260305T220650Z
LAST-MODIFIED:20260305T220650Z
UID:10000741-1880911800-1880920800@www.anguslegion499.ca
SUMMARY:Wednesday Dart League-Upper Hall
DESCRIPTION:Open \nBanquet at end of Season
URL:https://www.anguslegion499.ca/event/wednesday-dart-league-upper-hall/2029-08-08
CATEGORIES:Sports
END:VEVENT
BEGIN:VEVENT
DTSTART;TZID=America/Toronto:20290809T190000
DTEND;TZID=America/Toronto:20290809T220000
DTSTAMP:20260422T051933
CREATED:20260305T221008Z
LAST-MODIFIED:20260305T221008Z
UID:10001003-1880996400-1881007200@www.anguslegion499.ca
SUMMARY:Thursday Euchre-Upper Hall
DESCRIPTION:$5 \nBanquet
URL:https://www.anguslegion499.ca/event/thursday-euchre-upper-hall/2029-08-09
CATEGORIES:Sports
END:VEVENT
BEGIN:VEVENT
DTSTART;TZID=America/Toronto:20290812T130000
DTEND;TZID=America/Toronto:20290812T160000
DTSTAMP:20260422T051933
CREATED:20260305T131539Z
LAST-MODIFIED:20260324T180559Z
UID:10001257-1881234000-1881244800@www.anguslegion499.ca
SUMMARY:Recurring Rental-Lower Hall
DESCRIPTION:Private Meeting
URL:https://www.anguslegion499.ca/event/recurring-rental/2029-08-12
CATEGORIES:Booked Rooms
END:VEVENT
BEGIN:VEVENT
DTSTART;TZID=America/Toronto:20290815T140000
DTEND;TZID=America/Toronto:20290815T170000
DTSTAMP:20260422T051933
CREATED:20260305T220132Z
LAST-MODIFIED:20260305T220132Z
UID:10000481-1881496800-1881507600@www.anguslegion499.ca
SUMMARY:Bid Euchre-Upper Hall
DESCRIPTION:New Members Welcome
URL:https://www.anguslegion499.ca/event/bid-euchre-upper-hall/2029-08-15
CATEGORIES:Sports
END:VEVENT
BEGIN:VEVENT
DTSTART;TZID=America/Toronto:20290815T193000
DTEND;TZID=America/Toronto:20290815T220000
DTSTAMP:20260422T051933
CREATED:20260305T220650Z
LAST-MODIFIED:20260305T220650Z
UID:10000742-1881516600-1881525600@www.anguslegion499.ca
SUMMARY:Wednesday Dart League-Upper Hall
DESCRIPTION:Open \nBanquet at end of Season
URL:https://www.anguslegion499.ca/event/wednesday-dart-league-upper-hall/2029-08-15
CATEGORIES:Sports
END:VEVENT
BEGIN:VEVENT
DTSTART;TZID=America/Toronto:20290816T190000
DTEND;TZID=America/Toronto:20290816T220000
DTSTAMP:20260422T051933
CREATED:20260305T221008Z
LAST-MODIFIED:20260305T221008Z
UID:10001004-1881601200-1881612000@www.anguslegion499.ca
SUMMARY:Thursday Euchre-Upper Hall
DESCRIPTION:$5 \nBanquet
URL:https://www.anguslegion499.ca/event/thursday-euchre-upper-hall/2029-08-16
CATEGORIES:Sports
END:VEVENT
BEGIN:VEVENT
DTSTART;TZID=America/Toronto:20290822T140000
DTEND;TZID=America/Toronto:20290822T170000
DTSTAMP:20260422T051933
CREATED:20260305T220132Z
LAST-MODIFIED:20260305T220132Z
UID:10000482-1882101600-1882112400@www.anguslegion499.ca
SUMMARY:Bid Euchre-Upper Hall
DESCRIPTION:New Members Welcome
URL:https://www.anguslegion499.ca/event/bid-euchre-upper-hall/2029-08-22
CATEGORIES:Sports
END:VEVENT
BEGIN:VEVENT
DTSTART;TZID=America/Toronto:20290822T193000
DTEND;TZID=America/Toronto:20290822T220000
DTSTAMP:20260422T051933
CREATED:20260305T220650Z
LAST-MODIFIED:20260305T220650Z
UID:10000743-1882121400-1882130400@www.anguslegion499.ca
SUMMARY:Wednesday Dart League-Upper Hall
DESCRIPTION:Open \nBanquet at end of Season
URL:https://www.anguslegion499.ca/event/wednesday-dart-league-upper-hall/2029-08-22
CATEGORIES:Sports
END:VEVENT
BEGIN:VEVENT
DTSTART;TZID=America/Toronto:20290823T190000
DTEND;TZID=America/Toronto:20290823T220000
DTSTAMP:20260422T051933
CREATED:20260305T221008Z
LAST-MODIFIED:20260305T221008Z
UID:10001005-1882206000-1882216800@www.anguslegion499.ca
SUMMARY:Thursday Euchre-Upper Hall
DESCRIPTION:$5 \nBanquet
URL:https://www.anguslegion499.ca/event/thursday-euchre-upper-hall/2029-08-23
CATEGORIES:Sports
END:VEVENT
BEGIN:VEVENT
DTSTART;TZID=America/Toronto:20290829T140000
DTEND;TZID=America/Toronto:20290829T170000
DTSTAMP:20260422T051933
CREATED:20260305T220132Z
LAST-MODIFIED:20260305T220132Z
UID:10000483-1882706400-1882717200@www.anguslegion499.ca
SUMMARY:Bid Euchre-Upper Hall
DESCRIPTION:New Members Welcome
URL:https://www.anguslegion499.ca/event/bid-euchre-upper-hall/2029-08-29
CATEGORIES:Sports
END:VEVENT
BEGIN:VEVENT
DTSTART;TZID=America/Toronto:20290829T193000
DTEND;TZID=America/Toronto:20290829T220000
DTSTAMP:20260422T051933
CREATED:20260305T220650Z
LAST-MODIFIED:20260305T220650Z
UID:10000744-1882726200-1882735200@www.anguslegion499.ca
SUMMARY:Wednesday Dart League-Upper Hall
DESCRIPTION:Open \nBanquet at end of Season
URL:https://www.anguslegion499.ca/event/wednesday-dart-league-upper-hall/2029-08-29
CATEGORIES:Sports
END:VEVENT
BEGIN:VEVENT
DTSTART;TZID=America/Toronto:20290830T190000
DTEND;TZID=America/Toronto:20290830T220000
DTSTAMP:20260422T051933
CREATED:20260305T221008Z
LAST-MODIFIED:20260305T221008Z
UID:10001006-1882810800-1882821600@www.anguslegion499.ca
SUMMARY:Thursday Euchre-Upper Hall
DESCRIPTION:$5 \nBanquet
URL:https://www.anguslegion499.ca/event/thursday-euchre-upper-hall/2029-08-30
CATEGORIES:Sports
END:VEVENT
END:VCALENDAR