BEGIN:VCALENDAR
VERSION:2.0
PRODID:-//Royal Canadian Legion Branch 499 (Angus) - ECPv6.15.17//NONSGML v1.0//EN
CALSCALE:GREGORIAN
METHOD:PUBLISH
X-WR-CALNAME:Royal Canadian Legion Branch 499 (Angus)
X-ORIGINAL-URL:https://www.anguslegion499.ca
X-WR-CALDESC:Events for Royal Canadian Legion Branch 499 (Angus)
REFRESH-INTERVAL;VALUE=DURATION:PT1H
X-Robots-Tag:noindex
X-PUBLISHED-TTL:PT1H
BEGIN:VTIMEZONE
TZID:America/Toronto
BEGIN:DAYLIGHT
TZOFFSETFROM:-0500
TZOFFSETTO:-0400
TZNAME:EDT
DTSTART:20280312T070000
END:DAYLIGHT
BEGIN:STANDARD
TZOFFSETFROM:-0400
TZOFFSETTO:-0500
TZNAME:EST
DTSTART:20281105T060000
END:STANDARD
BEGIN:DAYLIGHT
TZOFFSETFROM:-0500
TZOFFSETTO:-0400
TZNAME:EDT
DTSTART:20290311T070000
END:DAYLIGHT
BEGIN:STANDARD
TZOFFSETFROM:-0400
TZOFFSETTO:-0500
TZNAME:EST
DTSTART:20291104T060000
END:STANDARD
BEGIN:DAYLIGHT
TZOFFSETFROM:-0500
TZOFFSETTO:-0400
TZNAME:EDT
DTSTART:20300310T070000
END:DAYLIGHT
BEGIN:STANDARD
TZOFFSETFROM:-0400
TZOFFSETTO:-0500
TZNAME:EST
DTSTART:20301103T060000
END:STANDARD
END:VTIMEZONE
BEGIN:VEVENT
DTSTART;TZID=America/Toronto:20290905T140000
DTEND;TZID=America/Toronto:20290905T170000
DTSTAMP:20260422T064858
CREATED:20260305T220132Z
LAST-MODIFIED:20260305T220132Z
UID:10000484-1883311200-1883322000@www.anguslegion499.ca
SUMMARY:Bid Euchre-Upper Hall
DESCRIPTION:New Members Welcome
URL:https://www.anguslegion499.ca/event/bid-euchre-upper-hall/2029-09-05
CATEGORIES:Sports
END:VEVENT
BEGIN:VEVENT
DTSTART;TZID=America/Toronto:20290905T193000
DTEND;TZID=America/Toronto:20290905T220000
DTSTAMP:20260422T064858
CREATED:20260305T220650Z
LAST-MODIFIED:20260305T220650Z
UID:10000745-1883331000-1883340000@www.anguslegion499.ca
SUMMARY:Wednesday Dart League-Upper Hall
DESCRIPTION:Open \nBanquet at end of Season
URL:https://www.anguslegion499.ca/event/wednesday-dart-league-upper-hall/2029-09-05
CATEGORIES:Sports
END:VEVENT
BEGIN:VEVENT
DTSTART;TZID=America/Toronto:20290906T190000
DTEND;TZID=America/Toronto:20290906T220000
DTSTAMP:20260422T064858
CREATED:20260305T221008Z
LAST-MODIFIED:20260305T221008Z
UID:10001007-1883415600-1883426400@www.anguslegion499.ca
SUMMARY:Thursday Euchre-Upper Hall
DESCRIPTION:$5 \nBanquet
URL:https://www.anguslegion499.ca/event/thursday-euchre-upper-hall/2029-09-06
CATEGORIES:Sports
END:VEVENT
BEGIN:VEVENT
DTSTART;TZID=America/Toronto:20290909T130000
DTEND;TZID=America/Toronto:20290909T160000
DTSTAMP:20260422T064858
CREATED:20260305T131539Z
LAST-MODIFIED:20260324T180559Z
UID:10001258-1883653200-1883664000@www.anguslegion499.ca
SUMMARY:Recurring Rental-Lower Hall
DESCRIPTION:Private Meeting
URL:https://www.anguslegion499.ca/event/recurring-rental/2029-09-09
CATEGORIES:Booked Rooms
END:VEVENT
BEGIN:VEVENT
DTSTART;TZID=America/Toronto:20290912T140000
DTEND;TZID=America/Toronto:20290912T170000
DTSTAMP:20260422T064858
CREATED:20260305T220132Z
LAST-MODIFIED:20260305T220132Z
UID:10000485-1883916000-1883926800@www.anguslegion499.ca
SUMMARY:Bid Euchre-Upper Hall
DESCRIPTION:New Members Welcome
URL:https://www.anguslegion499.ca/event/bid-euchre-upper-hall/2029-09-12
CATEGORIES:Sports
END:VEVENT
BEGIN:VEVENT
DTSTART;TZID=America/Toronto:20290912T193000
DTEND;TZID=America/Toronto:20290912T220000
DTSTAMP:20260422T064858
CREATED:20260305T220650Z
LAST-MODIFIED:20260305T220650Z
UID:10000746-1883935800-1883944800@www.anguslegion499.ca
SUMMARY:Wednesday Dart League-Upper Hall
DESCRIPTION:Open \nBanquet at end of Season
URL:https://www.anguslegion499.ca/event/wednesday-dart-league-upper-hall/2029-09-12
CATEGORIES:Sports
END:VEVENT
BEGIN:VEVENT
DTSTART;TZID=America/Toronto:20290913T190000
DTEND;TZID=America/Toronto:20290913T220000
DTSTAMP:20260422T064858
CREATED:20260305T221008Z
LAST-MODIFIED:20260305T221008Z
UID:10001008-1884020400-1884031200@www.anguslegion499.ca
SUMMARY:Thursday Euchre-Upper Hall
DESCRIPTION:$5 \nBanquet
URL:https://www.anguslegion499.ca/event/thursday-euchre-upper-hall/2029-09-13
CATEGORIES:Sports
END:VEVENT
BEGIN:VEVENT
DTSTART;TZID=America/Toronto:20290919T140000
DTEND;TZID=America/Toronto:20290919T170000
DTSTAMP:20260422T064858
CREATED:20260305T220132Z
LAST-MODIFIED:20260305T220132Z
UID:10000486-1884520800-1884531600@www.anguslegion499.ca
SUMMARY:Bid Euchre-Upper Hall
DESCRIPTION:New Members Welcome
URL:https://www.anguslegion499.ca/event/bid-euchre-upper-hall/2029-09-19
CATEGORIES:Sports
END:VEVENT
BEGIN:VEVENT
DTSTART;TZID=America/Toronto:20290919T193000
DTEND;TZID=America/Toronto:20290919T220000
DTSTAMP:20260422T064858
CREATED:20260305T220650Z
LAST-MODIFIED:20260305T220650Z
UID:10000747-1884540600-1884549600@www.anguslegion499.ca
SUMMARY:Wednesday Dart League-Upper Hall
DESCRIPTION:Open \nBanquet at end of Season
URL:https://www.anguslegion499.ca/event/wednesday-dart-league-upper-hall/2029-09-19
CATEGORIES:Sports
END:VEVENT
BEGIN:VEVENT
DTSTART;TZID=America/Toronto:20290920T190000
DTEND;TZID=America/Toronto:20290920T220000
DTSTAMP:20260422T064858
CREATED:20260305T221008Z
LAST-MODIFIED:20260305T221008Z
UID:10001009-1884625200-1884636000@www.anguslegion499.ca
SUMMARY:Thursday Euchre-Upper Hall
DESCRIPTION:$5 \nBanquet
URL:https://www.anguslegion499.ca/event/thursday-euchre-upper-hall/2029-09-20
CATEGORIES:Sports
END:VEVENT
BEGIN:VEVENT
DTSTART;TZID=America/Toronto:20290926T140000
DTEND;TZID=America/Toronto:20290926T170000
DTSTAMP:20260422T064858
CREATED:20260305T220132Z
LAST-MODIFIED:20260305T220132Z
UID:10000487-1885125600-1885136400@www.anguslegion499.ca
SUMMARY:Bid Euchre-Upper Hall
DESCRIPTION:New Members Welcome
URL:https://www.anguslegion499.ca/event/bid-euchre-upper-hall/2029-09-26
CATEGORIES:Sports
END:VEVENT
BEGIN:VEVENT
DTSTART;TZID=America/Toronto:20290926T193000
DTEND;TZID=America/Toronto:20290926T220000
DTSTAMP:20260422T064858
CREATED:20260305T220650Z
LAST-MODIFIED:20260305T220650Z
UID:10000748-1885145400-1885154400@www.anguslegion499.ca
SUMMARY:Wednesday Dart League-Upper Hall
DESCRIPTION:Open \nBanquet at end of Season
URL:https://www.anguslegion499.ca/event/wednesday-dart-league-upper-hall/2029-09-26
CATEGORIES:Sports
END:VEVENT
BEGIN:VEVENT
DTSTART;TZID=America/Toronto:20290927T190000
DTEND;TZID=America/Toronto:20290927T220000
DTSTAMP:20260422T064858
CREATED:20260305T221008Z
LAST-MODIFIED:20260305T221008Z
UID:10001010-1885230000-1885240800@www.anguslegion499.ca
SUMMARY:Thursday Euchre-Upper Hall
DESCRIPTION:$5 \nBanquet
URL:https://www.anguslegion499.ca/event/thursday-euchre-upper-hall/2029-09-27
CATEGORIES:Sports
END:VEVENT
END:VCALENDAR