BEGIN:VCALENDAR
VERSION:2.0
PRODID:-//Royal Canadian Legion Branch 499 (Angus) - ECPv6.15.17//NONSGML v1.0//EN
CALSCALE:GREGORIAN
METHOD:PUBLISH
X-WR-CALNAME:Royal Canadian Legion Branch 499 (Angus)
X-ORIGINAL-URL:https://www.anguslegion499.ca
X-WR-CALDESC:Events for Royal Canadian Legion Branch 499 (Angus)
REFRESH-INTERVAL;VALUE=DURATION:PT1H
X-Robots-Tag:noindex
X-PUBLISHED-TTL:PT1H
BEGIN:VTIMEZONE
TZID:America/Toronto
BEGIN:DAYLIGHT
TZOFFSETFROM:-0500
TZOFFSETTO:-0400
TZNAME:EDT
DTSTART:20280312T070000
END:DAYLIGHT
BEGIN:STANDARD
TZOFFSETFROM:-0400
TZOFFSETTO:-0500
TZNAME:EST
DTSTART:20281105T060000
END:STANDARD
BEGIN:DAYLIGHT
TZOFFSETFROM:-0500
TZOFFSETTO:-0400
TZNAME:EDT
DTSTART:20290311T070000
END:DAYLIGHT
BEGIN:STANDARD
TZOFFSETFROM:-0400
TZOFFSETTO:-0500
TZNAME:EST
DTSTART:20291104T060000
END:STANDARD
BEGIN:DAYLIGHT
TZOFFSETFROM:-0500
TZOFFSETTO:-0400
TZNAME:EDT
DTSTART:20300310T070000
END:DAYLIGHT
BEGIN:STANDARD
TZOFFSETFROM:-0400
TZOFFSETTO:-0500
TZNAME:EST
DTSTART:20301103T060000
END:STANDARD
END:VTIMEZONE
BEGIN:VEVENT
DTSTART;TZID=America/Toronto:20291101T190000
DTEND;TZID=America/Toronto:20291101T220000
DTSTAMP:20260422T095112
CREATED:20260305T221008Z
LAST-MODIFIED:20260305T221008Z
UID:10001015-1888254000-1888264800@www.anguslegion499.ca
SUMMARY:Thursday Euchre-Upper Hall
DESCRIPTION:$5 \nBanquet
URL:https://www.anguslegion499.ca/event/thursday-euchre-upper-hall/2029-11-01
CATEGORIES:Sports
END:VEVENT
BEGIN:VEVENT
DTSTART;TZID=America/Toronto:20291107T140000
DTEND;TZID=America/Toronto:20291107T170000
DTSTAMP:20260422T095112
CREATED:20260305T220132Z
LAST-MODIFIED:20260305T220132Z
UID:10000493-1888754400-1888765200@www.anguslegion499.ca
SUMMARY:Bid Euchre-Upper Hall
DESCRIPTION:New Members Welcome
URL:https://www.anguslegion499.ca/event/bid-euchre-upper-hall/2029-11-07
CATEGORIES:Sports
END:VEVENT
BEGIN:VEVENT
DTSTART;TZID=America/Toronto:20291107T193000
DTEND;TZID=America/Toronto:20291107T220000
DTSTAMP:20260422T095112
CREATED:20260305T220650Z
LAST-MODIFIED:20260305T220650Z
UID:10000754-1888774200-1888783200@www.anguslegion499.ca
SUMMARY:Wednesday Dart League-Upper Hall
DESCRIPTION:Open \nBanquet at end of Season
URL:https://www.anguslegion499.ca/event/wednesday-dart-league-upper-hall/2029-11-07
CATEGORIES:Sports
END:VEVENT
BEGIN:VEVENT
DTSTART;TZID=America/Toronto:20291108T190000
DTEND;TZID=America/Toronto:20291108T220000
DTSTAMP:20260422T095112
CREATED:20260305T221008Z
LAST-MODIFIED:20260305T221008Z
UID:10001016-1888858800-1888869600@www.anguslegion499.ca
SUMMARY:Thursday Euchre-Upper Hall
DESCRIPTION:$5 \nBanquet
URL:https://www.anguslegion499.ca/event/thursday-euchre-upper-hall/2029-11-08
CATEGORIES:Sports
END:VEVENT
BEGIN:VEVENT
DTSTART;TZID=America/Toronto:20291111T130000
DTEND;TZID=America/Toronto:20291111T160000
DTSTAMP:20260422T095112
CREATED:20260305T131539Z
LAST-MODIFIED:20260324T180559Z
UID:10001260-1889096400-1889107200@www.anguslegion499.ca
SUMMARY:Recurring Rental-Lower Hall
DESCRIPTION:Private Meeting
URL:https://www.anguslegion499.ca/event/recurring-rental/2029-11-11
CATEGORIES:Booked Rooms
END:VEVENT
BEGIN:VEVENT
DTSTART;TZID=America/Toronto:20291114T140000
DTEND;TZID=America/Toronto:20291114T170000
DTSTAMP:20260422T095112
CREATED:20260305T220132Z
LAST-MODIFIED:20260305T220132Z
UID:10000494-1889359200-1889370000@www.anguslegion499.ca
SUMMARY:Bid Euchre-Upper Hall
DESCRIPTION:New Members Welcome
URL:https://www.anguslegion499.ca/event/bid-euchre-upper-hall/2029-11-14
CATEGORIES:Sports
END:VEVENT
BEGIN:VEVENT
DTSTART;TZID=America/Toronto:20291114T193000
DTEND;TZID=America/Toronto:20291114T220000
DTSTAMP:20260422T095112
CREATED:20260305T220650Z
LAST-MODIFIED:20260305T220650Z
UID:10000755-1889379000-1889388000@www.anguslegion499.ca
SUMMARY:Wednesday Dart League-Upper Hall
DESCRIPTION:Open \nBanquet at end of Season
URL:https://www.anguslegion499.ca/event/wednesday-dart-league-upper-hall/2029-11-14
CATEGORIES:Sports
END:VEVENT
BEGIN:VEVENT
DTSTART;TZID=America/Toronto:20291115T190000
DTEND;TZID=America/Toronto:20291115T220000
DTSTAMP:20260422T095112
CREATED:20260305T221008Z
LAST-MODIFIED:20260305T221008Z
UID:10001017-1889463600-1889474400@www.anguslegion499.ca
SUMMARY:Thursday Euchre-Upper Hall
DESCRIPTION:$5 \nBanquet
URL:https://www.anguslegion499.ca/event/thursday-euchre-upper-hall/2029-11-15
CATEGORIES:Sports
END:VEVENT
BEGIN:VEVENT
DTSTART;TZID=America/Toronto:20291121T140000
DTEND;TZID=America/Toronto:20291121T170000
DTSTAMP:20260422T095112
CREATED:20260305T220132Z
LAST-MODIFIED:20260305T220132Z
UID:10000495-1889964000-1889974800@www.anguslegion499.ca
SUMMARY:Bid Euchre-Upper Hall
DESCRIPTION:New Members Welcome
URL:https://www.anguslegion499.ca/event/bid-euchre-upper-hall/2029-11-21
CATEGORIES:Sports
END:VEVENT
BEGIN:VEVENT
DTSTART;TZID=America/Toronto:20291121T193000
DTEND;TZID=America/Toronto:20291121T220000
DTSTAMP:20260422T095112
CREATED:20260305T220650Z
LAST-MODIFIED:20260305T220650Z
UID:10000756-1889983800-1889992800@www.anguslegion499.ca
SUMMARY:Wednesday Dart League-Upper Hall
DESCRIPTION:Open \nBanquet at end of Season
URL:https://www.anguslegion499.ca/event/wednesday-dart-league-upper-hall/2029-11-21
CATEGORIES:Sports
END:VEVENT
BEGIN:VEVENT
DTSTART;TZID=America/Toronto:20291122T190000
DTEND;TZID=America/Toronto:20291122T220000
DTSTAMP:20260422T095112
CREATED:20260305T221008Z
LAST-MODIFIED:20260305T221008Z
UID:10001018-1890068400-1890079200@www.anguslegion499.ca
SUMMARY:Thursday Euchre-Upper Hall
DESCRIPTION:$5 \nBanquet
URL:https://www.anguslegion499.ca/event/thursday-euchre-upper-hall/2029-11-22
CATEGORIES:Sports
END:VEVENT
BEGIN:VEVENT
DTSTART;TZID=America/Toronto:20291128T140000
DTEND;TZID=America/Toronto:20291128T170000
DTSTAMP:20260422T095112
CREATED:20260305T220132Z
LAST-MODIFIED:20260305T220132Z
UID:10000496-1890568800-1890579600@www.anguslegion499.ca
SUMMARY:Bid Euchre-Upper Hall
DESCRIPTION:New Members Welcome
URL:https://www.anguslegion499.ca/event/bid-euchre-upper-hall/2029-11-28
CATEGORIES:Sports
END:VEVENT
BEGIN:VEVENT
DTSTART;TZID=America/Toronto:20291128T193000
DTEND;TZID=America/Toronto:20291128T220000
DTSTAMP:20260422T095112
CREATED:20260305T220650Z
LAST-MODIFIED:20260305T220650Z
UID:10000757-1890588600-1890597600@www.anguslegion499.ca
SUMMARY:Wednesday Dart League-Upper Hall
DESCRIPTION:Open \nBanquet at end of Season
URL:https://www.anguslegion499.ca/event/wednesday-dart-league-upper-hall/2029-11-28
CATEGORIES:Sports
END:VEVENT
BEGIN:VEVENT
DTSTART;TZID=America/Toronto:20291129T190000
DTEND;TZID=America/Toronto:20291129T220000
DTSTAMP:20260422T095112
CREATED:20260305T221008Z
LAST-MODIFIED:20260305T221008Z
UID:10001019-1890673200-1890684000@www.anguslegion499.ca
SUMMARY:Thursday Euchre-Upper Hall
DESCRIPTION:$5 \nBanquet
URL:https://www.anguslegion499.ca/event/thursday-euchre-upper-hall/2029-11-29
CATEGORIES:Sports
END:VEVENT
END:VCALENDAR