BEGIN:VCALENDAR
VERSION:2.0
PRODID:-//Royal Canadian Legion Branch 499 (Angus) - ECPv6.15.17//NONSGML v1.0//EN
CALSCALE:GREGORIAN
METHOD:PUBLISH
X-ORIGINAL-URL:https://www.anguslegion499.ca
X-WR-CALDESC:Events for Royal Canadian Legion Branch 499 (Angus)
REFRESH-INTERVAL;VALUE=DURATION:PT1H
X-Robots-Tag:noindex
X-PUBLISHED-TTL:PT1H
BEGIN:VTIMEZONE
TZID:America/Toronto
BEGIN:DAYLIGHT
TZOFFSETFROM:-0500
TZOFFSETTO:-0400
TZNAME:EDT
DTSTART:20280312T070000
END:DAYLIGHT
BEGIN:STANDARD
TZOFFSETFROM:-0400
TZOFFSETTO:-0500
TZNAME:EST
DTSTART:20281105T060000
END:STANDARD
BEGIN:DAYLIGHT
TZOFFSETFROM:-0500
TZOFFSETTO:-0400
TZNAME:EDT
DTSTART:20290311T070000
END:DAYLIGHT
BEGIN:STANDARD
TZOFFSETFROM:-0400
TZOFFSETTO:-0500
TZNAME:EST
DTSTART:20291104T060000
END:STANDARD
BEGIN:DAYLIGHT
TZOFFSETFROM:-0500
TZOFFSETTO:-0400
TZNAME:EDT
DTSTART:20300310T070000
END:DAYLIGHT
BEGIN:STANDARD
TZOFFSETFROM:-0400
TZOFFSETTO:-0500
TZNAME:EST
DTSTART:20301103T060000
END:STANDARD
END:VTIMEZONE
BEGIN:VEVENT
DTSTART;TZID=America/Toronto:20291205T140000
DTEND;TZID=America/Toronto:20291205T170000
DTSTAMP:20260422T112929
CREATED:20260305T220132Z
LAST-MODIFIED:20260305T220132Z
UID:10000497-1891173600-1891184400@www.anguslegion499.ca
SUMMARY:Bid Euchre-Upper Hall
DESCRIPTION:New Members Welcome
URL:https://www.anguslegion499.ca/event/bid-euchre-upper-hall/2029-12-05
CATEGORIES:Sports
END:VEVENT
BEGIN:VEVENT
DTSTART;TZID=America/Toronto:20291205T193000
DTEND;TZID=America/Toronto:20291205T220000
DTSTAMP:20260422T112929
CREATED:20260305T220650Z
LAST-MODIFIED:20260305T220650Z
UID:10000758-1891193400-1891202400@www.anguslegion499.ca
SUMMARY:Wednesday Dart League-Upper Hall
DESCRIPTION:Open \nBanquet at end of Season
URL:https://www.anguslegion499.ca/event/wednesday-dart-league-upper-hall/2029-12-05
CATEGORIES:Sports
END:VEVENT
BEGIN:VEVENT
DTSTART;TZID=America/Toronto:20291206T190000
DTEND;TZID=America/Toronto:20291206T220000
DTSTAMP:20260422T112929
CREATED:20260305T221008Z
LAST-MODIFIED:20260305T221008Z
UID:10001020-1891278000-1891288800@www.anguslegion499.ca
SUMMARY:Thursday Euchre-Upper Hall
DESCRIPTION:$5 \nBanquet
URL:https://www.anguslegion499.ca/event/thursday-euchre-upper-hall/2029-12-06
CATEGORIES:Sports
END:VEVENT
BEGIN:VEVENT
DTSTART;TZID=America/Toronto:20291209T130000
DTEND;TZID=America/Toronto:20291209T160000
DTSTAMP:20260422T112929
CREATED:20260305T131539Z
LAST-MODIFIED:20260324T180559Z
UID:10001261-1891515600-1891526400@www.anguslegion499.ca
SUMMARY:Recurring Rental-Lower Hall
DESCRIPTION:Private Meeting
URL:https://www.anguslegion499.ca/event/recurring-rental/2029-12-09
CATEGORIES:Booked Rooms
END:VEVENT
BEGIN:VEVENT
DTSTART;TZID=America/Toronto:20291212T140000
DTEND;TZID=America/Toronto:20291212T170000
DTSTAMP:20260422T112929
CREATED:20260305T220132Z
LAST-MODIFIED:20260305T220132Z
UID:10000498-1891778400-1891789200@www.anguslegion499.ca
SUMMARY:Bid Euchre-Upper Hall
DESCRIPTION:New Members Welcome
URL:https://www.anguslegion499.ca/event/bid-euchre-upper-hall/2029-12-12
CATEGORIES:Sports
END:VEVENT
BEGIN:VEVENT
DTSTART;TZID=America/Toronto:20291212T193000
DTEND;TZID=America/Toronto:20291212T220000
DTSTAMP:20260422T112929
CREATED:20260305T220650Z
LAST-MODIFIED:20260305T220650Z
UID:10000759-1891798200-1891807200@www.anguslegion499.ca
SUMMARY:Wednesday Dart League-Upper Hall
DESCRIPTION:Open \nBanquet at end of Season
URL:https://www.anguslegion499.ca/event/wednesday-dart-league-upper-hall/2029-12-12
CATEGORIES:Sports
END:VEVENT
BEGIN:VEVENT
DTSTART;TZID=America/Toronto:20291213T190000
DTEND;TZID=America/Toronto:20291213T220000
DTSTAMP:20260422T112929
CREATED:20260305T221008Z
LAST-MODIFIED:20260305T221008Z
UID:10001021-1891882800-1891893600@www.anguslegion499.ca
SUMMARY:Thursday Euchre-Upper Hall
DESCRIPTION:$5 \nBanquet
URL:https://www.anguslegion499.ca/event/thursday-euchre-upper-hall/2029-12-13
CATEGORIES:Sports
END:VEVENT
BEGIN:VEVENT
DTSTART;TZID=America/Toronto:20291219T140000
DTEND;TZID=America/Toronto:20291219T170000
DTSTAMP:20260422T112929
CREATED:20260305T220132Z
LAST-MODIFIED:20260305T220132Z
UID:10000499-1892383200-1892394000@www.anguslegion499.ca
SUMMARY:Bid Euchre-Upper Hall
DESCRIPTION:New Members Welcome
URL:https://www.anguslegion499.ca/event/bid-euchre-upper-hall/2029-12-19
CATEGORIES:Sports
END:VEVENT
BEGIN:VEVENT
DTSTART;TZID=America/Toronto:20291219T193000
DTEND;TZID=America/Toronto:20291219T220000
DTSTAMP:20260422T112929
CREATED:20260305T220650Z
LAST-MODIFIED:20260305T220650Z
UID:10000760-1892403000-1892412000@www.anguslegion499.ca
SUMMARY:Wednesday Dart League-Upper Hall
DESCRIPTION:Open \nBanquet at end of Season
URL:https://www.anguslegion499.ca/event/wednesday-dart-league-upper-hall/2029-12-19
CATEGORIES:Sports
END:VEVENT
BEGIN:VEVENT
DTSTART;TZID=America/Toronto:20291220T190000
DTEND;TZID=America/Toronto:20291220T220000
DTSTAMP:20260422T112929
CREATED:20260305T221008Z
LAST-MODIFIED:20260305T221008Z
UID:10001022-1892487600-1892498400@www.anguslegion499.ca
SUMMARY:Thursday Euchre-Upper Hall
DESCRIPTION:$5 \nBanquet
URL:https://www.anguslegion499.ca/event/thursday-euchre-upper-hall/2029-12-20
CATEGORIES:Sports
END:VEVENT
BEGIN:VEVENT
DTSTART;TZID=America/Toronto:20291226T140000
DTEND;TZID=America/Toronto:20291226T170000
DTSTAMP:20260422T112929
CREATED:20260305T220132Z
LAST-MODIFIED:20260305T220132Z
UID:10000500-1892988000-1892998800@www.anguslegion499.ca
SUMMARY:Bid Euchre-Upper Hall
DESCRIPTION:New Members Welcome
URL:https://www.anguslegion499.ca/event/bid-euchre-upper-hall/2029-12-26
CATEGORIES:Sports
END:VEVENT
BEGIN:VEVENT
DTSTART;TZID=America/Toronto:20291226T193000
DTEND;TZID=America/Toronto:20291226T220000
DTSTAMP:20260422T112929
CREATED:20260305T220650Z
LAST-MODIFIED:20260305T220650Z
UID:10000761-1893007800-1893016800@www.anguslegion499.ca
SUMMARY:Wednesday Dart League-Upper Hall
DESCRIPTION:Open \nBanquet at end of Season
URL:https://www.anguslegion499.ca/event/wednesday-dart-league-upper-hall/2029-12-26
CATEGORIES:Sports
END:VEVENT
BEGIN:VEVENT
DTSTART;TZID=America/Toronto:20291227T190000
DTEND;TZID=America/Toronto:20291227T220000
DTSTAMP:20260422T112929
CREATED:20260305T221008Z
LAST-MODIFIED:20260305T221008Z
UID:10001023-1893092400-1893103200@www.anguslegion499.ca
SUMMARY:Thursday Euchre-Upper Hall
DESCRIPTION:$5 \nBanquet
URL:https://www.anguslegion499.ca/event/thursday-euchre-upper-hall/2029-12-27
CATEGORIES:Sports
END:VEVENT
END:VCALENDAR