BEGIN:VCALENDAR
VERSION:2.0
PRODID:-//Royal Canadian Legion Branch 499 (Angus) - ECPv6.15.17//NONSGML v1.0//EN
CALSCALE:GREGORIAN
METHOD:PUBLISH
X-ORIGINAL-URL:https://www.anguslegion499.ca
X-WR-CALDESC:Events for Royal Canadian Legion Branch 499 (Angus)
REFRESH-INTERVAL;VALUE=DURATION:PT1H
X-Robots-Tag:noindex
X-PUBLISHED-TTL:PT1H
BEGIN:VTIMEZONE
TZID:America/Toronto
BEGIN:DAYLIGHT
TZOFFSETFROM:-0500
TZOFFSETTO:-0400
TZNAME:EDT
DTSTART:20290311T070000
END:DAYLIGHT
BEGIN:STANDARD
TZOFFSETFROM:-0400
TZOFFSETTO:-0500
TZNAME:EST
DTSTART:20291104T060000
END:STANDARD
BEGIN:DAYLIGHT
TZOFFSETFROM:-0500
TZOFFSETTO:-0400
TZNAME:EDT
DTSTART:20300310T070000
END:DAYLIGHT
BEGIN:STANDARD
TZOFFSETFROM:-0400
TZOFFSETTO:-0500
TZNAME:EST
DTSTART:20301103T060000
END:STANDARD
BEGIN:DAYLIGHT
TZOFFSETFROM:-0500
TZOFFSETTO:-0400
TZNAME:EDT
DTSTART:20310309T070000
END:DAYLIGHT
BEGIN:STANDARD
TZOFFSETFROM:-0400
TZOFFSETTO:-0500
TZNAME:EST
DTSTART:20311102T060000
END:STANDARD
END:VTIMEZONE
BEGIN:VEVENT
DTSTART;TZID=America/Toronto:20300306T140000
DTEND;TZID=America/Toronto:20300306T170000
DTSTAMP:20260422T153849
CREATED:20260305T220132Z
LAST-MODIFIED:20260305T220132Z
UID:10000510-1899036000-1899046800@www.anguslegion499.ca
SUMMARY:Bid Euchre-Upper Hall
DESCRIPTION:New Members Welcome
URL:https://www.anguslegion499.ca/event/bid-euchre-upper-hall/2030-03-06
CATEGORIES:Sports
END:VEVENT
BEGIN:VEVENT
DTSTART;TZID=America/Toronto:20300306T193000
DTEND;TZID=America/Toronto:20300306T220000
DTSTAMP:20260422T153849
CREATED:20260305T220650Z
LAST-MODIFIED:20260305T220650Z
UID:10000771-1899055800-1899064800@www.anguslegion499.ca
SUMMARY:Wednesday Dart League-Upper Hall
DESCRIPTION:Open \nBanquet at end of Season
URL:https://www.anguslegion499.ca/event/wednesday-dart-league-upper-hall/2030-03-06
CATEGORIES:Sports
END:VEVENT
BEGIN:VEVENT
DTSTART;TZID=America/Toronto:20300307T190000
DTEND;TZID=America/Toronto:20300307T220000
DTSTAMP:20260422T153849
CREATED:20260305T221008Z
LAST-MODIFIED:20260305T221008Z
UID:10001033-1899140400-1899151200@www.anguslegion499.ca
SUMMARY:Thursday Euchre-Upper Hall
DESCRIPTION:$5 \nBanquet
URL:https://www.anguslegion499.ca/event/thursday-euchre-upper-hall/2030-03-07
CATEGORIES:Sports
END:VEVENT
BEGIN:VEVENT
DTSTART;TZID=America/Toronto:20300310T130000
DTEND;TZID=America/Toronto:20300310T160000
DTSTAMP:20260422T153849
CREATED:20260305T131539Z
LAST-MODIFIED:20260324T180559Z
UID:10001264-1899378000-1899388800@www.anguslegion499.ca
SUMMARY:Recurring Rental-Lower Hall
DESCRIPTION:Private Meeting
URL:https://www.anguslegion499.ca/event/recurring-rental/2030-03-10
CATEGORIES:Booked Rooms
END:VEVENT
BEGIN:VEVENT
DTSTART;TZID=America/Toronto:20300313T140000
DTEND;TZID=America/Toronto:20300313T170000
DTSTAMP:20260422T153849
CREATED:20260305T220132Z
LAST-MODIFIED:20260305T220132Z
UID:10000511-1899640800-1899651600@www.anguslegion499.ca
SUMMARY:Bid Euchre-Upper Hall
DESCRIPTION:New Members Welcome
URL:https://www.anguslegion499.ca/event/bid-euchre-upper-hall/2030-03-13
CATEGORIES:Sports
END:VEVENT
BEGIN:VEVENT
DTSTART;TZID=America/Toronto:20300313T193000
DTEND;TZID=America/Toronto:20300313T220000
DTSTAMP:20260422T153849
CREATED:20260305T220650Z
LAST-MODIFIED:20260305T220650Z
UID:10000772-1899660600-1899669600@www.anguslegion499.ca
SUMMARY:Wednesday Dart League-Upper Hall
DESCRIPTION:Open \nBanquet at end of Season
URL:https://www.anguslegion499.ca/event/wednesday-dart-league-upper-hall/2030-03-13
CATEGORIES:Sports
END:VEVENT
BEGIN:VEVENT
DTSTART;TZID=America/Toronto:20300314T190000
DTEND;TZID=America/Toronto:20300314T220000
DTSTAMP:20260422T153850
CREATED:20260305T221008Z
LAST-MODIFIED:20260305T221008Z
UID:10001034-1899745200-1899756000@www.anguslegion499.ca
SUMMARY:Thursday Euchre-Upper Hall
DESCRIPTION:$5 \nBanquet
URL:https://www.anguslegion499.ca/event/thursday-euchre-upper-hall/2030-03-14
CATEGORIES:Sports
END:VEVENT
BEGIN:VEVENT
DTSTART;TZID=America/Toronto:20300320T140000
DTEND;TZID=America/Toronto:20300320T170000
DTSTAMP:20260422T153850
CREATED:20260305T220132Z
LAST-MODIFIED:20260305T220132Z
UID:10000512-1900245600-1900256400@www.anguslegion499.ca
SUMMARY:Bid Euchre-Upper Hall
DESCRIPTION:New Members Welcome
URL:https://www.anguslegion499.ca/event/bid-euchre-upper-hall/2030-03-20
CATEGORIES:Sports
END:VEVENT
BEGIN:VEVENT
DTSTART;TZID=America/Toronto:20300320T193000
DTEND;TZID=America/Toronto:20300320T220000
DTSTAMP:20260422T153850
CREATED:20260305T220650Z
LAST-MODIFIED:20260305T220650Z
UID:10000773-1900265400-1900274400@www.anguslegion499.ca
SUMMARY:Wednesday Dart League-Upper Hall
DESCRIPTION:Open \nBanquet at end of Season
URL:https://www.anguslegion499.ca/event/wednesday-dart-league-upper-hall/2030-03-20
CATEGORIES:Sports
END:VEVENT
BEGIN:VEVENT
DTSTART;TZID=America/Toronto:20300321T190000
DTEND;TZID=America/Toronto:20300321T220000
DTSTAMP:20260422T153850
CREATED:20260305T221008Z
LAST-MODIFIED:20260305T221008Z
UID:10001035-1900350000-1900360800@www.anguslegion499.ca
SUMMARY:Thursday Euchre-Upper Hall
DESCRIPTION:$5 \nBanquet
URL:https://www.anguslegion499.ca/event/thursday-euchre-upper-hall/2030-03-21
CATEGORIES:Sports
END:VEVENT
BEGIN:VEVENT
DTSTART;TZID=America/Toronto:20300327T140000
DTEND;TZID=America/Toronto:20300327T170000
DTSTAMP:20260422T153850
CREATED:20260305T220132Z
LAST-MODIFIED:20260305T220132Z
UID:10000513-1900850400-1900861200@www.anguslegion499.ca
SUMMARY:Bid Euchre-Upper Hall
DESCRIPTION:New Members Welcome
URL:https://www.anguslegion499.ca/event/bid-euchre-upper-hall/2030-03-27
CATEGORIES:Sports
END:VEVENT
BEGIN:VEVENT
DTSTART;TZID=America/Toronto:20300327T193000
DTEND;TZID=America/Toronto:20300327T220000
DTSTAMP:20260422T153850
CREATED:20260305T220650Z
LAST-MODIFIED:20260305T220650Z
UID:10000774-1900870200-1900879200@www.anguslegion499.ca
SUMMARY:Wednesday Dart League-Upper Hall
DESCRIPTION:Open \nBanquet at end of Season
URL:https://www.anguslegion499.ca/event/wednesday-dart-league-upper-hall/2030-03-27
CATEGORIES:Sports
END:VEVENT
BEGIN:VEVENT
DTSTART;TZID=America/Toronto:20300328T190000
DTEND;TZID=America/Toronto:20300328T220000
DTSTAMP:20260422T153850
CREATED:20260305T221008Z
LAST-MODIFIED:20260305T221008Z
UID:10001036-1900954800-1900965600@www.anguslegion499.ca
SUMMARY:Thursday Euchre-Upper Hall
DESCRIPTION:$5 \nBanquet
URL:https://www.anguslegion499.ca/event/thursday-euchre-upper-hall/2030-03-28
CATEGORIES:Sports
END:VEVENT
END:VCALENDAR