BEGIN:VCALENDAR
VERSION:2.0
PRODID:-//Royal Canadian Legion Branch 499 (Angus) - ECPv6.15.17//NONSGML v1.0//EN
CALSCALE:GREGORIAN
METHOD:PUBLISH
X-ORIGINAL-URL:https://www.anguslegion499.ca
X-WR-CALDESC:Events for Royal Canadian Legion Branch 499 (Angus)
REFRESH-INTERVAL;VALUE=DURATION:PT1H
X-Robots-Tag:noindex
X-PUBLISHED-TTL:PT1H
BEGIN:VTIMEZONE
TZID:America/Toronto
BEGIN:DAYLIGHT
TZOFFSETFROM:-0500
TZOFFSETTO:-0400
TZNAME:EDT
DTSTART:20290311T070000
END:DAYLIGHT
BEGIN:STANDARD
TZOFFSETFROM:-0400
TZOFFSETTO:-0500
TZNAME:EST
DTSTART:20291104T060000
END:STANDARD
BEGIN:DAYLIGHT
TZOFFSETFROM:-0500
TZOFFSETTO:-0400
TZNAME:EDT
DTSTART:20300310T070000
END:DAYLIGHT
BEGIN:STANDARD
TZOFFSETFROM:-0400
TZOFFSETTO:-0500
TZNAME:EST
DTSTART:20301103T060000
END:STANDARD
BEGIN:DAYLIGHT
TZOFFSETFROM:-0500
TZOFFSETTO:-0400
TZNAME:EDT
DTSTART:20310309T070000
END:DAYLIGHT
BEGIN:STANDARD
TZOFFSETFROM:-0400
TZOFFSETTO:-0500
TZNAME:EST
DTSTART:20311102T060000
END:STANDARD
END:VTIMEZONE
BEGIN:VEVENT
DTSTART;TZID=America/Toronto:20300403T140000
DTEND;TZID=America/Toronto:20300403T170000
DTSTAMP:20260422T165741
CREATED:20260305T220132Z
LAST-MODIFIED:20260305T220132Z
UID:10000514-1901455200-1901466000@www.anguslegion499.ca
SUMMARY:Bid Euchre-Upper Hall
DESCRIPTION:New Members Welcome
URL:https://www.anguslegion499.ca/event/bid-euchre-upper-hall/2030-04-03
CATEGORIES:Sports
END:VEVENT
BEGIN:VEVENT
DTSTART;TZID=America/Toronto:20300403T193000
DTEND;TZID=America/Toronto:20300403T220000
DTSTAMP:20260422T165741
CREATED:20260305T220650Z
LAST-MODIFIED:20260305T220650Z
UID:10000775-1901475000-1901484000@www.anguslegion499.ca
SUMMARY:Wednesday Dart League-Upper Hall
DESCRIPTION:Open \nBanquet at end of Season
URL:https://www.anguslegion499.ca/event/wednesday-dart-league-upper-hall/2030-04-03
CATEGORIES:Sports
END:VEVENT
BEGIN:VEVENT
DTSTART;TZID=America/Toronto:20300404T190000
DTEND;TZID=America/Toronto:20300404T220000
DTSTAMP:20260422T165741
CREATED:20260305T221008Z
LAST-MODIFIED:20260305T221008Z
UID:10001037-1901559600-1901570400@www.anguslegion499.ca
SUMMARY:Thursday Euchre-Upper Hall
DESCRIPTION:$5 \nBanquet
URL:https://www.anguslegion499.ca/event/thursday-euchre-upper-hall/2030-04-04
CATEGORIES:Sports
END:VEVENT
BEGIN:VEVENT
DTSTART;TZID=America/Toronto:20300410T140000
DTEND;TZID=America/Toronto:20300410T170000
DTSTAMP:20260422T165741
CREATED:20260305T220132Z
LAST-MODIFIED:20260305T220132Z
UID:10000515-1902060000-1902070800@www.anguslegion499.ca
SUMMARY:Bid Euchre-Upper Hall
DESCRIPTION:New Members Welcome
URL:https://www.anguslegion499.ca/event/bid-euchre-upper-hall/2030-04-10
CATEGORIES:Sports
END:VEVENT
BEGIN:VEVENT
DTSTART;TZID=America/Toronto:20300410T193000
DTEND;TZID=America/Toronto:20300410T220000
DTSTAMP:20260422T165741
CREATED:20260305T220650Z
LAST-MODIFIED:20260305T220650Z
UID:10000776-1902079800-1902088800@www.anguslegion499.ca
SUMMARY:Wednesday Dart League-Upper Hall
DESCRIPTION:Open \nBanquet at end of Season
URL:https://www.anguslegion499.ca/event/wednesday-dart-league-upper-hall/2030-04-10
CATEGORIES:Sports
END:VEVENT
BEGIN:VEVENT
DTSTART;TZID=America/Toronto:20300411T190000
DTEND;TZID=America/Toronto:20300411T220000
DTSTAMP:20260422T165741
CREATED:20260305T221008Z
LAST-MODIFIED:20260305T221008Z
UID:10001038-1902164400-1902175200@www.anguslegion499.ca
SUMMARY:Thursday Euchre-Upper Hall
DESCRIPTION:$5 \nBanquet
URL:https://www.anguslegion499.ca/event/thursday-euchre-upper-hall/2030-04-11
CATEGORIES:Sports
END:VEVENT
BEGIN:VEVENT
DTSTART;TZID=America/Toronto:20300414T130000
DTEND;TZID=America/Toronto:20300414T160000
DTSTAMP:20260422T165741
CREATED:20260305T131539Z
LAST-MODIFIED:20260324T180559Z
UID:10001265-1902402000-1902412800@www.anguslegion499.ca
SUMMARY:Recurring Rental-Lower Hall
DESCRIPTION:Private Meeting
URL:https://www.anguslegion499.ca/event/recurring-rental/2030-04-14
CATEGORIES:Booked Rooms
END:VEVENT
BEGIN:VEVENT
DTSTART;TZID=America/Toronto:20300417T140000
DTEND;TZID=America/Toronto:20300417T170000
DTSTAMP:20260422T165741
CREATED:20260305T220132Z
LAST-MODIFIED:20260305T220132Z
UID:10000516-1902664800-1902675600@www.anguslegion499.ca
SUMMARY:Bid Euchre-Upper Hall
DESCRIPTION:New Members Welcome
URL:https://www.anguslegion499.ca/event/bid-euchre-upper-hall/2030-04-17
CATEGORIES:Sports
END:VEVENT
BEGIN:VEVENT
DTSTART;TZID=America/Toronto:20300417T193000
DTEND;TZID=America/Toronto:20300417T220000
DTSTAMP:20260422T165741
CREATED:20260305T220650Z
LAST-MODIFIED:20260305T220650Z
UID:10000777-1902684600-1902693600@www.anguslegion499.ca
SUMMARY:Wednesday Dart League-Upper Hall
DESCRIPTION:Open \nBanquet at end of Season
URL:https://www.anguslegion499.ca/event/wednesday-dart-league-upper-hall/2030-04-17
CATEGORIES:Sports
END:VEVENT
BEGIN:VEVENT
DTSTART;TZID=America/Toronto:20300418T190000
DTEND;TZID=America/Toronto:20300418T220000
DTSTAMP:20260422T165741
CREATED:20260305T221008Z
LAST-MODIFIED:20260305T221008Z
UID:10001039-1902769200-1902780000@www.anguslegion499.ca
SUMMARY:Thursday Euchre-Upper Hall
DESCRIPTION:$5 \nBanquet
URL:https://www.anguslegion499.ca/event/thursday-euchre-upper-hall/2030-04-18
CATEGORIES:Sports
END:VEVENT
BEGIN:VEVENT
DTSTART;TZID=America/Toronto:20300421T120000
DTEND;TZID=America/Toronto:20300421T140000
DTSTAMP:20260422T165741
CREATED:20260324T182009Z
LAST-MODIFIED:20260324T182724Z
UID:10001293-1903003200-1903010400@www.anguslegion499.ca
SUMMARY:LEGION GENERAL MEETING
DESCRIPTION:Bring up to date Legion card \nSign in Required \nBar will be closed
URL:https://www.anguslegion499.ca/event/legion-general-meeting/2030-04-21
CATEGORIES:General Meeting
END:VEVENT
BEGIN:VEVENT
DTSTART;TZID=America/Toronto:20300424T140000
DTEND;TZID=America/Toronto:20300424T170000
DTSTAMP:20260422T165741
CREATED:20260305T220132Z
LAST-MODIFIED:20260305T220132Z
UID:10000517-1903269600-1903280400@www.anguslegion499.ca
SUMMARY:Bid Euchre-Upper Hall
DESCRIPTION:New Members Welcome
URL:https://www.anguslegion499.ca/event/bid-euchre-upper-hall/2030-04-24
CATEGORIES:Sports
END:VEVENT
BEGIN:VEVENT
DTSTART;TZID=America/Toronto:20300424T193000
DTEND;TZID=America/Toronto:20300424T220000
DTSTAMP:20260422T165741
CREATED:20260305T220650Z
LAST-MODIFIED:20260305T220650Z
UID:10000778-1903289400-1903298400@www.anguslegion499.ca
SUMMARY:Wednesday Dart League-Upper Hall
DESCRIPTION:Open \nBanquet at end of Season
URL:https://www.anguslegion499.ca/event/wednesday-dart-league-upper-hall/2030-04-24
CATEGORIES:Sports
END:VEVENT
BEGIN:VEVENT
DTSTART;TZID=America/Toronto:20300425T190000
DTEND;TZID=America/Toronto:20300425T220000
DTSTAMP:20260422T165741
CREATED:20260305T221008Z
LAST-MODIFIED:20260305T221008Z
UID:10001040-1903374000-1903384800@www.anguslegion499.ca
SUMMARY:Thursday Euchre-Upper Hall
DESCRIPTION:$5 \nBanquet
URL:https://www.anguslegion499.ca/event/thursday-euchre-upper-hall/2030-04-25
CATEGORIES:Sports
END:VEVENT
END:VCALENDAR