BEGIN:VCALENDAR
VERSION:2.0
PRODID:-//Royal Canadian Legion Branch 499 (Angus) - ECPv6.15.17//NONSGML v1.0//EN
CALSCALE:GREGORIAN
METHOD:PUBLISH
X-WR-CALNAME:Royal Canadian Legion Branch 499 (Angus)
X-ORIGINAL-URL:https://www.anguslegion499.ca
X-WR-CALDESC:Events for Royal Canadian Legion Branch 499 (Angus)
REFRESH-INTERVAL;VALUE=DURATION:PT1H
X-Robots-Tag:noindex
X-PUBLISHED-TTL:PT1H
BEGIN:VTIMEZONE
TZID:America/Toronto
BEGIN:DAYLIGHT
TZOFFSETFROM:-0500
TZOFFSETTO:-0400
TZNAME:EDT
DTSTART:20290311T070000
END:DAYLIGHT
BEGIN:STANDARD
TZOFFSETFROM:-0400
TZOFFSETTO:-0500
TZNAME:EST
DTSTART:20291104T060000
END:STANDARD
BEGIN:DAYLIGHT
TZOFFSETFROM:-0500
TZOFFSETTO:-0400
TZNAME:EDT
DTSTART:20300310T070000
END:DAYLIGHT
BEGIN:STANDARD
TZOFFSETFROM:-0400
TZOFFSETTO:-0500
TZNAME:EST
DTSTART:20301103T060000
END:STANDARD
BEGIN:DAYLIGHT
TZOFFSETFROM:-0500
TZOFFSETTO:-0400
TZNAME:EDT
DTSTART:20310309T070000
END:DAYLIGHT
BEGIN:STANDARD
TZOFFSETFROM:-0400
TZOFFSETTO:-0500
TZNAME:EST
DTSTART:20311102T060000
END:STANDARD
END:VTIMEZONE
BEGIN:VEVENT
DTSTART;TZID=America/Toronto:20300501T140000
DTEND;TZID=America/Toronto:20300501T170000
DTSTAMP:20260422T182930
CREATED:20260305T220132Z
LAST-MODIFIED:20260305T220132Z
UID:10000518-1903874400-1903885200@www.anguslegion499.ca
SUMMARY:Bid Euchre-Upper Hall
DESCRIPTION:New Members Welcome
URL:https://www.anguslegion499.ca/event/bid-euchre-upper-hall/2030-05-01
CATEGORIES:Sports
END:VEVENT
BEGIN:VEVENT
DTSTART;TZID=America/Toronto:20300501T193000
DTEND;TZID=America/Toronto:20300501T220000
DTSTAMP:20260422T182930
CREATED:20260305T220650Z
LAST-MODIFIED:20260305T220650Z
UID:10000779-1903894200-1903903200@www.anguslegion499.ca
SUMMARY:Wednesday Dart League-Upper Hall
DESCRIPTION:Open \nBanquet at end of Season
URL:https://www.anguslegion499.ca/event/wednesday-dart-league-upper-hall/2030-05-01
CATEGORIES:Sports
END:VEVENT
BEGIN:VEVENT
DTSTART;TZID=America/Toronto:20300502T190000
DTEND;TZID=America/Toronto:20300502T220000
DTSTAMP:20260422T182930
CREATED:20260305T221008Z
LAST-MODIFIED:20260305T221008Z
UID:10001041-1903978800-1903989600@www.anguslegion499.ca
SUMMARY:Thursday Euchre-Upper Hall
DESCRIPTION:$5 \nBanquet
URL:https://www.anguslegion499.ca/event/thursday-euchre-upper-hall/2030-05-02
CATEGORIES:Sports
END:VEVENT
BEGIN:VEVENT
DTSTART;TZID=America/Toronto:20300508T140000
DTEND;TZID=America/Toronto:20300508T170000
DTSTAMP:20260422T182930
CREATED:20260305T220132Z
LAST-MODIFIED:20260305T220132Z
UID:10000519-1904479200-1904490000@www.anguslegion499.ca
SUMMARY:Bid Euchre-Upper Hall
DESCRIPTION:New Members Welcome
URL:https://www.anguslegion499.ca/event/bid-euchre-upper-hall/2030-05-08
CATEGORIES:Sports
END:VEVENT
BEGIN:VEVENT
DTSTART;TZID=America/Toronto:20300508T193000
DTEND;TZID=America/Toronto:20300508T220000
DTSTAMP:20260422T182930
CREATED:20260305T220650Z
LAST-MODIFIED:20260305T220650Z
UID:10000780-1904499000-1904508000@www.anguslegion499.ca
SUMMARY:Wednesday Dart League-Upper Hall
DESCRIPTION:Open \nBanquet at end of Season
URL:https://www.anguslegion499.ca/event/wednesday-dart-league-upper-hall/2030-05-08
CATEGORIES:Sports
END:VEVENT
BEGIN:VEVENT
DTSTART;TZID=America/Toronto:20300509T190000
DTEND;TZID=America/Toronto:20300509T220000
DTSTAMP:20260422T182930
CREATED:20260305T221008Z
LAST-MODIFIED:20260305T221008Z
UID:10001042-1904583600-1904594400@www.anguslegion499.ca
SUMMARY:Thursday Euchre-Upper Hall
DESCRIPTION:$5 \nBanquet
URL:https://www.anguslegion499.ca/event/thursday-euchre-upper-hall/2030-05-09
CATEGORIES:Sports
END:VEVENT
BEGIN:VEVENT
DTSTART;TZID=America/Toronto:20300512T130000
DTEND;TZID=America/Toronto:20300512T160000
DTSTAMP:20260422T182930
CREATED:20260305T131539Z
LAST-MODIFIED:20260324T180559Z
UID:10001266-1904821200-1904832000@www.anguslegion499.ca
SUMMARY:Recurring Rental-Lower Hall
DESCRIPTION:Private Meeting
URL:https://www.anguslegion499.ca/event/recurring-rental/2030-05-12
CATEGORIES:Booked Rooms
END:VEVENT
BEGIN:VEVENT
DTSTART;TZID=America/Toronto:20300515T140000
DTEND;TZID=America/Toronto:20300515T170000
DTSTAMP:20260422T182930
CREATED:20260305T220132Z
LAST-MODIFIED:20260305T220132Z
UID:10000520-1905084000-1905094800@www.anguslegion499.ca
SUMMARY:Bid Euchre-Upper Hall
DESCRIPTION:New Members Welcome
URL:https://www.anguslegion499.ca/event/bid-euchre-upper-hall/2030-05-15
CATEGORIES:Sports
END:VEVENT
BEGIN:VEVENT
DTSTART;TZID=America/Toronto:20300515T193000
DTEND;TZID=America/Toronto:20300515T220000
DTSTAMP:20260422T182930
CREATED:20260305T220650Z
LAST-MODIFIED:20260305T220650Z
UID:10000781-1905103800-1905112800@www.anguslegion499.ca
SUMMARY:Wednesday Dart League-Upper Hall
DESCRIPTION:Open \nBanquet at end of Season
URL:https://www.anguslegion499.ca/event/wednesday-dart-league-upper-hall/2030-05-15
CATEGORIES:Sports
END:VEVENT
BEGIN:VEVENT
DTSTART;TZID=America/Toronto:20300516T190000
DTEND;TZID=America/Toronto:20300516T220000
DTSTAMP:20260422T182930
CREATED:20260305T221008Z
LAST-MODIFIED:20260305T221008Z
UID:10001043-1905188400-1905199200@www.anguslegion499.ca
SUMMARY:Thursday Euchre-Upper Hall
DESCRIPTION:$5 \nBanquet
URL:https://www.anguslegion499.ca/event/thursday-euchre-upper-hall/2030-05-16
CATEGORIES:Sports
END:VEVENT
BEGIN:VEVENT
DTSTART;TZID=America/Toronto:20300522T140000
DTEND;TZID=America/Toronto:20300522T170000
DTSTAMP:20260422T182930
CREATED:20260305T220132Z
LAST-MODIFIED:20260305T220132Z
UID:10000521-1905688800-1905699600@www.anguslegion499.ca
SUMMARY:Bid Euchre-Upper Hall
DESCRIPTION:New Members Welcome
URL:https://www.anguslegion499.ca/event/bid-euchre-upper-hall/2030-05-22
CATEGORIES:Sports
END:VEVENT
BEGIN:VEVENT
DTSTART;TZID=America/Toronto:20300522T193000
DTEND;TZID=America/Toronto:20300522T220000
DTSTAMP:20260422T182930
CREATED:20260305T220650Z
LAST-MODIFIED:20260305T220650Z
UID:10000782-1905708600-1905717600@www.anguslegion499.ca
SUMMARY:Wednesday Dart League-Upper Hall
DESCRIPTION:Open \nBanquet at end of Season
URL:https://www.anguslegion499.ca/event/wednesday-dart-league-upper-hall/2030-05-22
CATEGORIES:Sports
END:VEVENT
BEGIN:VEVENT
DTSTART;TZID=America/Toronto:20300523T190000
DTEND;TZID=America/Toronto:20300523T220000
DTSTAMP:20260422T182930
CREATED:20260305T221008Z
LAST-MODIFIED:20260305T221008Z
UID:10001044-1905793200-1905804000@www.anguslegion499.ca
SUMMARY:Thursday Euchre-Upper Hall
DESCRIPTION:$5 \nBanquet
URL:https://www.anguslegion499.ca/event/thursday-euchre-upper-hall/2030-05-23
CATEGORIES:Sports
END:VEVENT
BEGIN:VEVENT
DTSTART;TZID=America/Toronto:20300529T140000
DTEND;TZID=America/Toronto:20300529T170000
DTSTAMP:20260422T182930
CREATED:20260305T220132Z
LAST-MODIFIED:20260305T220132Z
UID:10000522-1906293600-1906304400@www.anguslegion499.ca
SUMMARY:Bid Euchre-Upper Hall
DESCRIPTION:New Members Welcome
URL:https://www.anguslegion499.ca/event/bid-euchre-upper-hall/2030-05-29
CATEGORIES:Sports
END:VEVENT
BEGIN:VEVENT
DTSTART;TZID=America/Toronto:20300529T193000
DTEND;TZID=America/Toronto:20300529T220000
DTSTAMP:20260422T182930
CREATED:20260305T220650Z
LAST-MODIFIED:20260305T220650Z
UID:10000783-1906313400-1906322400@www.anguslegion499.ca
SUMMARY:Wednesday Dart League-Upper Hall
DESCRIPTION:Open \nBanquet at end of Season
URL:https://www.anguslegion499.ca/event/wednesday-dart-league-upper-hall/2030-05-29
CATEGORIES:Sports
END:VEVENT
BEGIN:VEVENT
DTSTART;TZID=America/Toronto:20300530T190000
DTEND;TZID=America/Toronto:20300530T220000
DTSTAMP:20260422T182930
CREATED:20260305T221008Z
LAST-MODIFIED:20260305T221008Z
UID:10001045-1906398000-1906408800@www.anguslegion499.ca
SUMMARY:Thursday Euchre-Upper Hall
DESCRIPTION:$5 \nBanquet
URL:https://www.anguslegion499.ca/event/thursday-euchre-upper-hall/2030-05-30
CATEGORIES:Sports
END:VEVENT
END:VCALENDAR