BEGIN:VCALENDAR
VERSION:2.0
PRODID:-//Royal Canadian Legion Branch 499 (Angus) - ECPv6.15.17//NONSGML v1.0//EN
CALSCALE:GREGORIAN
METHOD:PUBLISH
X-WR-CALNAME:Royal Canadian Legion Branch 499 (Angus)
X-ORIGINAL-URL:https://www.anguslegion499.ca
X-WR-CALDESC:Events for Royal Canadian Legion Branch 499 (Angus)
REFRESH-INTERVAL;VALUE=DURATION:PT1H
X-Robots-Tag:noindex
X-PUBLISHED-TTL:PT1H
BEGIN:VTIMEZONE
TZID:America/Toronto
BEGIN:DAYLIGHT
TZOFFSETFROM:-0500
TZOFFSETTO:-0400
TZNAME:EDT
DTSTART:20290311T070000
END:DAYLIGHT
BEGIN:STANDARD
TZOFFSETFROM:-0400
TZOFFSETTO:-0500
TZNAME:EST
DTSTART:20291104T060000
END:STANDARD
BEGIN:DAYLIGHT
TZOFFSETFROM:-0500
TZOFFSETTO:-0400
TZNAME:EDT
DTSTART:20300310T070000
END:DAYLIGHT
BEGIN:STANDARD
TZOFFSETFROM:-0400
TZOFFSETTO:-0500
TZNAME:EST
DTSTART:20301103T060000
END:STANDARD
BEGIN:DAYLIGHT
TZOFFSETFROM:-0500
TZOFFSETTO:-0400
TZNAME:EDT
DTSTART:20310309T070000
END:DAYLIGHT
BEGIN:STANDARD
TZOFFSETFROM:-0400
TZOFFSETTO:-0500
TZNAME:EST
DTSTART:20311102T060000
END:STANDARD
END:VTIMEZONE
BEGIN:VEVENT
DTSTART;TZID=America/Toronto:20300605T140000
DTEND;TZID=America/Toronto:20300605T170000
DTSTAMP:20260422T194822
CREATED:20260305T220132Z
LAST-MODIFIED:20260305T220132Z
UID:10000523-1906898400-1906909200@www.anguslegion499.ca
SUMMARY:Bid Euchre-Upper Hall
DESCRIPTION:New Members Welcome
URL:https://www.anguslegion499.ca/event/bid-euchre-upper-hall/2030-06-05
CATEGORIES:Sports
END:VEVENT
BEGIN:VEVENT
DTSTART;TZID=America/Toronto:20300605T193000
DTEND;TZID=America/Toronto:20300605T220000
DTSTAMP:20260422T194822
CREATED:20260305T220650Z
LAST-MODIFIED:20260305T220650Z
UID:10000784-1906918200-1906927200@www.anguslegion499.ca
SUMMARY:Wednesday Dart League-Upper Hall
DESCRIPTION:Open \nBanquet at end of Season
URL:https://www.anguslegion499.ca/event/wednesday-dart-league-upper-hall/2030-06-05
CATEGORIES:Sports
END:VEVENT
BEGIN:VEVENT
DTSTART;TZID=America/Toronto:20300606T190000
DTEND;TZID=America/Toronto:20300606T220000
DTSTAMP:20260422T194822
CREATED:20260305T221008Z
LAST-MODIFIED:20260305T221008Z
UID:10001046-1907002800-1907013600@www.anguslegion499.ca
SUMMARY:Thursday Euchre-Upper Hall
DESCRIPTION:$5 \nBanquet
URL:https://www.anguslegion499.ca/event/thursday-euchre-upper-hall/2030-06-06
CATEGORIES:Sports
END:VEVENT
BEGIN:VEVENT
DTSTART;TZID=America/Toronto:20300609T130000
DTEND;TZID=America/Toronto:20300609T160000
DTSTAMP:20260422T194822
CREATED:20260305T131539Z
LAST-MODIFIED:20260324T180559Z
UID:10001267-1907240400-1907251200@www.anguslegion499.ca
SUMMARY:Recurring Rental-Lower Hall
DESCRIPTION:Private Meeting
URL:https://www.anguslegion499.ca/event/recurring-rental/2030-06-09
CATEGORIES:Booked Rooms
END:VEVENT
BEGIN:VEVENT
DTSTART;TZID=America/Toronto:20300612T140000
DTEND;TZID=America/Toronto:20300612T170000
DTSTAMP:20260422T194822
CREATED:20260305T220132Z
LAST-MODIFIED:20260305T220132Z
UID:10000524-1907503200-1907514000@www.anguslegion499.ca
SUMMARY:Bid Euchre-Upper Hall
DESCRIPTION:New Members Welcome
URL:https://www.anguslegion499.ca/event/bid-euchre-upper-hall/2030-06-12
CATEGORIES:Sports
END:VEVENT
BEGIN:VEVENT
DTSTART;TZID=America/Toronto:20300612T193000
DTEND;TZID=America/Toronto:20300612T220000
DTSTAMP:20260422T194822
CREATED:20260305T220650Z
LAST-MODIFIED:20260305T220650Z
UID:10000785-1907523000-1907532000@www.anguslegion499.ca
SUMMARY:Wednesday Dart League-Upper Hall
DESCRIPTION:Open \nBanquet at end of Season
URL:https://www.anguslegion499.ca/event/wednesday-dart-league-upper-hall/2030-06-12
CATEGORIES:Sports
END:VEVENT
BEGIN:VEVENT
DTSTART;TZID=America/Toronto:20300613T190000
DTEND;TZID=America/Toronto:20300613T220000
DTSTAMP:20260422T194822
CREATED:20260305T221008Z
LAST-MODIFIED:20260305T221008Z
UID:10001047-1907607600-1907618400@www.anguslegion499.ca
SUMMARY:Thursday Euchre-Upper Hall
DESCRIPTION:$5 \nBanquet
URL:https://www.anguslegion499.ca/event/thursday-euchre-upper-hall/2030-06-13
CATEGORIES:Sports
END:VEVENT
BEGIN:VEVENT
DTSTART;TZID=America/Toronto:20300616T120000
DTEND;TZID=America/Toronto:20300616T140000
DTSTAMP:20260422T194822
CREATED:20260324T182009Z
LAST-MODIFIED:20260324T182724Z
UID:10001294-1907841600-1907848800@www.anguslegion499.ca
SUMMARY:LEGION GENERAL MEETING
DESCRIPTION:Bring up to date Legion card \nSign in Required \nBar will be closed
URL:https://www.anguslegion499.ca/event/legion-general-meeting/2030-06-16
CATEGORIES:General Meeting
END:VEVENT
BEGIN:VEVENT
DTSTART;TZID=America/Toronto:20300619T140000
DTEND;TZID=America/Toronto:20300619T170000
DTSTAMP:20260422T194822
CREATED:20260305T220132Z
LAST-MODIFIED:20260305T220132Z
UID:10000525-1908108000-1908118800@www.anguslegion499.ca
SUMMARY:Bid Euchre-Upper Hall
DESCRIPTION:New Members Welcome
URL:https://www.anguslegion499.ca/event/bid-euchre-upper-hall/2030-06-19
CATEGORIES:Sports
END:VEVENT
BEGIN:VEVENT
DTSTART;TZID=America/Toronto:20300619T193000
DTEND;TZID=America/Toronto:20300619T220000
DTSTAMP:20260422T194822
CREATED:20260305T220650Z
LAST-MODIFIED:20260305T220650Z
UID:10000786-1908127800-1908136800@www.anguslegion499.ca
SUMMARY:Wednesday Dart League-Upper Hall
DESCRIPTION:Open \nBanquet at end of Season
URL:https://www.anguslegion499.ca/event/wednesday-dart-league-upper-hall/2030-06-19
CATEGORIES:Sports
END:VEVENT
BEGIN:VEVENT
DTSTART;TZID=America/Toronto:20300620T190000
DTEND;TZID=America/Toronto:20300620T220000
DTSTAMP:20260422T194822
CREATED:20260305T221008Z
LAST-MODIFIED:20260305T221008Z
UID:10001048-1908212400-1908223200@www.anguslegion499.ca
SUMMARY:Thursday Euchre-Upper Hall
DESCRIPTION:$5 \nBanquet
URL:https://www.anguslegion499.ca/event/thursday-euchre-upper-hall/2030-06-20
CATEGORIES:Sports
END:VEVENT
BEGIN:VEVENT
DTSTART;TZID=America/Toronto:20300626T140000
DTEND;TZID=America/Toronto:20300626T170000
DTSTAMP:20260422T194822
CREATED:20260305T220132Z
LAST-MODIFIED:20260305T220132Z
UID:10000526-1908712800-1908723600@www.anguslegion499.ca
SUMMARY:Bid Euchre-Upper Hall
DESCRIPTION:New Members Welcome
URL:https://www.anguslegion499.ca/event/bid-euchre-upper-hall/2030-06-26
CATEGORIES:Sports
END:VEVENT
BEGIN:VEVENT
DTSTART;TZID=America/Toronto:20300626T193000
DTEND;TZID=America/Toronto:20300626T220000
DTSTAMP:20260422T194822
CREATED:20260305T220650Z
LAST-MODIFIED:20260305T220650Z
UID:10000787-1908732600-1908741600@www.anguslegion499.ca
SUMMARY:Wednesday Dart League-Upper Hall
DESCRIPTION:Open \nBanquet at end of Season
URL:https://www.anguslegion499.ca/event/wednesday-dart-league-upper-hall/2030-06-26
CATEGORIES:Sports
END:VEVENT
BEGIN:VEVENT
DTSTART;TZID=America/Toronto:20300627T190000
DTEND;TZID=America/Toronto:20300627T220000
DTSTAMP:20260422T194822
CREATED:20260305T221008Z
LAST-MODIFIED:20260305T221008Z
UID:10001049-1908817200-1908828000@www.anguslegion499.ca
SUMMARY:Thursday Euchre-Upper Hall
DESCRIPTION:$5 \nBanquet
URL:https://www.anguslegion499.ca/event/thursday-euchre-upper-hall/2030-06-27
CATEGORIES:Sports
END:VEVENT
END:VCALENDAR