BEGIN:VCALENDAR
VERSION:2.0
PRODID:-//Royal Canadian Legion Branch 499 (Angus) - ECPv6.15.17//NONSGML v1.0//EN
CALSCALE:GREGORIAN
METHOD:PUBLISH
X-WR-CALNAME:Royal Canadian Legion Branch 499 (Angus)
X-ORIGINAL-URL:https://www.anguslegion499.ca
X-WR-CALDESC:Events for Royal Canadian Legion Branch 499 (Angus)
REFRESH-INTERVAL;VALUE=DURATION:PT1H
X-Robots-Tag:noindex
X-PUBLISHED-TTL:PT1H
BEGIN:VTIMEZONE
TZID:America/Toronto
BEGIN:DAYLIGHT
TZOFFSETFROM:-0500
TZOFFSETTO:-0400
TZNAME:EDT
DTSTART:20290311T070000
END:DAYLIGHT
BEGIN:STANDARD
TZOFFSETFROM:-0400
TZOFFSETTO:-0500
TZNAME:EST
DTSTART:20291104T060000
END:STANDARD
BEGIN:DAYLIGHT
TZOFFSETFROM:-0500
TZOFFSETTO:-0400
TZNAME:EDT
DTSTART:20300310T070000
END:DAYLIGHT
BEGIN:STANDARD
TZOFFSETFROM:-0400
TZOFFSETTO:-0500
TZNAME:EST
DTSTART:20301103T060000
END:STANDARD
BEGIN:DAYLIGHT
TZOFFSETFROM:-0500
TZOFFSETTO:-0400
TZNAME:EDT
DTSTART:20310309T070000
END:DAYLIGHT
BEGIN:STANDARD
TZOFFSETFROM:-0400
TZOFFSETTO:-0500
TZNAME:EST
DTSTART:20311102T060000
END:STANDARD
END:VTIMEZONE
BEGIN:VEVENT
DTSTART;TZID=America/Toronto:20300703T140000
DTEND;TZID=America/Toronto:20300703T170000
DTSTAMP:20260422T210158
CREATED:20260305T220132Z
LAST-MODIFIED:20260305T220132Z
UID:10000527-1909317600-1909328400@www.anguslegion499.ca
SUMMARY:Bid Euchre-Upper Hall
DESCRIPTION:New Members Welcome
URL:https://www.anguslegion499.ca/event/bid-euchre-upper-hall/2030-07-03
CATEGORIES:Sports
END:VEVENT
BEGIN:VEVENT
DTSTART;TZID=America/Toronto:20300703T193000
DTEND;TZID=America/Toronto:20300703T220000
DTSTAMP:20260422T210158
CREATED:20260305T220650Z
LAST-MODIFIED:20260305T220650Z
UID:10000788-1909337400-1909346400@www.anguslegion499.ca
SUMMARY:Wednesday Dart League-Upper Hall
DESCRIPTION:Open \nBanquet at end of Season
URL:https://www.anguslegion499.ca/event/wednesday-dart-league-upper-hall/2030-07-03
CATEGORIES:Sports
END:VEVENT
BEGIN:VEVENT
DTSTART;TZID=America/Toronto:20300704T190000
DTEND;TZID=America/Toronto:20300704T220000
DTSTAMP:20260422T210158
CREATED:20260305T221008Z
LAST-MODIFIED:20260305T221008Z
UID:10001050-1909422000-1909432800@www.anguslegion499.ca
SUMMARY:Thursday Euchre-Upper Hall
DESCRIPTION:$5 \nBanquet
URL:https://www.anguslegion499.ca/event/thursday-euchre-upper-hall/2030-07-04
CATEGORIES:Sports
END:VEVENT
BEGIN:VEVENT
DTSTART;TZID=America/Toronto:20300710T140000
DTEND;TZID=America/Toronto:20300710T170000
DTSTAMP:20260422T210158
CREATED:20260305T220132Z
LAST-MODIFIED:20260305T220132Z
UID:10000528-1909922400-1909933200@www.anguslegion499.ca
SUMMARY:Bid Euchre-Upper Hall
DESCRIPTION:New Members Welcome
URL:https://www.anguslegion499.ca/event/bid-euchre-upper-hall/2030-07-10
CATEGORIES:Sports
END:VEVENT
BEGIN:VEVENT
DTSTART;TZID=America/Toronto:20300710T193000
DTEND;TZID=America/Toronto:20300710T220000
DTSTAMP:20260422T210158
CREATED:20260305T220650Z
LAST-MODIFIED:20260305T220650Z
UID:10000789-1909942200-1909951200@www.anguslegion499.ca
SUMMARY:Wednesday Dart League-Upper Hall
DESCRIPTION:Open \nBanquet at end of Season
URL:https://www.anguslegion499.ca/event/wednesday-dart-league-upper-hall/2030-07-10
CATEGORIES:Sports
END:VEVENT
BEGIN:VEVENT
DTSTART;TZID=America/Toronto:20300711T190000
DTEND;TZID=America/Toronto:20300711T220000
DTSTAMP:20260422T210158
CREATED:20260305T221008Z
LAST-MODIFIED:20260305T221008Z
UID:10001051-1910026800-1910037600@www.anguslegion499.ca
SUMMARY:Thursday Euchre-Upper Hall
DESCRIPTION:$5 \nBanquet
URL:https://www.anguslegion499.ca/event/thursday-euchre-upper-hall/2030-07-11
CATEGORIES:Sports
END:VEVENT
BEGIN:VEVENT
DTSTART;TZID=America/Toronto:20300714T130000
DTEND;TZID=America/Toronto:20300714T160000
DTSTAMP:20260422T210158
CREATED:20260305T131539Z
LAST-MODIFIED:20260324T180559Z
UID:10001268-1910264400-1910275200@www.anguslegion499.ca
SUMMARY:Recurring Rental-Lower Hall
DESCRIPTION:Private Meeting
URL:https://www.anguslegion499.ca/event/recurring-rental/2030-07-14
CATEGORIES:Booked Rooms
END:VEVENT
BEGIN:VEVENT
DTSTART;TZID=America/Toronto:20300717T140000
DTEND;TZID=America/Toronto:20300717T170000
DTSTAMP:20260422T210158
CREATED:20260305T220132Z
LAST-MODIFIED:20260305T220132Z
UID:10000529-1910527200-1910538000@www.anguslegion499.ca
SUMMARY:Bid Euchre-Upper Hall
DESCRIPTION:New Members Welcome
URL:https://www.anguslegion499.ca/event/bid-euchre-upper-hall/2030-07-17
CATEGORIES:Sports
END:VEVENT
BEGIN:VEVENT
DTSTART;TZID=America/Toronto:20300717T193000
DTEND;TZID=America/Toronto:20300717T220000
DTSTAMP:20260422T210158
CREATED:20260305T220650Z
LAST-MODIFIED:20260305T220650Z
UID:10000790-1910547000-1910556000@www.anguslegion499.ca
SUMMARY:Wednesday Dart League-Upper Hall
DESCRIPTION:Open \nBanquet at end of Season
URL:https://www.anguslegion499.ca/event/wednesday-dart-league-upper-hall/2030-07-17
CATEGORIES:Sports
END:VEVENT
BEGIN:VEVENT
DTSTART;TZID=America/Toronto:20300718T190000
DTEND;TZID=America/Toronto:20300718T220000
DTSTAMP:20260422T210158
CREATED:20260305T221008Z
LAST-MODIFIED:20260305T221008Z
UID:10001052-1910631600-1910642400@www.anguslegion499.ca
SUMMARY:Thursday Euchre-Upper Hall
DESCRIPTION:$5 \nBanquet
URL:https://www.anguslegion499.ca/event/thursday-euchre-upper-hall/2030-07-18
CATEGORIES:Sports
END:VEVENT
BEGIN:VEVENT
DTSTART;TZID=America/Toronto:20300724T140000
DTEND;TZID=America/Toronto:20300724T170000
DTSTAMP:20260422T210158
CREATED:20260305T220132Z
LAST-MODIFIED:20260305T220132Z
UID:10000530-1911132000-1911142800@www.anguslegion499.ca
SUMMARY:Bid Euchre-Upper Hall
DESCRIPTION:New Members Welcome
URL:https://www.anguslegion499.ca/event/bid-euchre-upper-hall/2030-07-24
CATEGORIES:Sports
END:VEVENT
BEGIN:VEVENT
DTSTART;TZID=America/Toronto:20300724T193000
DTEND;TZID=America/Toronto:20300724T220000
DTSTAMP:20260422T210158
CREATED:20260305T220650Z
LAST-MODIFIED:20260305T220650Z
UID:10000791-1911151800-1911160800@www.anguslegion499.ca
SUMMARY:Wednesday Dart League-Upper Hall
DESCRIPTION:Open \nBanquet at end of Season
URL:https://www.anguslegion499.ca/event/wednesday-dart-league-upper-hall/2030-07-24
CATEGORIES:Sports
END:VEVENT
BEGIN:VEVENT
DTSTART;TZID=America/Toronto:20300725T190000
DTEND;TZID=America/Toronto:20300725T220000
DTSTAMP:20260422T210158
CREATED:20260305T221008Z
LAST-MODIFIED:20260305T221008Z
UID:10001053-1911236400-1911247200@www.anguslegion499.ca
SUMMARY:Thursday Euchre-Upper Hall
DESCRIPTION:$5 \nBanquet
URL:https://www.anguslegion499.ca/event/thursday-euchre-upper-hall/2030-07-25
CATEGORIES:Sports
END:VEVENT
BEGIN:VEVENT
DTSTART;TZID=America/Toronto:20300731T140000
DTEND;TZID=America/Toronto:20300731T170000
DTSTAMP:20260422T210158
CREATED:20260305T220132Z
LAST-MODIFIED:20260305T220132Z
UID:10000531-1911736800-1911747600@www.anguslegion499.ca
SUMMARY:Bid Euchre-Upper Hall
DESCRIPTION:New Members Welcome
URL:https://www.anguslegion499.ca/event/bid-euchre-upper-hall/2030-07-31
CATEGORIES:Sports
END:VEVENT
BEGIN:VEVENT
DTSTART;TZID=America/Toronto:20300731T193000
DTEND;TZID=America/Toronto:20300731T220000
DTSTAMP:20260422T210158
CREATED:20260305T220650Z
LAST-MODIFIED:20260305T220650Z
UID:10000792-1911756600-1911765600@www.anguslegion499.ca
SUMMARY:Wednesday Dart League-Upper Hall
DESCRIPTION:Open \nBanquet at end of Season
URL:https://www.anguslegion499.ca/event/wednesday-dart-league-upper-hall/2030-07-31
CATEGORIES:Sports
END:VEVENT
END:VCALENDAR