BEGIN:VCALENDAR
VERSION:2.0
PRODID:-//Royal Canadian Legion Branch 499 (Angus) - ECPv6.15.17//NONSGML v1.0//EN
CALSCALE:GREGORIAN
METHOD:PUBLISH
X-WR-CALNAME:Royal Canadian Legion Branch 499 (Angus)
X-ORIGINAL-URL:https://www.anguslegion499.ca
X-WR-CALDESC:Events for Royal Canadian Legion Branch 499 (Angus)
REFRESH-INTERVAL;VALUE=DURATION:PT1H
X-Robots-Tag:noindex
X-PUBLISHED-TTL:PT1H
BEGIN:VTIMEZONE
TZID:America/Toronto
BEGIN:DAYLIGHT
TZOFFSETFROM:-0500
TZOFFSETTO:-0400
TZNAME:EDT
DTSTART:20290311T070000
END:DAYLIGHT
BEGIN:STANDARD
TZOFFSETFROM:-0400
TZOFFSETTO:-0500
TZNAME:EST
DTSTART:20291104T060000
END:STANDARD
BEGIN:DAYLIGHT
TZOFFSETFROM:-0500
TZOFFSETTO:-0400
TZNAME:EDT
DTSTART:20300310T070000
END:DAYLIGHT
BEGIN:STANDARD
TZOFFSETFROM:-0400
TZOFFSETTO:-0500
TZNAME:EST
DTSTART:20301103T060000
END:STANDARD
BEGIN:DAYLIGHT
TZOFFSETFROM:-0500
TZOFFSETTO:-0400
TZNAME:EDT
DTSTART:20310309T070000
END:DAYLIGHT
BEGIN:STANDARD
TZOFFSETFROM:-0400
TZOFFSETTO:-0500
TZNAME:EST
DTSTART:20311102T060000
END:STANDARD
END:VTIMEZONE
BEGIN:VEVENT
DTSTART;TZID=America/Toronto:20301002T140000
DTEND;TZID=America/Toronto:20301002T170000
DTSTAMP:20260423T012734
CREATED:20260305T220132Z
LAST-MODIFIED:20260305T220132Z
UID:10000540-1917180000-1917190800@www.anguslegion499.ca
SUMMARY:Bid Euchre-Upper Hall
DESCRIPTION:New Members Welcome
URL:https://www.anguslegion499.ca/event/bid-euchre-upper-hall/2030-10-02
CATEGORIES:Sports
END:VEVENT
BEGIN:VEVENT
DTSTART;TZID=America/Toronto:20301002T193000
DTEND;TZID=America/Toronto:20301002T220000
DTSTAMP:20260423T012734
CREATED:20260305T220650Z
LAST-MODIFIED:20260305T220650Z
UID:10000801-1917199800-1917208800@www.anguslegion499.ca
SUMMARY:Wednesday Dart League-Upper Hall
DESCRIPTION:Open \nBanquet at end of Season
URL:https://www.anguslegion499.ca/event/wednesday-dart-league-upper-hall/2030-10-02
CATEGORIES:Sports
END:VEVENT
BEGIN:VEVENT
DTSTART;TZID=America/Toronto:20301003T190000
DTEND;TZID=America/Toronto:20301003T220000
DTSTAMP:20260423T012734
CREATED:20260305T221008Z
LAST-MODIFIED:20260305T221008Z
UID:10001063-1917284400-1917295200@www.anguslegion499.ca
SUMMARY:Thursday Euchre-Upper Hall
DESCRIPTION:$5 \nBanquet
URL:https://www.anguslegion499.ca/event/thursday-euchre-upper-hall/2030-10-03
CATEGORIES:Sports
END:VEVENT
BEGIN:VEVENT
DTSTART;TZID=America/Toronto:20301009T140000
DTEND;TZID=America/Toronto:20301009T170000
DTSTAMP:20260423T012734
CREATED:20260305T220132Z
LAST-MODIFIED:20260305T220132Z
UID:10000541-1917784800-1917795600@www.anguslegion499.ca
SUMMARY:Bid Euchre-Upper Hall
DESCRIPTION:New Members Welcome
URL:https://www.anguslegion499.ca/event/bid-euchre-upper-hall/2030-10-09
CATEGORIES:Sports
END:VEVENT
BEGIN:VEVENT
DTSTART;TZID=America/Toronto:20301009T193000
DTEND;TZID=America/Toronto:20301009T220000
DTSTAMP:20260423T012735
CREATED:20260305T220650Z
LAST-MODIFIED:20260305T220650Z
UID:10000802-1917804600-1917813600@www.anguslegion499.ca
SUMMARY:Wednesday Dart League-Upper Hall
DESCRIPTION:Open \nBanquet at end of Season
URL:https://www.anguslegion499.ca/event/wednesday-dart-league-upper-hall/2030-10-09
CATEGORIES:Sports
END:VEVENT
BEGIN:VEVENT
DTSTART;TZID=America/Toronto:20301010T190000
DTEND;TZID=America/Toronto:20301010T220000
DTSTAMP:20260423T012735
CREATED:20260305T221008Z
LAST-MODIFIED:20260305T221008Z
UID:10001064-1917889200-1917900000@www.anguslegion499.ca
SUMMARY:Thursday Euchre-Upper Hall
DESCRIPTION:$5 \nBanquet
URL:https://www.anguslegion499.ca/event/thursday-euchre-upper-hall/2030-10-10
CATEGORIES:Sports
END:VEVENT
BEGIN:VEVENT
DTSTART;TZID=America/Toronto:20301013T130000
DTEND;TZID=America/Toronto:20301013T160000
DTSTAMP:20260423T012735
CREATED:20260305T131539Z
LAST-MODIFIED:20260324T180559Z
UID:10001271-1918126800-1918137600@www.anguslegion499.ca
SUMMARY:Recurring Rental-Lower Hall
DESCRIPTION:Private Meeting
URL:https://www.anguslegion499.ca/event/recurring-rental/2030-10-13
CATEGORIES:Booked Rooms
END:VEVENT
BEGIN:VEVENT
DTSTART;TZID=America/Toronto:20301016T140000
DTEND;TZID=America/Toronto:20301016T170000
DTSTAMP:20260423T012735
CREATED:20260305T220132Z
LAST-MODIFIED:20260305T220132Z
UID:10000542-1918389600-1918400400@www.anguslegion499.ca
SUMMARY:Bid Euchre-Upper Hall
DESCRIPTION:New Members Welcome
URL:https://www.anguslegion499.ca/event/bid-euchre-upper-hall/2030-10-16
CATEGORIES:Sports
END:VEVENT
BEGIN:VEVENT
DTSTART;TZID=America/Toronto:20301016T193000
DTEND;TZID=America/Toronto:20301016T220000
DTSTAMP:20260423T012735
CREATED:20260305T220650Z
LAST-MODIFIED:20260305T220650Z
UID:10000803-1918409400-1918418400@www.anguslegion499.ca
SUMMARY:Wednesday Dart League-Upper Hall
DESCRIPTION:Open \nBanquet at end of Season
URL:https://www.anguslegion499.ca/event/wednesday-dart-league-upper-hall/2030-10-16
CATEGORIES:Sports
END:VEVENT
BEGIN:VEVENT
DTSTART;TZID=America/Toronto:20301017T190000
DTEND;TZID=America/Toronto:20301017T220000
DTSTAMP:20260423T012735
CREATED:20260305T221008Z
LAST-MODIFIED:20260305T221008Z
UID:10001065-1918494000-1918504800@www.anguslegion499.ca
SUMMARY:Thursday Euchre-Upper Hall
DESCRIPTION:$5 \nBanquet
URL:https://www.anguslegion499.ca/event/thursday-euchre-upper-hall/2030-10-17
CATEGORIES:Sports
END:VEVENT
BEGIN:VEVENT
DTSTART;TZID=America/Toronto:20301020T120000
DTEND;TZID=America/Toronto:20301020T140000
DTSTAMP:20260423T012735
CREATED:20260324T182009Z
LAST-MODIFIED:20260324T182724Z
UID:10001295-1918728000-1918735200@www.anguslegion499.ca
SUMMARY:LEGION GENERAL MEETING
DESCRIPTION:Bring up to date Legion card \nSign in Required \nBar will be closed
URL:https://www.anguslegion499.ca/event/legion-general-meeting/2030-10-20
CATEGORIES:General Meeting
END:VEVENT
BEGIN:VEVENT
DTSTART;TZID=America/Toronto:20301023T140000
DTEND;TZID=America/Toronto:20301023T170000
DTSTAMP:20260423T012735
CREATED:20260305T220132Z
LAST-MODIFIED:20260305T220132Z
UID:10000543-1918994400-1919005200@www.anguslegion499.ca
SUMMARY:Bid Euchre-Upper Hall
DESCRIPTION:New Members Welcome
URL:https://www.anguslegion499.ca/event/bid-euchre-upper-hall/2030-10-23
CATEGORIES:Sports
END:VEVENT
BEGIN:VEVENT
DTSTART;TZID=America/Toronto:20301023T193000
DTEND;TZID=America/Toronto:20301023T220000
DTSTAMP:20260423T012735
CREATED:20260305T220650Z
LAST-MODIFIED:20260305T220650Z
UID:10000804-1919014200-1919023200@www.anguslegion499.ca
SUMMARY:Wednesday Dart League-Upper Hall
DESCRIPTION:Open \nBanquet at end of Season
URL:https://www.anguslegion499.ca/event/wednesday-dart-league-upper-hall/2030-10-23
CATEGORIES:Sports
END:VEVENT
BEGIN:VEVENT
DTSTART;TZID=America/Toronto:20301024T190000
DTEND;TZID=America/Toronto:20301024T220000
DTSTAMP:20260423T012735
CREATED:20260305T221008Z
LAST-MODIFIED:20260305T221008Z
UID:10001066-1919098800-1919109600@www.anguslegion499.ca
SUMMARY:Thursday Euchre-Upper Hall
DESCRIPTION:$5 \nBanquet
URL:https://www.anguslegion499.ca/event/thursday-euchre-upper-hall/2030-10-24
CATEGORIES:Sports
END:VEVENT
BEGIN:VEVENT
DTSTART;TZID=America/Toronto:20301030T140000
DTEND;TZID=America/Toronto:20301030T170000
DTSTAMP:20260423T012735
CREATED:20260305T220132Z
LAST-MODIFIED:20260305T220132Z
UID:10000544-1919599200-1919610000@www.anguslegion499.ca
SUMMARY:Bid Euchre-Upper Hall
DESCRIPTION:New Members Welcome
URL:https://www.anguslegion499.ca/event/bid-euchre-upper-hall/2030-10-30
CATEGORIES:Sports
END:VEVENT
BEGIN:VEVENT
DTSTART;TZID=America/Toronto:20301030T193000
DTEND;TZID=America/Toronto:20301030T220000
DTSTAMP:20260423T012735
CREATED:20260305T220650Z
LAST-MODIFIED:20260305T220650Z
UID:10000805-1919619000-1919628000@www.anguslegion499.ca
SUMMARY:Wednesday Dart League-Upper Hall
DESCRIPTION:Open \nBanquet at end of Season
URL:https://www.anguslegion499.ca/event/wednesday-dart-league-upper-hall/2030-10-30
CATEGORIES:Sports
END:VEVENT
BEGIN:VEVENT
DTSTART;TZID=America/Toronto:20301031T190000
DTEND;TZID=America/Toronto:20301031T220000
DTSTAMP:20260423T012735
CREATED:20260305T221008Z
LAST-MODIFIED:20260305T221008Z
UID:10001067-1919703600-1919714400@www.anguslegion499.ca
SUMMARY:Thursday Euchre-Upper Hall
DESCRIPTION:$5 \nBanquet
URL:https://www.anguslegion499.ca/event/thursday-euchre-upper-hall/2030-10-31
CATEGORIES:Sports
END:VEVENT
END:VCALENDAR