BEGIN:VCALENDAR
VERSION:2.0
PRODID:-//Royal Canadian Legion Branch 499 (Angus) - ECPv6.15.17//NONSGML v1.0//EN
CALSCALE:GREGORIAN
METHOD:PUBLISH
X-ORIGINAL-URL:https://www.anguslegion499.ca
X-WR-CALDESC:Events for Royal Canadian Legion Branch 499 (Angus)
REFRESH-INTERVAL;VALUE=DURATION:PT1H
X-Robots-Tag:noindex
X-PUBLISHED-TTL:PT1H
BEGIN:VTIMEZONE
TZID:America/Toronto
BEGIN:DAYLIGHT
TZOFFSETFROM:-0500
TZOFFSETTO:-0400
TZNAME:EDT
DTSTART:20300310T070000
END:DAYLIGHT
BEGIN:STANDARD
TZOFFSETFROM:-0400
TZOFFSETTO:-0500
TZNAME:EST
DTSTART:20301103T060000
END:STANDARD
BEGIN:DAYLIGHT
TZOFFSETFROM:-0500
TZOFFSETTO:-0400
TZNAME:EDT
DTSTART:20310309T070000
END:DAYLIGHT
BEGIN:STANDARD
TZOFFSETFROM:-0400
TZOFFSETTO:-0500
TZNAME:EST
DTSTART:20311102T060000
END:STANDARD
BEGIN:DAYLIGHT
TZOFFSETFROM:-0500
TZOFFSETTO:-0400
TZNAME:EDT
DTSTART:20320314T070000
END:DAYLIGHT
BEGIN:STANDARD
TZOFFSETFROM:-0400
TZOFFSETTO:-0500
TZNAME:EST
DTSTART:20321107T060000
END:STANDARD
END:VTIMEZONE
BEGIN:VEVENT
DTSTART;TZID=America/Toronto:20310101T140000
DTEND;TZID=America/Toronto:20310101T170000
DTSTAMP:20260423T052738
CREATED:20260305T220132Z
LAST-MODIFIED:20260305T220132Z
UID:10000553-1925042400-1925053200@www.anguslegion499.ca
SUMMARY:Bid Euchre-Upper Hall
DESCRIPTION:New Members Welcome
URL:https://www.anguslegion499.ca/event/bid-euchre-upper-hall/2031-01-01
CATEGORIES:Sports
END:VEVENT
BEGIN:VEVENT
DTSTART;TZID=America/Toronto:20310101T193000
DTEND;TZID=America/Toronto:20310101T220000
DTSTAMP:20260423T052738
CREATED:20260305T220650Z
LAST-MODIFIED:20260305T220650Z
UID:10000814-1925062200-1925071200@www.anguslegion499.ca
SUMMARY:Wednesday Dart League-Upper Hall
DESCRIPTION:Open \nBanquet at end of Season
URL:https://www.anguslegion499.ca/event/wednesday-dart-league-upper-hall/2031-01-01
CATEGORIES:Sports
END:VEVENT
BEGIN:VEVENT
DTSTART;TZID=America/Toronto:20310102T190000
DTEND;TZID=America/Toronto:20310102T220000
DTSTAMP:20260423T052738
CREATED:20260305T221008Z
LAST-MODIFIED:20260305T221008Z
UID:10001076-1925146800-1925157600@www.anguslegion499.ca
SUMMARY:Thursday Euchre-Upper Hall
DESCRIPTION:$5 \nBanquet
URL:https://www.anguslegion499.ca/event/thursday-euchre-upper-hall/2031-01-02
CATEGORIES:Sports
END:VEVENT
BEGIN:VEVENT
DTSTART;TZID=America/Toronto:20310108T140000
DTEND;TZID=America/Toronto:20310108T170000
DTSTAMP:20260423T052738
CREATED:20260305T220132Z
LAST-MODIFIED:20260305T220132Z
UID:10000554-1925647200-1925658000@www.anguslegion499.ca
SUMMARY:Bid Euchre-Upper Hall
DESCRIPTION:New Members Welcome
URL:https://www.anguslegion499.ca/event/bid-euchre-upper-hall/2031-01-08
CATEGORIES:Sports
END:VEVENT
BEGIN:VEVENT
DTSTART;TZID=America/Toronto:20310108T193000
DTEND;TZID=America/Toronto:20310108T220000
DTSTAMP:20260423T052738
CREATED:20260305T220650Z
LAST-MODIFIED:20260305T220650Z
UID:10000815-1925667000-1925676000@www.anguslegion499.ca
SUMMARY:Wednesday Dart League-Upper Hall
DESCRIPTION:Open \nBanquet at end of Season
URL:https://www.anguslegion499.ca/event/wednesday-dart-league-upper-hall/2031-01-08
CATEGORIES:Sports
END:VEVENT
BEGIN:VEVENT
DTSTART;TZID=America/Toronto:20310109T190000
DTEND;TZID=America/Toronto:20310109T220000
DTSTAMP:20260423T052738
CREATED:20260305T221008Z
LAST-MODIFIED:20260305T221008Z
UID:10001077-1925751600-1925762400@www.anguslegion499.ca
SUMMARY:Thursday Euchre-Upper Hall
DESCRIPTION:$5 \nBanquet
URL:https://www.anguslegion499.ca/event/thursday-euchre-upper-hall/2031-01-09
CATEGORIES:Sports
END:VEVENT
BEGIN:VEVENT
DTSTART;TZID=America/Toronto:20310112T130000
DTEND;TZID=America/Toronto:20310112T160000
DTSTAMP:20260423T052738
CREATED:20260305T131539Z
LAST-MODIFIED:20260324T180559Z
UID:10001274-1925989200-1926000000@www.anguslegion499.ca
SUMMARY:Recurring Rental-Lower Hall
DESCRIPTION:Private Meeting
URL:https://www.anguslegion499.ca/event/recurring-rental/2031-01-12
CATEGORIES:Booked Rooms
END:VEVENT
BEGIN:VEVENT
DTSTART;TZID=America/Toronto:20310115T140000
DTEND;TZID=America/Toronto:20310115T170000
DTSTAMP:20260423T052738
CREATED:20260305T220132Z
LAST-MODIFIED:20260305T220132Z
UID:10000555-1926252000-1926262800@www.anguslegion499.ca
SUMMARY:Bid Euchre-Upper Hall
DESCRIPTION:New Members Welcome
URL:https://www.anguslegion499.ca/event/bid-euchre-upper-hall/2031-01-15
CATEGORIES:Sports
END:VEVENT
BEGIN:VEVENT
DTSTART;TZID=America/Toronto:20310115T193000
DTEND;TZID=America/Toronto:20310115T220000
DTSTAMP:20260423T052738
CREATED:20260305T220650Z
LAST-MODIFIED:20260305T220650Z
UID:10000816-1926271800-1926280800@www.anguslegion499.ca
SUMMARY:Wednesday Dart League-Upper Hall
DESCRIPTION:Open \nBanquet at end of Season
URL:https://www.anguslegion499.ca/event/wednesday-dart-league-upper-hall/2031-01-15
CATEGORIES:Sports
END:VEVENT
BEGIN:VEVENT
DTSTART;TZID=America/Toronto:20310116T190000
DTEND;TZID=America/Toronto:20310116T220000
DTSTAMP:20260423T052738
CREATED:20260305T221008Z
LAST-MODIFIED:20260305T221008Z
UID:10001078-1926356400-1926367200@www.anguslegion499.ca
SUMMARY:Thursday Euchre-Upper Hall
DESCRIPTION:$5 \nBanquet
URL:https://www.anguslegion499.ca/event/thursday-euchre-upper-hall/2031-01-16
CATEGORIES:Sports
END:VEVENT
BEGIN:VEVENT
DTSTART;TZID=America/Toronto:20310119T120000
DTEND;TZID=America/Toronto:20310119T140000
DTSTAMP:20260423T052738
CREATED:20260324T182009Z
LAST-MODIFIED:20260324T182724Z
UID:10001296-1926590400-1926597600@www.anguslegion499.ca
SUMMARY:LEGION GENERAL MEETING
DESCRIPTION:Bring up to date Legion card \nSign in Required \nBar will be closed
URL:https://www.anguslegion499.ca/event/legion-general-meeting/2031-01-19
CATEGORIES:General Meeting
END:VEVENT
BEGIN:VEVENT
DTSTART;TZID=America/Toronto:20310122T140000
DTEND;TZID=America/Toronto:20310122T170000
DTSTAMP:20260423T052738
CREATED:20260305T220132Z
LAST-MODIFIED:20260305T220132Z
UID:10000556-1926856800-1926867600@www.anguslegion499.ca
SUMMARY:Bid Euchre-Upper Hall
DESCRIPTION:New Members Welcome
URL:https://www.anguslegion499.ca/event/bid-euchre-upper-hall/2031-01-22
CATEGORIES:Sports
END:VEVENT
BEGIN:VEVENT
DTSTART;TZID=America/Toronto:20310122T193000
DTEND;TZID=America/Toronto:20310122T220000
DTSTAMP:20260423T052738
CREATED:20260305T220650Z
LAST-MODIFIED:20260305T220650Z
UID:10000817-1926876600-1926885600@www.anguslegion499.ca
SUMMARY:Wednesday Dart League-Upper Hall
DESCRIPTION:Open \nBanquet at end of Season
URL:https://www.anguslegion499.ca/event/wednesday-dart-league-upper-hall/2031-01-22
CATEGORIES:Sports
END:VEVENT
BEGIN:VEVENT
DTSTART;TZID=America/Toronto:20310123T190000
DTEND;TZID=America/Toronto:20310123T220000
DTSTAMP:20260423T052738
CREATED:20260305T221008Z
LAST-MODIFIED:20260305T221008Z
UID:10001079-1926961200-1926972000@www.anguslegion499.ca
SUMMARY:Thursday Euchre-Upper Hall
DESCRIPTION:$5 \nBanquet
URL:https://www.anguslegion499.ca/event/thursday-euchre-upper-hall/2031-01-23
CATEGORIES:Sports
END:VEVENT
BEGIN:VEVENT
DTSTART;TZID=America/Toronto:20310129T140000
DTEND;TZID=America/Toronto:20310129T170000
DTSTAMP:20260423T052738
CREATED:20260305T220132Z
LAST-MODIFIED:20260305T220132Z
UID:10000557-1927461600-1927472400@www.anguslegion499.ca
SUMMARY:Bid Euchre-Upper Hall
DESCRIPTION:New Members Welcome
URL:https://www.anguslegion499.ca/event/bid-euchre-upper-hall/2031-01-29
CATEGORIES:Sports
END:VEVENT
BEGIN:VEVENT
DTSTART;TZID=America/Toronto:20310129T193000
DTEND;TZID=America/Toronto:20310129T220000
DTSTAMP:20260423T052738
CREATED:20260305T220650Z
LAST-MODIFIED:20260305T220650Z
UID:10000818-1927481400-1927490400@www.anguslegion499.ca
SUMMARY:Wednesday Dart League-Upper Hall
DESCRIPTION:Open \nBanquet at end of Season
URL:https://www.anguslegion499.ca/event/wednesday-dart-league-upper-hall/2031-01-29
CATEGORIES:Sports
END:VEVENT
BEGIN:VEVENT
DTSTART;TZID=America/Toronto:20310130T190000
DTEND;TZID=America/Toronto:20310130T220000
DTSTAMP:20260423T052738
CREATED:20260305T221008Z
LAST-MODIFIED:20260305T221008Z
UID:10001080-1927566000-1927576800@www.anguslegion499.ca
SUMMARY:Thursday Euchre-Upper Hall
DESCRIPTION:$5 \nBanquet
URL:https://www.anguslegion499.ca/event/thursday-euchre-upper-hall/2031-01-30
CATEGORIES:Sports
END:VEVENT
END:VCALENDAR